Workbook

Sheet 2027 Summer Hosta - V1
A1: 9725 Hemingway Ave. S. | AD1: 1
A2: Cottage Grove, MN 55016 | Y2: Phone: 651-646-0881 | AD2: 1
A3: Email: info@gardenworldinc.com | Y3: Fax: 651-646-9569 | AD3: 1
A4: Website: www.growingcolors.com | Y4: Toll Free: 1-800-839-2851 | AD4: 1
AD5: 1
A6: 2027 SUMMER HOSTA PROGRAM www.growingcolors.com | AD6: 1
A7: Bill To: | J7: Ship To: | AD7: 1
A8: Customer | I8: Customer | AD8: 1
A9: Street Address | I9: Address | AD9: 1
A10: City | I10: City | AD10: 1
A11: State | E11: Zip: | I11: State | T11: Zip: | AD11: 1
A12: Telephone | I12: Telephone | AD12: 1
A13: Fax Number | I13: Fax Number | AD13: 1
A14: Email Address | I14: Email Address | AD14: 1
A15: Contact Name | I15: Contact Name | AD15: 1
AD16: 1 | AU16: PRICING
A17: Order Date | B17: Subs | C17: FOB | D17: Tags | E17: Terms | G17: Cust PO | H17: Salesperson | K17: GWP | N17: Notes | AD17: 1 | AF17: Yes
B18: Yes | C18: MN | D18: No | E18: Net 30 | K18: 1 | AD18: 1 | AF18: No | AL18: Ship Date | AM18: =U20 -> 0 | AO18: =X20 -> 0
A19: #2 Div. and 105 Cell for Quart Production | D19: PROGRAM IS NOT ORDERABLE ONLINE | O19: **Ship May 24 - July 12 2027 (Weeks 21 - 28) | AD19: 1
A20: #1 Div. and 72 Cell for 1 Gallon Production | O20: *MINIMUM - 10 UNITS | S20: Ship Date | AD20: 1 | AF20: Ship Date | AG20: =U20 -> 0 | AI20: =X20 -> 0 | AK20: total | AM20: =SUM(AM24:AM117) -> 0 | AO20: =SUM(AO24:AO117) -> 0 | AQ20: total | AU20: PL1 | AV20: PL2 | AW20: PL4 | AX20: PL5 | AY20: PL6 | AZ20: PL7 | BA20: PL8 | BB20: 1 | BC20: 2 | BD20: 4 | BE20: 5 | BF20: 6 | BG20: 7 | BH20: 8
C21: Size | R21: Avail | S21: Avail | U21: Qty | X21: Qty | AD21: 1 | AG21: plants | AI21: plants | AK21: =SUM(AG22,AI22) -> 0 | AM21: dollars | AO21: dollars | AQ21: =SUM(AM20:AO20) -> 0 | BB21: 0.99 | BC21: 2 | BD21: 4 | BE21: 4.99 | BF21: 6 | BG21: 7 | BH21: 8
A22: Description | B22: NEW | E22: Pack | G22: Item# | I22: Description | R22: Plants | S22: Units | U22: Units | X22: Units | AD22: 1 | AG22: =SUM(AG25:AG117) -> 0 | AI22: =SUM(AI25:AI117) -> 0 | AM22: =SUM(AM24:AM117) -> 0 | AO22: =SUM(AO24:AO117) -> 0 | AQ22: =SUM(AM22,AO22) -> 0 | BB22: 1.99 | BC22: 2.05 | BD22: 4.05 | BE22: 5.05 | BF22: 6.05 | BG22: 7.05 | BH22: 8.05
AD23: 1
A24: Summer Hostas | AD24: =SUM(AD25:AD176) -> 0 | BK24: Avail. Plants | BL24: Avail. Units
A25: Abiqua Drinking Gourd | C25: #1 Div. | E25: 300 | G25: 7532851 | I25: med-large, puckered powder blue leaves, white flowers bloom mid summer | R25: =E25*S25 -> 134100 | S25: =BL25 -> 447 | AD25: =SUM(U25,V25,X25,Y25,AB25) -> 0 | AG25: =U25*E25 -> 0 | AI25: =X25*E25 -> 0 | AK25: =SUM(AG25,AI25) -> 0 | AM25: =(U25*E25)*D25 -> 0 | AO25: =(X25*E25)*D25 -> 0 | AQ25: =SUM(AM25:AO25) -> 0 | BA25: 0 | BB25: =IF($K$18<BB$21,0,IF($K$18>BB$22,0,$AU25)) -> 0 | BC25: =IF($K$18<BC$21,0,IF($K$18>BC$22,0,$AV25)) -> 0 | BD25: =IF($K$18<BD$21,0,IF($K$18>BD$22,0,$AW25)) -> 0 | BE25: =IF($K$18<BE$21,0,IF($K$18>BE$22,0,$AX25)) -> 0 | BF25: =IF($K$18<BF$21,0,IF($K$18>BF$22,0,$AY25)) -> 0 | BG25: =IF($K$18<BG$21,0,IF($K$18>BG$22,0,$AZ25)) -> 0 | BH25: =IF($K$18<BH$21,0,IF($K$18>BH$22,0,$BA25)) -> 0 | BI25: =SUM(BB25:BH25) -> 0 | BK25: 134100 | BL25: 447
A26: Abiqua Drinking Gourd | C26: #2 Div. | E26: 500 | G26: 7532854 | I26: med-large, puckered powder blue leaves, white flowers bloom mid summer | R26: =E26*S26 -> 76000 | S26: =BL26 -> 152 | AD26: =SUM(U26,V26,X26,Y26,AB26) -> 0 | AG26: =U26*E26 -> 0 | AI26: =X26*E26 -> 0 | AK26: =SUM(AG26,AI26) -> 0 | AM26: =(U26*E26)*D26 -> 0 | AO26: =(X26*E26)*D26 -> 0 | AQ26: =SUM(AM26:AO26) -> 0 | BA26: 0 | BB26: =IF($K$18<BB$21,0,IF($K$18>BB$22,0,$AU26)) -> 0 | BC26: =IF($K$18<BC$21,0,IF($K$18>BC$22,0,$AV26)) -> 0 | BD26: =IF($K$18<BD$21,0,IF($K$18>BD$22,0,$AW26)) -> 0 | BE26: =IF($K$18<BE$21,0,IF($K$18>BE$22,0,$AX26)) -> 0 | BF26: =IF($K$18<BF$21,0,IF($K$18>BF$22,0,$AY26)) -> 0 | BG26: =IF($K$18<BG$21,0,IF($K$18>BG$22,0,$AZ26)) -> 0 | BH26: =IF($K$18<BH$21,0,IF($K$18>BH$22,0,$BA26)) -> 0 | BI26: =SUM(BB26:BH26) -> 0 | BK26: 76000 | BL26: 152
A27: Abiqua Drinking Gourd | C27: 72 Cell | D27: =BI27 -> 0 | E27: 72 | G27: 7532857 | I27: med-large, puckered powder blue leaves, white flowers bloom mid summer | R27: =E27*S27 -> 1008 | S27: =BL27 -> 14 | AD27: =SUM(U27,V27,X27,Y27,AB27) -> 0 | AG27: =U27*E27 -> 0 | AI27: =X27*E27 -> 0 | AK27: =SUM(AG27,AI27) -> 0 | AM27: =(U27*E27)*D27 -> 0 | AO27: =(X27*E27)*D27 -> 0 | AQ27: =SUM(AM27:AO27) -> 0 | BA27: 0 | BB27: =IF($K$18<BB$21,0,IF($K$18>BB$22,0,$AU27)) -> 0 | BC27: =IF($K$18<BC$21,0,IF($K$18>BC$22,0,$AV27)) -> 0 | BD27: =IF($K$18<BD$21,0,IF($K$18>BD$22,0,$AW27)) -> 0 | BE27: =IF($K$18<BE$21,0,IF($K$18>BE$22,0,$AX27)) -> 0 | BF27: =IF($K$18<BF$21,0,IF($K$18>BF$22,0,$AY27)) -> 0 | BG27: =IF($K$18<BG$21,0,IF($K$18>BG$22,0,$AZ27)) -> 0 | BH27: =IF($K$18<BH$21,0,IF($K$18>BH$22,0,$BA27)) -> 0 | BI27: =SUM(BB27:BH27) -> 0 | BK27: 1008 | BL27: 14
A28: Ambrosia | C28: #1 Div. | D28: =BI28 -> 0 | E28: 300 | G28: 7532911 | I28: large, light yellow leaves with blue margin and a heavy glaucous coating | R28: =E28*S28 -> 2400 | S28: =BL28 -> 8 | AD28: =SUM(U28,V28,X28,Y28,AB28) -> 0 | AG28: =U28*E28 -> 0 | AI28: =X28*E28 -> 0 | AK28: =SUM(AG28,AI28) -> 0 | AM28: =(U28*E28)*D28 -> 0 | AO28: =(X28*E28)*D28 -> 0 | AQ28: =SUM(AM28:AO28) -> 0 | BA28: 0 | BB28: =IF($K$18<BB$21,0,IF($K$18>BB$22,0,$AU28)) -> 0 | BC28: =IF($K$18<BC$21,0,IF($K$18>BC$22,0,$AV28)) -> 0 | BD28: =IF($K$18<BD$21,0,IF($K$18>BD$22,0,$AW28)) -> 0 | BE28: =IF($K$18<BE$21,0,IF($K$18>BE$22,0,$AX28)) -> 0 | BF28: =IF($K$18<BF$21,0,IF($K$18>BF$22,0,$AY28)) -> 0 | BG28: =IF($K$18<BG$21,0,IF($K$18>BG$22,0,$AZ28)) -> 0 | BH28: =IF($K$18<BH$21,0,IF($K$18>BH$22,0,$BA28)) -> 0 | BI28: =SUM(BB28:BH28) -> 0 | BK28: 2400 | BL28: 8
A29: Ambrosia | C29: #2 Div. | D29: =BI29 -> 0 | E29: 500 | G29: 7532914 | I29: large, light yellow leaves with blue margin and a heavy glaucous coating | R29: =E29*S29 -> 1000 | S29: =BL29 -> 2 | AD29: =SUM(U29,V29,X29,Y29,AB29) -> 0 | AG29: =U29*E29 -> 0 | AI29: =X29*E29 -> 0 | AK29: =SUM(AG29,AI29) -> 0 | AM29: =(U29*E29)*D29 -> 0 | AO29: =(X29*E29)*D29 -> 0 | AQ29: =SUM(AM29:AO29) -> 0 | BA29: 0 | BB29: =IF($K$18<BB$21,0,IF($K$18>BB$22,0,$AU29)) -> 0 | BC29: =IF($K$18<BC$21,0,IF($K$18>BC$22,0,$AV29)) -> 0 | BD29: =IF($K$18<BD$21,0,IF($K$18>BD$22,0,$AW29)) -> 0 | BE29: =IF($K$18<BE$21,0,IF($K$18>BE$22,0,$AX29)) -> 0 | BF29: =IF($K$18<BF$21,0,IF($K$18>BF$22,0,$AY29)) -> 0 | BG29: =IF($K$18<BG$21,0,IF($K$18>BG$22,0,$AZ29)) -> 0 | BH29: =IF($K$18<BH$21,0,IF($K$18>BH$22,0,$BA29)) -> 0 | BI29: =SUM(BB29:BH29) -> 0 | BK29: 1000 | BL29: 2
A30: American Halo | C30: #1 Div. | D30: =BI30 -> 0 | E30: 300 | G30: 7532941 | I30: large, intensely blue-green leaves with wide, rippled, creamy-white margins | R30: =E30*S30 -> 20100 | S30: =BL30 -> 67 | AD30: =SUM(U30,V30,X30,Y30,AB30) -> 0 | AG30: =U30*E30 -> 0 | AI30: =X30*E30 -> 0 | AK30: =SUM(AG30,AI30) -> 0 | AM30: =(U30*E30)*D30 -> 0 | AO30: =(X30*E30)*D30 -> 0 | AQ30: =SUM(AM30:AO30) -> 0 | BA30: 0 | BB30: =IF($K$18<BB$21,0,IF($K$18>BB$22,0,$AU30)) -> 0 | BC30: =IF($K$18<BC$21,0,IF($K$18>BC$22,0,$AV30)) -> 0 | BD30: =IF($K$18<BD$21,0,IF($K$18>BD$22,0,$AW30)) -> 0 | BE30: =IF($K$18<BE$21,0,IF($K$18>BE$22,0,$AX30)) -> 0 | BF30: =IF($K$18<BF$21,0,IF($K$18>BF$22,0,$AY30)) -> 0 | BG30: =IF($K$18<BG$21,0,IF($K$18>BG$22,0,$AZ30)) -> 0 | BH30: =IF($K$18<BH$21,0,IF($K$18>BH$22,0,$BA30)) -> 0 | BI30: =SUM(BB30:BH30) -> 0 | BK30: 20100 | BL30: 67
A31: American Halo | C31: #2 Div. | D31: =BI31 -> 0 | E31: 500 | G31: 7532944 | I31: large, intensely blue-green leaves with wide, rippled, creamy-white margins | R31: =E31*S31 -> 3000 | S31: =BL31 -> 6 | AD31: =SUM(U31,V31,X31,Y31,AB31) -> 0 | AG31: =U31*E31 -> 0 | AI31: =X31*E31 -> 0 | AK31: =SUM(AG31,AI31) -> 0 | AM31: =(U31*E31)*D31 -> 0 | AO31: =(X31*E31)*D31 -> 0 | AQ31: =SUM(AM31:AO31) -> 0 | BA31: 0 | BB31: =IF($K$18<BB$21,0,IF($K$18>BB$22,0,$AU31)) -> 0 | BC31: =IF($K$18<BC$21,0,IF($K$18>BC$22,0,$AV31)) -> 0 | BD31: =IF($K$18<BD$21,0,IF($K$18>BD$22,0,$AW31)) -> 0 | BE31: =IF($K$18<BE$21,0,IF($K$18>BE$22,0,$AX31)) -> 0 | BF31: =IF($K$18<BF$21,0,IF($K$18>BF$22,0,$AY31)) -> 0 | BG31: =IF($K$18<BG$21,0,IF($K$18>BG$22,0,$AZ31)) -> 0 | BH31: =IF($K$18<BH$21,0,IF($K$18>BH$22,0,$BA31)) -> 0 | BI31: =SUM(BB31:BH31) -> 0 | BK31: 3000 | BL31: 6
A32: Ann Kulpa | C32: 72 Cell | D32: =BI32 -> 0 | E32: 72 | G32: 7532977 | I32: heart shaped, corrugated green leaves with narrow yellow/white center | R32: =E32*S32 -> 1296 | S32: =BL32 -> 18 | AD32: =SUM(U32,V32,X32,Y32,AB32) -> 0 | AG32: =U32*E32 -> 0 | AI32: =X32*E32 -> 0 | AK32: =SUM(AG32,AI32) -> 0 | AM32: =(U32*E32)*D32 -> 0 | AO32: =(X32*E32)*D32 -> 0 | AQ32: =SUM(AM32:AO32) -> 0 | BA32: 0 | BB32: =IF($K$18<BB$21,0,IF($K$18>BB$22,0,$AU32)) -> 0 | BC32: =IF($K$18<BC$21,0,IF($K$18>BC$22,0,$AV32)) -> 0 | BD32: =IF($K$18<BD$21,0,IF($K$18>BD$22,0,$AW32)) -> 0 | BE32: =IF($K$18<BE$21,0,IF($K$18>BE$22,0,$AX32)) -> 0 | BF32: =IF($K$18<BF$21,0,IF($K$18>BF$22,0,$AY32)) -> 0 | BG32: =IF($K$18<BG$21,0,IF($K$18>BG$22,0,$AZ32)) -> 0 | BH32: =IF($K$18<BH$21,0,IF($K$18>BH$22,0,$BA32)) -> 0 | BI32: =SUM(BB32:BH32) -> 0 | BK32: 1296 | BL32: 18
A33: Band of Gold | C33: #1 Div. | D33: =BI33 -> 0 | E33: 300 | G33: 7533131 | I33: dark green with a yellow margin | R33: S/O | S33: S/O | AD33: =SUM(U33,V33,X33,Y33,AB33) -> 0 | AG33: =U33*E33 -> 0 | AI33: =X33*E33 -> 0 | AK33: =SUM(AG33,AI33) -> 0 | AM33: =(U33*E33)*D33 -> 0 | AO33: =(X33*E33)*D33 -> 0 | AQ33: =SUM(AM33:AO33) -> 0 | BA33: 0 | BB33: =IF($K$18<BB$21,0,IF($K$18>BB$22,0,$AU33)) -> 0 | BC33: =IF($K$18<BC$21,0,IF($K$18>BC$22,0,$AV33)) -> 0 | BD33: =IF($K$18<BD$21,0,IF($K$18>BD$22,0,$AW33)) -> 0 | BE33: =IF($K$18<BE$21,0,IF($K$18>BE$22,0,$AX33)) -> 0 | BF33: =IF($K$18<BF$21,0,IF($K$18>BF$22,0,$AY33)) -> 0 | BG33: =IF($K$18<BG$21,0,IF($K$18>BG$22,0,$AZ33)) -> 0 | BH33: =IF($K$18<BH$21,0,IF($K$18>BH$22,0,$BA33)) -> 0 | BI33: =SUM(BB33:BH33) -> 0 | BK33: S/O | BL33: 0
A34: Band of Gold | C34: #2 Div. | D34: =BI34 -> 0 | E34: 500 | G34: 7533134 | I34: dark green with a yellow margin | R34: S/O | S34: S/O | AD34: =SUM(U34,V34,X34,Y34,AB34) -> 0 | AG34: =U34*E34 -> 0 | AI34: =X34*E34 -> 0 | AK34: =SUM(AG34,AI34) -> 0 | AM34: =(U34*E34)*D34 -> 0 | AO34: =(X34*E34)*D34 -> 0 | AQ34: =SUM(AM34:AO34) -> 0 | BA34: 0 | BB34: =IF($K$18<BB$21,0,IF($K$18>BB$22,0,$AU34)) -> 0 | BC34: =IF($K$18<BC$21,0,IF($K$18>BC$22,0,$AV34)) -> 0 | BD34: =IF($K$18<BD$21,0,IF($K$18>BD$22,0,$AW34)) -> 0 | BE34: =IF($K$18<BE$21,0,IF($K$18>BE$22,0,$AX34)) -> 0 | BF34: =IF($K$18<BF$21,0,IF($K$18>BF$22,0,$AY34)) -> 0 | BG34: =IF($K$18<BG$21,0,IF($K$18>BG$22,0,$AZ34)) -> 0 | BH34: =IF($K$18<BH$21,0,IF($K$18>BH$22,0,$BA34)) -> 0 | BI34: =SUM(BB34:BH34) -> 0 | BK34: S/O | BL34: 0
A35: Barbara Ann | C35: #1 Div. | D35: =BI35 -> 0 | E35: 300 | G35: 7533151 | I35: large, thick, corrugated, blue-green leaves with broad creamy white margins | R35: =E35*S35 -> 15900 | S35: =BL35 -> 53 | AD35: =SUM(U35,V35,X35,Y35,AB35) -> 0 | AG35: =U35*E35 -> 0 | AI35: =X35*E35 -> 0 | AK35: =SUM(AG35,AI35) -> 0 | AM35: =(U35*E35)*D35 -> 0 | AO35: =(X35*E35)*D35 -> 0 | AQ35: =SUM(AM35:AO35) -> 0 | BA35: 0 | BB35: =IF($K$18<BB$21,0,IF($K$18>BB$22,0,$AU35)) -> 0 | BC35: =IF($K$18<BC$21,0,IF($K$18>BC$22,0,$AV35)) -> 0 | BD35: =IF($K$18<BD$21,0,IF($K$18>BD$22,0,$AW35)) -> 0 | BE35: =IF($K$18<BE$21,0,IF($K$18>BE$22,0,$AX35)) -> 0 | BF35: =IF($K$18<BF$21,0,IF($K$18>BF$22,0,$AY35)) -> 0 | BG35: =IF($K$18<BG$21,0,IF($K$18>BG$22,0,$AZ35)) -> 0 | BH35: =IF($K$18<BH$21,0,IF($K$18>BH$22,0,$BA35)) -> 0 | BI35: =SUM(BB35:BH35) -> 0 | BK35: 15900 | BL35: 53
A36: Barbara Ann | C36: #2 Div. | D36: =BI36 -> 0 | E36: 500 | G36: 7533154 | I36: large, thick, corrugated, blue-green leaves with broad creamy white margins | R36: =E36*S36 -> 5000 | S36: =BL36 -> 10 | AD36: =SUM(U36,V36,X36,Y36,AB36) -> 0 | AG36: =U36*E36 -> 0 | AI36: =X36*E36 -> 0 | AK36: =SUM(AG36,AI36) -> 0 | AM36: =(U36*E36)*D36 -> 0 | AO36: =(X36*E36)*D36 -> 0 | AQ36: =SUM(AM36:AO36) -> 0 | BA36: 0 | BB36: =IF($K$18<BB$21,0,IF($K$18>BB$22,0,$AU36)) -> 0 | BC36: =IF($K$18<BC$21,0,IF($K$18>BC$22,0,$AV36)) -> 0 | BD36: =IF($K$18<BD$21,0,IF($K$18>BD$22,0,$AW36)) -> 0 | BE36: =IF($K$18<BE$21,0,IF($K$18>BE$22,0,$AX36)) -> 0 | BF36: =IF($K$18<BF$21,0,IF($K$18>BF$22,0,$AY36)) -> 0 | BG36: =IF($K$18<BG$21,0,IF($K$18>BG$22,0,$AZ36)) -> 0 | BH36: =IF($K$18<BH$21,0,IF($K$18>BH$22,0,$BA36)) -> 0 | BI36: =SUM(BB36:BH36) -> 0 | BK36: 5000 | BL36: 10
A37: Bedazzled | C37: #1 Div. | D37: =BI37 -> 0 | E37: 300 | G37: 7533161 | I37: blue-green leaves with a golden yellow margin | M37: blue-green leaves with a golden yellow margin | R37: =E37*S37 -> 15000 | S37: =BL37 -> 50 | AD37: =SUM(U37,V37,X37,Y37,AB37) -> 0 | AG37: =U37*E37 -> 0 | AI37: =X37*E37 -> 0 | AK37: =SUM(AG37,AI37) -> 0 | AM37: =(U37*E37)*D37 -> 0 | AO37: =(X37*E37)*D37 -> 0 | AQ37: =SUM(AM37:AO37) -> 0 | BA37: 0 | BB37: =IF($K$18<BB$21,0,IF($K$18>BB$22,0,$AU37)) -> 0 | BC37: =IF($K$18<BC$21,0,IF($K$18>BC$22,0,$AV37)) -> 0 | BD37: =IF($K$18<BD$21,0,IF($K$18>BD$22,0,$AW37)) -> 0 | BE37: =IF($K$18<BE$21,0,IF($K$18>BE$22,0,$AX37)) -> 0 | BF37: =IF($K$18<BF$21,0,IF($K$18>BF$22,0,$AY37)) -> 0 | BG37: =IF($K$18<BG$21,0,IF($K$18>BG$22,0,$AZ37)) -> 0 | BH37: =IF($K$18<BH$21,0,IF($K$18>BH$22,0,$BA37)) -> 0 | BI37: =SUM(BB37:BH37) -> 0 | BK37: 15000 | BL37: 50
A38: Bedazzled | C38: #2 Div. | D38: =BI38 -> 0 | E38: 500 | G38: 7533165 | I38: blue-green leaves with a golden yellow margin | M38: blue-green leaves with a golden yellow margin | R38: S/O | S38: S/O | AD38: =SUM(U38,V38,X38,Y38,AB38) -> 0 | AG38: =U38*E38 -> 0 | AI38: =X38*E38 -> 0 | AK38: =SUM(AG38,AI38) -> 0 | AM38: =(U38*E38)*D38 -> 0 | AO38: =(X38*E38)*D38 -> 0 | AQ38: =SUM(AM38:AO38) -> 0 | BA38: 0 | BB38: =IF($K$18<BB$21,0,IF($K$18>BB$22,0,$AU38)) -> 0 | BC38: =IF($K$18<BC$21,0,IF($K$18>BC$22,0,$AV38)) -> 0 | BD38: =IF($K$18<BD$21,0,IF($K$18>BD$22,0,$AW38)) -> 0 | BE38: =IF($K$18<BE$21,0,IF($K$18>BE$22,0,$AX38)) -> 0 | BF38: =IF($K$18<BF$21,0,IF($K$18>BF$22,0,$AY38)) -> 0 | BG38: =IF($K$18<BG$21,0,IF($K$18>BG$22,0,$AZ38)) -> 0 | BH38: =IF($K$18<BH$21,0,IF($K$18>BH$22,0,$BA38)) -> 0 | BI38: =SUM(BB38:BH38) -> 0 | BK38: S/O | BL38: 0
A39: Ben Vernooij | C39: #1 Div. | D39: =BI39 -> 0 | E39: 300 | G39: 7533181 | I39: medium, intense blue leaves with very wide creamy white edges | R39: =E39*S39 -> 25500 | S39: =BL39 -> 85 | AD39: =SUM(U39,V39,X39,Y39,AB39) -> 0 | AG39: =U39*E39 -> 0 | AI39: =X39*E39 -> 0 | AK39: =SUM(AG39,AI39) -> 0 | AM39: =(U39*E39)*D39 -> 0 | AO39: =(X39*E39)*D39 -> 0 | AQ39: =SUM(AM39:AO39) -> 0 | BA39: 0 | BB39: =IF($K$18<BB$21,0,IF($K$18>BB$22,0,$AU39)) -> 0 | BC39: =IF($K$18<BC$21,0,IF($K$18>BC$22,0,$AV39)) -> 0 | BD39: =IF($K$18<BD$21,0,IF($K$18>BD$22,0,$AW39)) -> 0 | BE39: =IF($K$18<BE$21,0,IF($K$18>BE$22,0,$AX39)) -> 0 | BF39: =IF($K$18<BF$21,0,IF($K$18>BF$22,0,$AY39)) -> 0 | BG39: =IF($K$18<BG$21,0,IF($K$18>BG$22,0,$AZ39)) -> 0 | BH39: =IF($K$18<BH$21,0,IF($K$18>BH$22,0,$BA39)) -> 0 | BI39: =SUM(BB39:BH39) -> 0 | BK39: 25500 | BL39: 85
A40: Ben Vernooij | C40: #2 Div. | D40: =BI40 -> 0 | E40: 500 | G40: 7533185 | I40: medium, intense blue leaves with very wide creamy white edges | R40: =E40*S40 -> 15000 | S40: =BL40 -> 30 | AD40: =SUM(U40,V40,X40,Y40,AB40) -> 0 | AG40: =U40*E40 -> 0 | AI40: =X40*E40 -> 0 | AK40: =SUM(AG40,AI40) -> 0 | AM40: =(U40*E40)*D40 -> 0 | AO40: =(X40*E40)*D40 -> 0 | AQ40: =SUM(AM40:AO40) -> 0 | BA40: 0 | BB40: =IF($K$18<BB$21,0,IF($K$18>BB$22,0,$AU40)) -> 0 | BC40: =IF($K$18<BC$21,0,IF($K$18>BC$22,0,$AV40)) -> 0 | BD40: =IF($K$18<BD$21,0,IF($K$18>BD$22,0,$AW40)) -> 0 | BE40: =IF($K$18<BE$21,0,IF($K$18>BE$22,0,$AX40)) -> 0 | BF40: =IF($K$18<BF$21,0,IF($K$18>BF$22,0,$AY40)) -> 0 | BG40: =IF($K$18<BG$21,0,IF($K$18>BG$22,0,$AZ40)) -> 0 | BH40: =IF($K$18<BH$21,0,IF($K$18>BH$22,0,$BA40)) -> 0 | BI40: =SUM(BB40:BH40) -> 0 | BK40: 15000 | BL40: 30
...

Sheet Export Order V1
A1: Customer ID | B1: Customer PO Number | C1: Description | D1: Product ID | E1: Internal ID | F1: Ship Date | G1: Requested Ship Date | H1: Order Qty | I1: Order Number | J1: Ship Date | K1: Requested Ship Date | L1: Order Qty | M1: Order Number
B2: ='2027 Summer Hosta - V1'!$F$18 -> 0 | C2: Abiqua Drinking Gourd | D2: 7532851 | E2: 4963 | F2: ='2027 Summer Hosta - V1'!$U$20 -> 0 | G2: ='2027 Summer Hosta - V1'!$U$20 -> 0 | H2: ='2027 Summer Hosta - V1'!$U$25 -> 0 | J2: ='2027 Summer Hosta - V1'!$X$20 -> 0 | K2: ='2027 Summer Hosta - V1'!$X$20 -> 0 | L2: ='2027 Summer Hosta - V1'!$X$25 -> 0
B3: ='2027 Summer Hosta - V1'!$F$18 -> 0 | C3: Abiqua Drinking Gourd | D3: 7532854 | E3: 13035 | F3: ='2027 Summer Hosta - V1'!$U$20 -> 0 | G3: ='2027 Summer Hosta - V1'!$U$20 -> 0 | H3: ='2027 Summer Hosta - V1'!$U$26 -> 0 | J3: ='2027 Summer Hosta - V1'!$X$20 -> 0 | K3: ='2027 Summer Hosta - V1'!$X$20 -> 0 | L3: ='2027 Summer Hosta - V1'!$X$26 -> 0
B4: ='2027 Summer Hosta - V1'!$F$18 -> 0 | C4: Abiqua Drinking Gourd | D4: 7532857 | E4: 19629 | F4: ='2027 Summer Hosta - V1'!$U$20 -> 0 | G4: ='2027 Summer Hosta - V1'!$U$20 -> 0 | H4: ='2027 Summer Hosta - V1'!$U$27 -> 0 | J4: ='2027 Summer Hosta - V1'!$X$20 -> 0 | K4: ='2027 Summer Hosta - V1'!$X$20 -> 0 | L4: ='2027 Summer Hosta - V1'!$X$27 -> 0
B5: ='2027 Summer Hosta - V1'!$F$18 -> 0 | C5: Ambrosia | D5: 7532911 | E5: 25594 | F5: ='2027 Summer Hosta - V1'!$U$20 -> 0 | G5: ='2027 Summer Hosta - V1'!$U$20 -> 0 | H5: ='2027 Summer Hosta - V1'!$U$28 -> 0 | J5: ='2027 Summer Hosta - V1'!$X$20 -> 0 | K5: ='2027 Summer Hosta - V1'!$X$20 -> 0 | L5: ='2027 Summer Hosta - V1'!$X$28 -> 0
B6: ='2027 Summer Hosta - V1'!$F$18 -> 0 | C6: Ambrosia | D6: 7532914 | E6: 29117 | F6: ='2027 Summer Hosta - V1'!$U$20 -> 0 | G6: ='2027 Summer Hosta - V1'!$U$20 -> 0 | H6: ='2027 Summer Hosta - V1'!$U$29 -> 0 | J6: ='2027 Summer Hosta - V1'!$X$20 -> 0 | K6: ='2027 Summer Hosta - V1'!$X$20 -> 0 | L6: ='2027 Summer Hosta - V1'!$X$29 -> 0
B7: ='2027 Summer Hosta - V1'!$F$18 -> 0 | C7: American Halo | D7: 7532941 | E7: 4964 | F7: ='2027 Summer Hosta - V1'!$U$20 -> 0 | G7: ='2027 Summer Hosta - V1'!$U$20 -> 0 | H7: ='2027 Summer Hosta - V1'!$U$30 -> 0 | J7: ='2027 Summer Hosta - V1'!$X$20 -> 0 | K7: ='2027 Summer Hosta - V1'!$X$20 -> 0 | L7: ='2027 Summer Hosta - V1'!$X$30 -> 0
B8: ='2027 Summer Hosta - V1'!$F$18 -> 0 | C8: American Halo | D8: 7532944 | E8: 6240 | F8: ='2027 Summer Hosta - V1'!$U$20 -> 0 | G8: ='2027 Summer Hosta - V1'!$U$20 -> 0 | H8: ='2027 Summer Hosta - V1'!$U$31 -> 0 | J8: ='2027 Summer Hosta - V1'!$X$20 -> 0 | K8: ='2027 Summer Hosta - V1'!$X$20 -> 0 | L8: ='2027 Summer Hosta - V1'!$X$31 -> 0
B9: ='2027 Summer Hosta - V1'!$F$18 -> 0 | C9: Ann Kulpa | D9: 7532977 | E9: 19631 | F9: ='2027 Summer Hosta - V1'!$U$20 -> 0 | G9: ='2027 Summer Hosta - V1'!$U$20 -> 0 | H9: ='2027 Summer Hosta - V1'!$U$32 -> 0 | J9: ='2027 Summer Hosta - V1'!$X$20 -> 0 | K9: ='2027 Summer Hosta - V1'!$X$20 -> 0 | L9: ='2027 Summer Hosta - V1'!$X$32 -> 0
B10: ='2027 Summer Hosta - V1'!$F$18 -> 0 | C10: Band of Gold | D10: 7533131 | E10: 4965 | F10: ='2027 Summer Hosta - V1'!$U$20 -> 0 | G10: ='2027 Summer Hosta - V1'!$U$20 -> 0 | H10: ='2027 Summer Hosta - V1'!$U$33 -> 0 | J10: ='2027 Summer Hosta - V1'!$X$20 -> 0 | K10: ='2027 Summer Hosta - V1'!$X$20 -> 0 | L10: ='2027 Summer Hosta - V1'!$X$33 -> 0
B11: ='2027 Summer Hosta - V1'!$F$18 -> 0 | C11: Band of Gold | D11: 7533134 | E11: 13048 | F11: ='2027 Summer Hosta - V1'!$U$20 -> 0 | G11: ='2027 Summer Hosta - V1'!$U$20 -> 0 | H11: ='2027 Summer Hosta - V1'!$U$34 -> 0 | J11: ='2027 Summer Hosta - V1'!$X$20 -> 0 | K11: ='2027 Summer Hosta - V1'!$X$20 -> 0 | L11: ='2027 Summer Hosta - V1'!$X$34 -> 0
B12: ='2027 Summer Hosta - V1'!$F$18 -> 0 | C12: Barbara Ann | D12: 7533151 | E12: 4966 | F12: ='2027 Summer Hosta - V1'!$U$20 -> 0 | G12: ='2027 Summer Hosta - V1'!$U$20 -> 0 | H12: ='2027 Summer Hosta - V1'!$U$35 -> 0 | J12: ='2027 Summer Hosta - V1'!$X$20 -> 0 | K12: ='2027 Summer Hosta - V1'!$X$20 -> 0 | L12: ='2027 Summer Hosta - V1'!$X$35 -> 0
B13: ='2027 Summer Hosta - V1'!$F$18 -> 0 | C13: Barbara Ann | D13: 7533154 | E13: 13036 | F13: ='2027 Summer Hosta - V1'!$U$20 -> 0 | G13: ='2027 Summer Hosta - V1'!$U$20 -> 0 | H13: ='2027 Summer Hosta - V1'!$U$36 -> 0 | J13: ='2027 Summer Hosta - V1'!$X$20 -> 0 | K13: ='2027 Summer Hosta - V1'!$X$20 -> 0 | L13: ='2027 Summer Hosta - V1'!$X$36 -> 0
B14: ='2027 Summer Hosta - V1'!$F$18 -> 0 | C14: Bedazzled | D14: 7533161 | E14: 4967 | F14: ='2027 Summer Hosta - V1'!$U$20 -> 0 | G14: ='2027 Summer Hosta - V1'!$U$20 -> 0 | H14: ='2027 Summer Hosta - V1'!$U$37 -> 0 | J14: ='2027 Summer Hosta - V1'!$X$20 -> 0 | K14: ='2027 Summer Hosta - V1'!$X$20 -> 0 | L14: ='2027 Summer Hosta - V1'!$X$37 -> 0
B15: ='2027 Summer Hosta - V1'!$F$18 -> 0 | C15: Bedazzled | D15: 7533165 | E15: 13003 | F15: ='2027 Summer Hosta - V1'!$U$20 -> 0 | G15: ='2027 Summer Hosta - V1'!$U$20 -> 0 | H15: ='2027 Summer Hosta - V1'!$U$38 -> 0 | J15: ='2027 Summer Hosta - V1'!$X$20 -> 0 | K15: ='2027 Summer Hosta - V1'!$X$20 -> 0 | L15: ='2027 Summer Hosta - V1'!$X$38 -> 0
B16: ='2027 Summer Hosta - V1'!$F$18 -> 0 | C16: Ben Vernooij | D16: 7533181 | E16: 4968 | F16: ='2027 Summer Hosta - V1'!$U$20 -> 0 | G16: ='2027 Summer Hosta - V1'!$U$20 -> 0 | H16: ='2027 Summer Hosta - V1'!$U$39 -> 0 | J16: ='2027 Summer Hosta - V1'!$X$20 -> 0 | K16: ='2027 Summer Hosta - V1'!$X$20 -> 0 | L16: ='2027 Summer Hosta - V1'!$X$39 -> 0
B17: ='2027 Summer Hosta - V1'!$F$18 -> 0 | C17: Ben Vernooij | D17: 7533185 | E17: 13049 | F17: ='2027 Summer Hosta - V1'!$U$20 -> 0 | G17: ='2027 Summer Hosta - V1'!$U$20 -> 0 | H17: ='2027 Summer Hosta - V1'!$U$40 -> 0 | J17: ='2027 Summer Hosta - V1'!$X$20 -> 0 | K17: ='2027 Summer Hosta - V1'!$X$20 -> 0 | L17: ='2027 Summer Hosta - V1'!$X$40 -> 0
B18: ='2027 Summer Hosta - V1'!$F$18 -> 0 | C18: Big Daddy | D18: 7533201 | E18: 28248 | F18: ='2027 Summer Hosta - V1'!$U$20 -> 0 | G18: ='2027 Summer Hosta - V1'!$U$20 -> 0 | H18: ='2027 Summer Hosta - V1'!$U$41 -> 0 | J18: ='2027 Summer Hosta - V1'!$X$20 -> 0 | K18: ='2027 Summer Hosta - V1'!$X$20 -> 0 | L18: ='2027 Summer Hosta - V1'!$X$41 -> 0
B19: ='2027 Summer Hosta - V1'!$F$18 -> 0 | C19: Big Daddy | D19: 7533205 | E19: 28251 | F19: ='2027 Summer Hosta - V1'!$U$20 -> 0 | G19: ='2027 Summer Hosta - V1'!$U$20 -> 0 | H19: ='2027 Summer Hosta - V1'!$U$42 -> 0 | J19: ='2027 Summer Hosta - V1'!$X$20 -> 0 | K19: ='2027 Summer Hosta - V1'!$X$20 -> 0 | L19: ='2027 Summer Hosta - V1'!$X$42 -> 0
B20: ='2027 Summer Hosta - V1'!$F$18 -> 0 | C20: Blue Angel | D20: 7533301 | E20: 13029 | F20: ='2027 Summer Hosta - V1'!$U$20 -> 0 | G20: ='2027 Summer Hosta - V1'!$U$20 -> 0 | H20: ='2027 Summer Hosta - V1'!$U$43 -> 0 | J20: ='2027 Summer Hosta - V1'!$X$20 -> 0 | K20: ='2027 Summer Hosta - V1'!$X$20 -> 0 | L20: ='2027 Summer Hosta - V1'!$X$43 -> 0
B21: ='2027 Summer Hosta - V1'!$F$18 -> 0 | C21: Blue Angel | D21: 7533305 | E21: 19612 | F21: ='2027 Summer Hosta - V1'!$U$20 -> 0 | G21: ='2027 Summer Hosta - V1'!$U$20 -> 0 | H21: ='2027 Summer Hosta - V1'!$U$44 -> 0 | J21: ='2027 Summer Hosta - V1'!$X$20 -> 0 | K21: ='2027 Summer Hosta - V1'!$X$20 -> 0 | L21: ='2027 Summer Hosta - V1'!$X$44 -> 0
B22: ='2027 Summer Hosta - V1'!$F$18 -> 0 | C22: Blue Angel | D22: 7533307 | E22: 19634 | F22: ='2027 Summer Hosta - V1'!$U$20 -> 0 | G22: ='2027 Summer Hosta - V1'!$U$20 -> 0 | H22: ='2027 Summer Hosta - V1'!$U$45 -> 0 | J22: ='2027 Summer Hosta - V1'!$X$20 -> 0 | K22: ='2027 Summer Hosta - V1'!$X$20 -> 0 | L22: ='2027 Summer Hosta - V1'!$X$45 -> 0
B23: ='2027 Summer Hosta - V1'!$F$18 -> 0 | C23: Blue Cadet | D23: 7533331 | E23: 19681 | F23: ='2027 Summer Hosta - V1'!$U$20 -> 0 | G23: ='2027 Summer Hosta - V1'!$U$20 -> 0 | H23: ='2027 Summer Hosta - V1'!$U$46 -> 0 | J23: ='2027 Summer Hosta - V1'!$X$20 -> 0 | K23: ='2027 Summer Hosta - V1'!$X$20 -> 0 | L23: ='2027 Summer Hosta - V1'!$X$46 -> 0
B24: ='2027 Summer Hosta - V1'!$F$18 -> 0 | C24: Blue Cadet | D24: 7533335 | E24: 18752 | F24: ='2027 Summer Hosta - V1'!$U$20 -> 0 | G24: ='2027 Summer Hosta - V1'!$U$20 -> 0 | H24: ='2027 Summer Hosta - V1'!$U$47 -> 0 | J24: ='2027 Summer Hosta - V1'!$X$20 -> 0 | K24: ='2027 Summer Hosta - V1'!$X$20 -> 0 | L24: ='2027 Summer Hosta - V1'!$X$47 -> 0
B25: ='2027 Summer Hosta - V1'!$F$18 -> 0 | C25: Blue Hawaii | D25: 7533381 | E25: 4970 | F25: ='2027 Summer Hosta - V1'!$U$20 -> 0 | G25: ='2027 Summer Hosta - V1'!$U$20 -> 0 | H25: ='2027 Summer Hosta - V1'!$U$48 -> 0 | J25: ='2027 Summer Hosta - V1'!$X$20 -> 0 | K25: ='2027 Summer Hosta - V1'!$X$20 -> 0 | L25: ='2027 Summer Hosta - V1'!$X$48 -> 0
B26: ='2027 Summer Hosta - V1'!$F$18 -> 0 | C26: Blue Hawaii | D26: 7533385 | E26: 6242 | F26: ='2027 Summer Hosta - V1'!$U$20 -> 0 | G26: ='2027 Summer Hosta - V1'!$U$20 -> 0 | H26: ='2027 Summer Hosta - V1'!$U$49 -> 0 | J26: ='2027 Summer Hosta - V1'!$X$20 -> 0 | K26: ='2027 Summer Hosta - V1'!$X$20 -> 0 | L26: ='2027 Summer Hosta - V1'!$X$49 -> 0
B27: ='2027 Summer Hosta - V1'!$F$18 -> 0 | C27: Blue Mouse Ears | D27: 7533451 | E27: 4971 | F27: ='2027 Summer Hosta - V1'!$U$20 -> 0 | G27: ='2027 Summer Hosta - V1'!$U$20 -> 0 | H27: ='2027 Summer Hosta - V1'!$U$50 -> 0 | J27: ='2027 Summer Hosta - V1'!$X$20 -> 0 | K27: ='2027 Summer Hosta - V1'!$X$20 -> 0 | L27: ='2027 Summer Hosta - V1'!$X$50 -> 0
B28: ='2027 Summer Hosta - V1'!$F$18 -> 0 | C28: Blue Mouse Ears | D28: 7533455 | E28: 13050 | F28: ='2027 Summer Hosta - V1'!$U$20 -> 0 | G28: ='2027 Summer Hosta - V1'!$U$20 -> 0 | H28: ='2027 Summer Hosta - V1'!$U$51 -> 0 | J28: ='2027 Summer Hosta - V1'!$X$20 -> 0 | K28: ='2027 Summer Hosta - V1'!$X$20 -> 0 | L28: ='2027 Summer Hosta - V1'!$X$51 -> 0
B29: ='2027 Summer Hosta - V1'!$F$18 -> 0 | C29: Blue Perfection | D29: 7533441 | E29: 25595 | F29: ='2027 Summer Hosta - V1'!$U$20 -> 0 | G29: ='2027 Summer Hosta - V1'!$U$20 -> 0 | H29: ='2027 Summer Hosta - V1'!$U$52 -> 0 | J29: ='2027 Summer Hosta - V1'!$X$20 -> 0 | K29: ='2027 Summer Hosta - V1'!$X$20 -> 0 | L29: ='2027 Summer Hosta - V1'!$X$52 -> 0
B30: ='2027 Summer Hosta - V1'!$F$18 -> 0 | C30: Blue Perfection | D30: 7533445 | E30: 25596 | F30: ='2027 Summer Hosta - V1'!$U$20 -> 0 | G30: ='2027 Summer Hosta - V1'!$U$20 -> 0 | H30: ='2027 Summer Hosta - V1'!$U$53 -> 0 | J30: ='2027 Summer Hosta - V1'!$X$20 -> 0 | K30: ='2027 Summer Hosta - V1'!$X$20 -> 0 | L30: ='2027 Summer Hosta - V1'!$X$53 -> 0
B31: ='2027 Summer Hosta - V1'!$F$18 -> 0 | C31: Bressingham Blue | D31: 7533601 | E31: 4972 | F31: ='2027 Summer Hosta - V1'!$U$20 -> 0 | G31: ='2027 Summer Hosta - V1'!$U$20 -> 0 | H31: ='2027 Summer Hosta - V1'!$U$54 -> 0 | J31: ='2027 Summer Hosta - V1'!$X$20 -> 0 | K31: ='2027 Summer Hosta - V1'!$X$20 -> 0 | L31: ='2027 Summer Hosta - V1'!$X$54 -> 0
B32: ='2027 Summer Hosta - V1'!$F$18 -> 0 | C32: Bressingham Blue | D32: 7533604 | E32: 13037 | F32: ='2027 Summer Hosta - V1'!$U$20 -> 0 | G32: ='2027 Summer Hosta - V1'!$U$20 -> 0 | H32: ='2027 Summer Hosta - V1'!$U$55 -> 0 | J32: ='2027 Summer Hosta - V1'!$X$20 -> 0 | K32: ='2027 Summer Hosta - V1'!$X$20 -> 0 | L32: ='2027 Summer Hosta - V1'!$X$55 -> 0
B33: ='2027 Summer Hosta - V1'!$F$18 -> 0 | C33: Brother Stefan | D33: 7533751 | E33: 19683 | F33: ='2027 Summer Hosta - V1'!$U$20 -> 0 | G33: ='2027 Summer Hosta - V1'!$U$20 -> 0 | H33: ='2027 Summer Hosta - V1'!$U$56 -> 0 | J33: ='2027 Summer Hosta - V1'!$X$20 -> 0 | K33: ='2027 Summer Hosta - V1'!$X$20 -> 0 | L33: ='2027 Summer Hosta - V1'!$X$56 -> 0
B34: ='2027 Summer Hosta - V1'!$F$18 -> 0 | C34: Captain Kirk | D34: 7533777 | E34: 28195 | F34: ='2027 Summer Hosta - V1'!$U$20 -> 0 | G34: ='2027 Summer Hosta - V1'!$U$20 -> 0 | H34: ='2027 Summer Hosta - V1'!$U$57 -> 0 | J34: ='2027 Summer Hosta - V1'!$X$20 -> 0 | K34: ='2027 Summer Hosta - V1'!$X$20 -> 0 | L34: ='2027 Summer Hosta - V1'!$X$57 -> 0
B35: ='2027 Summer Hosta - V1'!$F$18 -> 0 | C35: Catherine - NEW | D35: 7533761 | E35: 29405 | F35: ='2027 Summer Hosta - V1'!$U$20 -> 0 | G35: ='2027 Summer Hosta - V1'!$U$20 -> 0 | H35: ='2027 Summer Hosta - V1'!$U$58 -> 0 | J35: ='2027 Summer Hosta - V1'!$X$20 -> 0 | K35: ='2027 Summer Hosta - V1'!$X$20 -> 0 | L35: ='2027 Summer Hosta - V1'!$X$58 -> 0
B36: ='2027 Summer Hosta - V1'!$F$18 -> 0 | C36: Catherine - NEW | D36: 7533764 | F36: ='2027 Summer Hosta - V1'!$U$20 -> 0 | G36: ='2027 Summer Hosta - V1'!$U$20 -> 0 | H36: ='2027 Summer Hosta - V1'!$U$59 -> 0 | J36: ='2027 Summer Hosta - V1'!$X$20 -> 0 | K36: ='2027 Summer Hosta - V1'!$X$20 -> 0 | L36: ='2027 Summer Hosta - V1'!$X$59 -> 0
B37: ='2027 Summer Hosta - V1'!$F$18 -> 0 | C37: Cherry Berry | D37: 7533801 | E37: 19685 | F37: ='2027 Summer Hosta - V1'!$U$20 -> 0 | G37: ='2027 Summer Hosta - V1'!$U$20 -> 0 | H37: ='2027 Summer Hosta - V1'!$U$60 -> 0 | J37: ='2027 Summer Hosta - V1'!$X$20 -> 0 | K37: ='2027 Summer Hosta - V1'!$X$20 -> 0 | L37: ='2027 Summer Hosta - V1'!$X$60 -> 0
B38: ='2027 Summer Hosta - V1'!$F$18 -> 0 | C38: Christmas Pageant | D38: 7533881 | E38: 4973 | F38: ='2027 Summer Hosta - V1'!$U$20 -> 0 | G38: ='2027 Summer Hosta - V1'!$U$20 -> 0 | H38: ='2027 Summer Hosta - V1'!$U$61 -> 0 | J38: ='2027 Summer Hosta - V1'!$X$20 -> 0 | K38: ='2027 Summer Hosta - V1'!$X$20 -> 0 | L38: ='2027 Summer Hosta - V1'!$X$61 -> 0
B39: ='2027 Summer Hosta - V1'!$F$18 -> 0 | C39: Christmas Pageant | D39: 7533884 | E39: 16639 | F39: ='2027 Summer Hosta - V1'!$U$20 -> 0 | G39: ='2027 Summer Hosta - V1'!$U$20 -> 0 | H39: ='2027 Summer Hosta - V1'!$U$62 -> 0 | J39: ='2027 Summer Hosta - V1'!$X$20 -> 0 | K39: ='2027 Summer Hosta - V1'!$X$20 -> 0 | L39: ='2027 Summer Hosta - V1'!$X$62 -> 0
B40: ='2027 Summer Hosta - V1'!$F$18 -> 0 | C40: Climax | D40: 7533891 | E40: 4974 | F40: ='2027 Summer Hosta - V1'!$U$20 -> 0 | G40: ='2027 Summer Hosta - V1'!$U$20 -> 0 | H40: ='2027 Summer Hosta - V1'!$U$63 -> 0 | J40: ='2027 Summer Hosta - V1'!$X$20 -> 0 | K40: ='2027 Summer Hosta - V1'!$X$20 -> 0 | L40: ='2027 Summer Hosta - V1'!$X$63 -> 0
...
