Workbook

Sheet 2027 Summer Hosta - V1
A1: 9725 Hemingway Ave. S. | AD1: 1
A2: Cottage Grove, MN 55016 | Y2: Phone: 651-646-0881 | AD2: 1
A3: Email: info@gardenworldinc.com | Y3: Fax: 651-646-9569 | AD3: 1
A4: Website: www.growingcolors.com | Y4: Toll Free: 1-800-839-2851 | AD4: 1
AD5: 1
A6: 2027 SUMMER HOSTA PROGRAM www.growingcolors.com | AD6: 1
A7: Bill To: | J7: Ship To: | AD7: 1
A8: Customer | I8: Customer | AD8: 1
A9: Street Address | I9: Address | AD9: 1
A10: City | I10: City | AD10: 1
A11: State | E11: Zip: | I11: State | T11: Zip: | AD11: 1
A12: Telephone | I12: Telephone | AD12: 1
A13: Fax Number | I13: Fax Number | AD13: 1
A14: Email Address | I14: Email Address | AD14: 1
A15: Contact Name | I15: Contact Name | AD15: 1
AD16: 1 | AU16: PRICING
A17: Order Date | B17: Subs | C17: FOB | D17: Tags | E17: Terms | G17: Cust PO | H17: Salesperson | K17: GWP | N17: Notes | AD17: 1 | AF17: Yes
B18: Yes | C18: MN | D18: No | E18: Net 30 | K18: 1 | AD18: 1 | AF18: No | AL18: Ship Date | AM18: =U20 -> 0 | AO18: =X20 -> 0
A19: #2 Div. and 105 Cell for Quart Production | D19: PROGRAM IS NOT ORDERABLE ONLINE | O19: **Ship May 24 - July 12 2027 (Weeks 21 - 28) | AD19: 1
A20: #1 Div. and 72 Cell for 1 Gallon Production | O20: *MINIMUM - 10 UNITS | S20: Ship Date | AD20: 1 | AF20: Ship Date | AG20: =U20 -> 0 | AI20: =X20 -> 0 | AK20: total | AM20: =SUM(AM24:AM117) -> 0 | AO20: =SUM(AO24:AO117) -> 0 | AQ20: total | AU20: PL1 | AV20: PL2 | AW20: PL4 | AX20: PL5 | AY20: PL6 | AZ20: PL7 | BA20: PL8 | BB20: 1 | BC20: 2 | BD20: 4 | BE20: 5 | BF20: 6 | BG20: 7 | BH20: 8
C21: Size | R21: Avail | S21: Avail | U21: Qty | X21: Qty | AD21: 1 | AG21: plants | AI21: plants | AK21: =SUM(AG22,AI22) -> 0 | AM21: dollars | AO21: dollars | AQ21: =SUM(AM20:AO20) -> 0 | BB21: 0.99 | BC21: 2 | BD21: 4 | BE21: 4.99 | BF21: 6 | BG21: 7 | BH21: 8
A22: Description | B22: NEW | E22: Pack | G22: Item# | I22: Description | R22: Plants | S22: Units | U22: Units | X22: Units | AD22: 1 | AG22: =SUM(AG25:AG117) -> 0 | AI22: =SUM(AI25:AI117) -> 0 | AM22: =SUM(AM24:AM117) -> 0 | AO22: =SUM(AO24:AO117) -> 0 | AQ22: =SUM(AM22,AO22) -> 0 | BB22: 1.99 | BC22: 2.05 | BD22: 4.05 | BE22: 5.05 | BF22: 6.05 | BG22: 7.05 | BH22: 8.05
AD23: 1
A24: Summer Hostas | AD24: =SUM(AD25:AD176) -> 0 | BK24: Avail. Plants | BL24: Avail. Units
A25: Abiqua Drinking Gourd | C25: #1 Div. | E25: 300 | G25: 7532851 | I25: med-large, puckered powder blue leaves, white flowers bloom mid summer | R25: =E25*S25 -> 134100 | S25: =BL25 -> 447 | AD25: =SUM(U25,V25,X25,Y25,AB25) -> 0 | AG25: =U25*E25 -> 0 | AI25: =X25*E25 -> 0 | AK25: =SUM(AG25,AI25) -> 0 | AM25: =(U25*E25)*D25 -> 0 | AO25: =(X25*E25)*D25 -> 0 | AQ25: =SUM(AM25:AO25) -> 0 | BA25: 0 | BB25: =IF($K$18<BB$21,0,IF($K$18>BB$22,0,$AU25)) -> 0 | BC25: =IF($K$18<BC$21,0,IF($K$18>BC$22,0,$AV25)) -> 0 | BD25: =IF($K$18<BD$21,0,IF($K$18>BD$22,0,$AW25)) -> 0 | BE25: =IF($K$18<BE$21,0,IF($K$18>BE$22,0,$AX25)) -> 0 | BF25: =IF($K$18<BF$21,0,IF($K$18>BF$22,0,$AY25)) -> 0 | BG25: =IF($K$18<BG$21,0,IF($K$18>BG$22,0,$AZ25)) -> 0 | BH25: =IF($K$18<BH$21,0,IF($K$18>BH$22,0,$BA25)) -> 0 | BI25: =SUM(BB25:BH25) -> 0 | BK25: 134100 | BL25: 447
A26: Abiqua Drinking Gourd | C26: #2 Div. | E26: 500 | G26: 7532854 | I26: med-large, puckered powder blue leaves, white flowers bloom mid summer | R26: =E26*S26 -> 76000 | S26: =BL26 -> 152 | AD26: =SUM(U26,V26,X26,Y26,AB26) -> 0 | AG26: =U26*E26 -> 0 | AI26: =X26*E26 -> 0 | AK26: =SUM(AG26,AI26) -> 0 | AM26: =(U26*E26)*D26 -> 0 | AO26: =(X26*E26)*D26 -> 0 | AQ26: =SUM(AM26:AO26) -> 0 | BA26: 0 | BB26: =IF($K$18<BB$21,0,IF($K$18>BB$22,0,$AU26)) -> 0 | BC26: =IF($K$18<BC$21,0,IF($K$18>BC$22,0,$AV26)) -> 0 | BD26: =IF($K$18<BD$21,0,IF($K$18>BD$22,0,$AW26)) -> 0 | BE26: =IF($K$18<BE$21,0,IF($K$18>BE$22,0,$AX26)) -> 0 | BF26: =IF($K$18<BF$21,0,IF($K$18>BF$22,0,$AY26)) -> 0 | BG26: =IF($K$18<BG$21,0,IF($K$18>BG$22,0,$AZ26)) -> 0 | BH26: =IF($K$18<BH$21,0,IF($K$18>BH$22,0,$BA26)) -> 0 | BI26: =SUM(BB26:BH26) -> 0 | BK26: 76000 | BL26: 152
A27: Abiqua Drinking Gourd | C27: 72 Cell | D27: =BI27 -> 0 | E27: 72 | G27: 7532857 | I27: med-large, puckered powder blue leaves, white flowers bloom mid summer | R27: =E27*S27 -> 1008 | S27: =BL27 -> 14 | AD27: =SUM(U27,V27,X27,Y27,AB27) -> 0 | AG27: =U27*E27 -> 0 | AI27: =X27*E27 -> 0 | AK27: =SUM(AG27,AI27) -> 0 | AM27: =(U27*E27)*D27 -> 0 | AO27: =(X27*E27)*D27 -> 0 | AQ27: =SUM(AM27:AO27) -> 0 | BA27: 0 | BB27: =IF($K$18<BB$21,0,IF($K$18>BB$22,0,$AU27)) -> 0 | BC27: =IF($K$18<BC$21,0,IF($K$18>BC$22,0,$AV27)) -> 0 | BD27: =IF($K$18<BD$21,0,IF($K$18>BD$22,0,$AW27)) -> 0 | BE27: =IF($K$18<BE$21,0,IF($K$18>BE$22,0,$AX27)) -> 0 | BF27: =IF($K$18<BF$21,0,IF($K$18>BF$22,0,$AY27)) -> 0 | BG27: =IF($K$18<BG$21,0,IF($K$18>BG$22,0,$AZ27)) -> 0 | BH27: =IF($K$18<BH$21,0,IF($K$18>BH$22,0,$BA27)) -> 0 | BI27: =SUM(BB27:BH27) -> 0 | BK27: 1008 | BL27: 14
A28: Ambrosia | C28: #1 Div. | D28: =BI28 -> 0 | E28: 300 | G28: 7532911 | I28: large, light yellow leaves with blue margin and a heavy glaucous coating | R28: =E28*S28 -> 2400 | S28: =BL28 -> 8 | AD28: =SUM(U28,V28,X28,Y28,AB28) -> 0 | AG28: =U28*E28 -> 0 | AI28: =X28*E28 -> 0 | AK28: =SUM(AG28,AI28) -> 0 | AM28: =(U28*E28)*D28 -> 0 | AO28: =(X28*E28)*D28 -> 0 | AQ28: =SUM(AM28:AO28) -> 0 | BA28: 0 | BB28: =IF($K$18<BB$21,0,IF($K$18>BB$22,0,$AU28)) -> 0 | BC28: =IF($K$18<BC$21,0,IF($K$18>BC$22,0,$AV28)) -> 0 | BD28: =IF($K$18<BD$21,0,IF($K$18>BD$22,0,$AW28)) -> 0 | BE28: =IF($K$18<BE$21,0,IF($K$18>BE$22,0,$AX28)) -> 0 | BF28: =IF($K$18<BF$21,0,IF($K$18>BF$22,0,$AY28)) -> 0 | BG28: =IF($K$18<BG$21,0,IF($K$18>BG$22,0,$AZ28)) -> 0 | BH28: =IF($K$18<BH$21,0,IF($K$18>BH$22,0,$BA28)) -> 0 | BI28: =SUM(BB28:BH28) -> 0 | BK28: 2400 | BL28: 8
A29: Ambrosia | C29: #2 Div. | D29: =BI29 -> 0 | E29: 500 | G29: 7532914 | I29: large, light yellow leaves with blue margin and a heavy glaucous coating | R29: =E29*S29 -> 1000 | S29: =BL29 -> 2 | AD29: =SUM(U29,V29,X29,Y29,AB29) -> 0 | AG29: =U29*E29 -> 0 | AI29: =X29*E29 -> 0 | AK29: =SUM(AG29,AI29) -> 0 | AM29: =(U29*E29)*D29 -> 0 | AO29: =(X29*E29)*D29 -> 0 | AQ29: =SUM(AM29:AO29) -> 0 | BA29: 0 | BB29: =IF($K$18<BB$21,0,IF($K$18>BB$22,0,$AU29)) -> 0 | BC29: =IF($K$18<BC$21,0,IF($K$18>BC$22,0,$AV29)) -> 0 | BD29: =IF($K$18<BD$21,0,IF($K$18>BD$22,0,$AW29)) -> 0 | BE29: =IF($K$18<BE$21,0,IF($K$18>BE$22,0,$AX29)) -> 0 | BF29: =IF($K$18<BF$21,0,IF($K$18>BF$22,0,$AY29)) -> 0 | BG29: =IF($K$18<BG$21,0,IF($K$18>BG$22,0,$AZ29)) -> 0 | BH29: =IF($K$18<BH$21,0,IF($K$18>BH$22,0,$BA29)) -> 0 | BI29: =SUM(BB29:BH29) -> 0 | BK29: 1000 | BL29: 2
A30: American Halo | C30: #1 Div. | D30: =BI30 -> 0 | E30: 300 | G30: 7532941 | I30: large, intensely blue-green leaves with wide, rippled, creamy-white margins | R30: =E30*S30 -> 20100 | S30: =BL30 -> 67 | AD30: =SUM(U30,V30,X30,Y30,AB30) -> 0 | AG30: =U30*E30 -> 0 | AI30: =X30*E30 -> 0 | AK30: =SUM(AG30,AI30) -> 0 | AM30: =(U30*E30)*D30 -> 0 | AO30: =(X30*E30)*D30 -> 0 | AQ30: =SUM(AM30:AO30) -> 0 | BA30: 0 | BB30: =IF($K$18<BB$21,0,IF($K$18>BB$22,0,$AU30)) -> 0 | BC30: =IF($K$18<BC$21,0,IF($K$18>BC$22,0,$AV30)) -> 0 | BD30: =IF($K$18<BD$21,0,IF($K$18>BD$22,0,$AW30)) -> 0 | BE30: =IF($K$18<BE$21,0,IF($K$18>BE$22,0,$AX30)) -> 0 | BF30: =IF($K$18<BF$21,0,IF($K$18>BF$22,0,$AY30)) -> 0 | BG30: =IF($K$18<BG$21,0,IF($K$18>BG$22,0,$AZ30)) -> 0 | BH30: =IF($K$18<BH$21,0,IF($K$18>BH$22,0,$BA30)) -> 0 | BI30: =SUM(BB30:BH30) -> 0 | BK30: 20100 | BL30: 67
A31: American Halo | C31: #2 Div. | D31: =BI31 -> 0 | E31: 500 | G31: 7532944 | I31: large, intensely blue-green leaves with wide, rippled, creamy-white margins | R31: =E31*S31 -> 3000 | S31: =BL31 -> 6 | AD31: =SUM(U31,V31,X31,Y31,AB31) -> 0 | AG31: =U31*E31 -> 0 | AI31: =X31*E31 -> 0 | AK31: =SUM(AG31,AI31) -> 0 | AM31: =(U31*E31)*D31 -> 0 | AO31: =(X31*E31)*D31 -> 0 | AQ31: =SUM(AM31:AO31) -> 0 | BA31: 0 | BB31: =IF($K$18<BB$21,0,IF($K$18>BB$22,0,$AU31)) -> 0 | BC31: =IF($K$18<BC$21,0,IF($K$18>BC$22,0,$AV31)) -> 0 | BD31: =IF($K$18<BD$21,0,IF($K$18>BD$22,0,$AW31)) -> 0 | BE31: =IF($K$18<BE$21,0,IF($K$18>BE$22,0,$AX31)) -> 0 | BF31: =IF($K$18<BF$21,0,IF($K$18>BF$22,0,$AY31)) -> 0 | BG31: =IF($K$18<BG$21,0,IF($K$18>BG$22,0,$AZ31)) -> 0 | BH31: =IF($K$18<BH$21,0,IF($K$18>BH$22,0,$BA31)) -> 0 | BI31: =SUM(BB31:BH31) -> 0 | BK31: 3000 | BL31: 6
A32: Ann Kulpa | C32: 72 Cell | D32: =BI32 -> 0 | E32: 72 | G32: 7532977 | I32: heart shaped, corrugated green leaves with narrow yellow/white center | R32: =E32*S32 -> 1296 | S32: =BL32 -> 18 | AD32: =SUM(U32,V32,X32,Y32,AB32) -> 0 | AG32: =U32*E32 -> 0 | AI32: =X32*E32 -> 0 | AK32: =SUM(AG32,AI32) -> 0 | AM32: =(U32*E32)*D32 -> 0 | AO32: =(X32*E32)*D32 -> 0 | AQ32: =SUM(AM32:AO32) -> 0 | BA32: 0 | BB32: =IF($K$18<BB$21,0,IF($K$18>BB$22,0,$AU32)) -> 0 | BC32: =IF($K$18<BC$21,0,IF($K$18>BC$22,0,$AV32)) -> 0 | BD32: =IF($K$18<BD$21,0,IF($K$18>BD$22,0,$AW32)) -> 0 | BE32: =IF($K$18<BE$21,0,IF($K$18>BE$22,0,$AX32)) -> 0 | BF32: =IF($K$18<BF$21,0,IF($K$18>BF$22,0,$AY32)) -> 0 | BG32: =IF($K$18<BG$21,0,IF($K$18>BG$22,0,$AZ32)) -> 0 | BH32: =IF($K$18<BH$21,0,IF($K$18>BH$22,0,$BA32)) -> 0 | BI32: =SUM(BB32:BH32) -> 0 | BK32: 1296 | BL32: 18
A33: Band of Gold | C33: #1 Div. | D33: =BI33 -> 0 | E33: 300 | G33: 7533131 | I33: dark green with a yellow margin | R33: S/O | S33: S/O | AD33: =SUM(U33,V33,X33,Y33,AB33) -> 0 | AG33: =U33*E33 -> 0 | AI33: =X33*E33 -> 0 | AK33: =SUM(AG33,AI33) -> 0 | AM33: =(U33*E33)*D33 -> 0 | AO33: =(X33*E33)*D33 -> 0 | AQ33: =SUM(AM33:AO33) -> 0 | BA33: 0 | BB33: =IF($K$18<BB$21,0,IF($K$18>BB$22,0,$AU33)) -> 0 | BC33: =IF($K$18<BC$21,0,IF($K$18>BC$22,0,$AV33)) -> 0 | BD33: =IF($K$18<BD$21,0,IF($K$18>BD$22,0,$AW33)) -> 0 | BE33: =IF($K$18<BE$21,0,IF($K$18>BE$22,0,$AX33)) -> 0 | BF33: =IF($K$18<BF$21,0,IF($K$18>BF$22,0,$AY33)) -> 0 | BG33: =IF($K$18<BG$21,0,IF($K$18>BG$22,0,$AZ33)) -> 0 | BH33: =IF($K$18<BH$21,0,IF($K$18>BH$22,0,$BA33)) -> 0 | BI33: =SUM(BB33:BH33) -> 0 | BK33: S/O | BL33: 0
A34: Band of Gold | C34: #2 Div. | D34: =BI34 -> 0 | E34: 500 | G34: 7533134 | I34: dark green with a yellow margin | R34: S/O | S34: S/O | AD34: =SUM(U34,V34,X34,Y34,AB34) -> 0 | AG34: =U34*E34 -> 0 | AI34: =X34*E34 -> 0 | AK34: =SUM(AG34,AI34) -> 0 | AM34: =(U34*E34)*D34 -> 0 | AO34: =(X34*E34)*D34 -> 0 | AQ34: =SUM(AM34:AO34) -> 0 | BA34: 0 | BB34: =IF($K$18<BB$21,0,IF($K$18>BB$22,0,$AU34)) -> 0 | BC34: =IF($K$18<BC$21,0,IF($K$18>BC$22,0,$AV34)) -> 0 | BD34: =IF($K$18<BD$21,0,IF($K$18>BD$22,0,$AW34)) -> 0 | BE34: =IF($K$18<BE$21,0,IF($K$18>BE$22,0,$AX34)) -> 0 | BF34: =IF($K$18<BF$21,0,IF($K$18>BF$22,0,$AY34)) -> 0 | BG34: =IF($K$18<BG$21,0,IF($K$18>BG$22,0,$AZ34)) -> 0 | BH34: =IF($K$18<BH$21,0,IF($K$18>BH$22,0,$BA34)) -> 0 | BI34: =SUM(BB34:BH34) -> 0 | BK34: S/O | BL34: 0
A35: Barbara Ann | C35: #1 Div. | D35: =BI35 -> 0 | E35: 300 | G35: 7533151 | I35: large, thick, corrugated, blue-green leaves with broad creamy white margins | R35: =E35*S35 -> 15900 | S35: =BL35 -> 53 | AD35: =SUM(U35,V35,X35,Y35,AB35) -> 0 | AG35: =U35*E35 -> 0 | AI35: =X35*E35 -> 0 | AK35: =SUM(AG35,AI35) -> 0 | AM35: =(U35*E35)*D35 -> 0 | AO35: =(X35*E35)*D35 -> 0 | AQ35: =SUM(AM35:AO35) -> 0 | BA35: 0 | BB35: =IF($K$18<BB$21,0,IF($K$18>BB$22,0,$AU35)) -> 0 | BC35: =IF($K$18<BC$21,0,IF($K$18>BC$22,0,$AV35)) -> 0 | BD35: =IF($K$18<BD$21,0,IF($K$18>BD$22,0,$AW35)) -> 0 | BE35: =IF($K$18<BE$21,0,IF($K$18>BE$22,0,$AX35)) -> 0 | BF35: =IF($K$18<BF$21,0,IF($K$18>BF$22,0,$AY35)) -> 0 | BG35: =IF($K$18<BG$21,0,IF($K$18>BG$22,0,$AZ35)) -> 0 | BH35: =IF($K$18<BH$21,0,IF($K$18>BH$22,0,$BA35)) -> 0 | BI35: =SUM(BB35:BH35) -> 0 | BK35: 15900 | BL35: 53
A36: Barbara Ann | C36: #2 Div. | D36: =BI36 -> 0 | E36: 500 | G36: 7533154 | I36: large, thick, corrugated, blue-green leaves with broad creamy white margins | R36: =E36*S36 -> 5000 | S36: =BL36 -> 10 | AD36: =SUM(U36,V36,X36,Y36,AB36) -> 0 | AG36: =U36*E36 -> 0 | AI36: =X36*E36 -> 0 | AK36: =SUM(AG36,AI36) -> 0 | AM36: =(U36*E36)*D36 -> 0 | AO36: =(X36*E36)*D36 -> 0 | AQ36: =SUM(AM36:AO36) -> 0 | BA36: 0 | BB36: =IF($K$18<BB$21,0,IF($K$18>BB$22,0,$AU36)) -> 0 | BC36: =IF($K$18<BC$21,0,IF($K$18>BC$22,0,$AV36)) -> 0 | BD36: =IF($K$18<BD$21,0,IF($K$18>BD$22,0,$AW36)) -> 0 | BE36: =IF($K$18<BE$21,0,IF($K$18>BE$22,0,$AX36)) -> 0 | BF36: =IF($K$18<BF$21,0,IF($K$18>BF$22,0,$AY36)) -> 0 | BG36: =IF($K$18<BG$21,0,IF($K$18>BG$22,0,$AZ36)) -> 0 | BH36: =IF($K$18<BH$21,0,IF($K$18>BH$22,0,$BA36)) -> 0 | BI36: =SUM(BB36:BH36) -> 0 | BK36: 5000 | BL36: 10
A37: Bedazzled | C37: #1 Div. | D37: =BI37 -> 0 | E37: 300 | G37: 7533161 | I37: blue-green leaves with a golden yellow margin | M37: blue-green leaves with a golden yellow margin | R37: =E37*S37 -> 15000 | S37: =BL37 -> 50 | AD37: =SUM(U37,V37,X37,Y37,AB37) -> 0 | AG37: =U37*E37 -> 0 | AI37: =X37*E37 -> 0 | AK37: =SUM(AG37,AI37) -> 0 | AM37: =(U37*E37)*D37 -> 0 | AO37: =(X37*E37)*D37 -> 0 | AQ37: =SUM(AM37:AO37) -> 0 | BA37: 0 | BB37: =IF($K$18<BB$21,0,IF($K$18>BB$22,0,$AU37)) -> 0 | BC37: =IF($K$18<BC$21,0,IF($K$18>BC$22,0,$AV37)) -> 0 | BD37: =IF($K$18<BD$21,0,IF($K$18>BD$22,0,$AW37)) -> 0 | BE37: =IF($K$18<BE$21,0,IF($K$18>BE$22,0,$AX37)) -> 0 | BF37: =IF($K$18<BF$21,0,IF($K$18>BF$22,0,$AY37)) -> 0 | BG37: =IF($K$18<BG$21,0,IF($K$18>BG$22,0,$AZ37)) -> 0 | BH37: =IF($K$18<BH$21,0,IF($K$18>BH$22,0,$BA37)) -> 0 | BI37: =SUM(BB37:BH37) -> 0 | BK37: 15000 | BL37: 50
A38: Bedazzled | C38: #2 Div. | D38: =BI38 -> 0 | E38: 500 | G38: 7533165 | I38: blue-green leaves with a golden yellow margin | M38: blue-green leaves with a golden yellow margin | R38: S/O | S38: S/O | AD38: =SUM(U38,V38,X38,Y38,AB38) -> 0 | AG38: =U38*E38 -> 0 | AI38: =X38*E38 -> 0 | AK38: =SUM(AG38,AI38) -> 0 | AM38: =(U38*E38)*D38 -> 0 | AO38: =(X38*E38)*D38 -> 0 | AQ38: =SUM(AM38:AO38) -> 0 | BA38: 0 | BB38: =IF($K$18<BB$21,0,IF($K$18>BB$22,0,$AU38)) -> 0 | BC38: =IF($K$18<BC$21,0,IF($K$18>BC$22,0,$AV38)) -> 0 | BD38: =IF($K$18<BD$21,0,IF($K$18>BD$22,0,$AW38)) -> 0 | BE38: =IF($K$18<BE$21,0,IF($K$18>BE$22,0,$AX38)) -> 0 | BF38: =IF($K$18<BF$21,0,IF($K$18>BF$22,0,$AY38)) -> 0 | BG38: =IF($K$18<BG$21,0,IF($K$18>BG$22,0,$AZ38)) -> 0 | BH38: =IF($K$18<BH$21,0,IF($K$18>BH$22,0,$BA38)) -> 0 | BI38: =SUM(BB38:BH38) -> 0 | BK38: S/O | BL38: 0
A39: Ben Vernooij | C39: #1 Div. | D39: =BI39 -> 0 | E39: 300 | G39: 7533181 | I39: medium, intense blue leaves with very wide creamy white edges | R39: =E39*S39 -> 25500 | S39: =BL39 -> 85 | AD39: =SUM(U39,V39,X39,Y39,AB39) -> 0 | AG39: =U39*E39 -> 0 | AI39: =X39*E39 -> 0 | AK39: =SUM(AG39,AI39) -> 0 | AM39: =(U39*E39)*D39 -> 0 | AO39: =(X39*E39)*D39 -> 0 | AQ39: =SUM(AM39:AO39) -> 0 | BA39: 0 | BB39: =IF($K$18<BB$21,0,IF($K$18>BB$22,0,$AU39)) -> 0 | BC39: =IF($K$18<BC$21,0,IF($K$18>BC$22,0,$AV39)) -> 0 | BD39: =IF($K$18<BD$21,0,IF($K$18>BD$22,0,$AW39)) -> 0 | BE39: =IF($K$18<BE$21,0,IF($K$18>BE$22,0,$AX39)) -> 0 | BF39: =IF($K$18<BF$21,0,IF($K$18>BF$22,0,$AY39)) -> 0 | BG39: =IF($K$18<BG$21,0,IF($K$18>BG$22,0,$AZ39)) -> 0 | BH39: =IF($K$18<BH$21,0,IF($K$18>BH$22,0,$BA39)) -> 0 | BI39: =SUM(BB39:BH39) -> 0 | BK39: 25500 | BL39: 85
A40: Ben Vernooij | C40: #2 Div. | D40: =BI40 -> 0 | E40: 500 | G40: 7533185 | I40: medium, intense blue leaves with very wide creamy white edges | R40: =E40*S40 -> 15000 | S40: =BL40 -> 30 | AD40: =SUM(U40,V40,X40,Y40,AB40) -> 0 | AG40: =U40*E40 -> 0 | AI40: =X40*E40 -> 0 | AK40: =SUM(AG40,AI40) -> 0 | AM40: =(U40*E40)*D40 -> 0 | AO40: =(X40*E40)*D40 -> 0 | AQ40: =SUM(AM40:AO40) -> 0 | BA40: 0 | BB40: =IF($K$18<BB$21,0,IF($K$18>BB$22,0,$AU40)) -> 0 | BC40: =IF($K$18<BC$21,0,IF($K$18>BC$22,0,$AV40)) -> 0 | BD40: =IF($K$18<BD$21,0,IF($K$18>BD$22,0,$AW40)) -> 0 | BE40: =IF($K$18<BE$21,0,IF($K$18>BE$22,0,$AX40)) -> 0 | BF40: =IF($K$18<BF$21,0,IF($K$18>BF$22,0,$AY40)) -> 0 | BG40: =IF($K$18<BG$21,0,IF($K$18>BG$22,0,$AZ40)) -> 0 | BH40: =IF($K$18<BH$21,0,IF($K$18>BH$22,0,$BA40)) -> 0 | BI40: =SUM(BB40:BH40) -> 0 | BK40: 15000 | BL40: 30
A41: Big Daddy | C41: #1 Div. | D41: =BI41 -> 0 | E41: 300 | G41: 7533201 | I41: large, round & very puckered blue leaves, heavy substancce | R41: =E41*S41 -> 42900 | S41: =BL41 -> 143 | AD41: =SUM(U41,V41,X41,Y41,AB41) -> 0 | AG41: =U41*E41 -> 0 | AI41: =X41*E41 -> 0 | AK41: =SUM(AG41,AI41) -> 0 | AM41: =(U41*E41)*D41 -> 0 | AO41: =(X41*E41)*D41 -> 0 | AQ41: =SUM(AM41:AO41) -> 0 | BA41: 0 | BB41: =IF($K$18<BB$21,0,IF($K$18>BB$22,0,$AU41)) -> 0 | BC41: =IF($K$18<BC$21,0,IF($K$18>BC$22,0,$AV41)) -> 0 | BD41: =IF($K$18<BD$21,0,IF($K$18>BD$22,0,$AW41)) -> 0 | BE41: =IF($K$18<BE$21,0,IF($K$18>BE$22,0,$AX41)) -> 0 | BF41: =IF($K$18<BF$21,0,IF($K$18>BF$22,0,$AY41)) -> 0 | BG41: =IF($K$18<BG$21,0,IF($K$18>BG$22,0,$AZ41)) -> 0 | BH41: =IF($K$18<BH$21,0,IF($K$18>BH$22,0,$BA41)) -> 0 | BI41: =SUM(BB41:BH41) -> 0 | BK41: 42900 | BL41: 143
A42: Big Daddy | C42: #2 Div. | D42: =BI42 -> 0 | E42: 500 | G42: 7533205 | I42: large, round & very puckered blue leaves, heavy substancce | R42: =E42*S42 -> 10000 | S42: =BL42 -> 20 | AD42: =SUM(U42,V42,X42,Y42,AB42) -> 0 | AG42: =U42*E42 -> 0 | AI42: =X42*E42 -> 0 | AK42: =SUM(AG42,AI42) -> 0 | AM42: =(U42*E42)*D42 -> 0 | AO42: =(X42*E42)*D42 -> 0 | AQ42: =SUM(AM42:AO42) -> 0 | BA42: 0 | BB42: =IF($K$18<BB$21,0,IF($K$18>BB$22,0,$AU42)) -> 0 | BC42: =IF($K$18<BC$21,0,IF($K$18>BC$22,0,$AV42)) -> 0 | BD42: =IF($K$18<BD$21,0,IF($K$18>BD$22,0,$AW42)) -> 0 | BE42: =IF($K$18<BE$21,0,IF($K$18>BE$22,0,$AX42)) -> 0 | BF42: =IF($K$18<BF$21,0,IF($K$18>BF$22,0,$AY42)) -> 0 | BG42: =IF($K$18<BG$21,0,IF($K$18>BG$22,0,$AZ42)) -> 0 | BH42: =IF($K$18<BH$21,0,IF($K$18>BH$22,0,$BA42)) -> 0 | BI42: =SUM(BB42:BH42) -> 0 | BK42: 10000 | BL42: 20
A43: Blue Angel | C43: #1 Div. | D43: =BI43 -> 0 | E43: 300 | G43: 7533301 | I43: huge, heart-shaped, blue-green leaves, very slug resistant | R43: =E43*S43 -> 20100 | S43: =BL43 -> 67 | AD43: =SUM(U43,V43,X43,Y43,AB43) -> 0 | AG43: =U43*E43 -> 0 | AI43: =X43*E43 -> 0 | AK43: =SUM(AG43,AI43) -> 0 | AM43: =(U43*E43)*D43 -> 0 | AO43: =(X43*E43)*D43 -> 0 | AQ43: =SUM(AM43:AO43) -> 0 | BA43: 0 | BB43: =IF($K$18<BB$21,0,IF($K$18>BB$22,0,$AU43)) -> 0 | BC43: =IF($K$18<BC$21,0,IF($K$18>BC$22,0,$AV43)) -> 0 | BD43: =IF($K$18<BD$21,0,IF($K$18>BD$22,0,$AW43)) -> 0 | BE43: =IF($K$18<BE$21,0,IF($K$18>BE$22,0,$AX43)) -> 0 | BF43: =IF($K$18<BF$21,0,IF($K$18>BF$22,0,$AY43)) -> 0 | BG43: =IF($K$18<BG$21,0,IF($K$18>BG$22,0,$AZ43)) -> 0 | BH43: =IF($K$18<BH$21,0,IF($K$18>BH$22,0,$BA43)) -> 0 | BI43: =SUM(BB43:BH43) -> 0 | BK43: 20100 | BL43: 67
A44: Blue Angel | C44: #2 Div. | D44: =BI44 -> 0 | E44: 500 | G44: 7533305 | I44: huge, heart-shaped, blue-green leaves, very slug resistant | R44: S/O | S44: S/O | AD44: =SUM(U44,V44,X44,Y44,AB44) -> 0 | AG44: =U44*E44 -> 0 | AI44: =X44*E44 -> 0 | AK44: =SUM(AG44,AI44) -> 0 | AM44: =(U44*E44)*D44 -> 0 | AO44: =(X44*E44)*D44 -> 0 | AQ44: =SUM(AM44:AO44) -> 0 | BA44: 0 | BB44: =IF($K$18<BB$21,0,IF($K$18>BB$22,0,$AU44)) -> 0 | BC44: =IF($K$18<BC$21,0,IF($K$18>BC$22,0,$AV44)) -> 0 | BD44: =IF($K$18<BD$21,0,IF($K$18>BD$22,0,$AW44)) -> 0 | BE44: =IF($K$18<BE$21,0,IF($K$18>BE$22,0,$AX44)) -> 0 | BF44: =IF($K$18<BF$21,0,IF($K$18>BF$22,0,$AY44)) -> 0 | BG44: =IF($K$18<BG$21,0,IF($K$18>BG$22,0,$AZ44)) -> 0 | BH44: =IF($K$18<BH$21,0,IF($K$18>BH$22,0,$BA44)) -> 0 | BI44: =SUM(BB44:BH44) -> 0 | BK44: S/O | BL44: 0
A45: Blue Angel | C45: 72 Cell | D45: =BI45 -> 0 | E45: 72 | G45: 7533307 | I45: huge, heart-shaped, blue-green leaves, very slug resistant | R45: =E45*S45 -> 3024 | S45: =BL45 -> 42 | AD45: =SUM(U45,V45,X45,Y45,AB45) -> 0 | AG45: =U45*E45 -> 0 | AI45: =X45*E45 -> 0 | AK45: =SUM(AG45,AI45) -> 0 | AM45: =(U45*E45)*D45 -> 0 | AO45: =(X45*E45)*D45 -> 0 | AQ45: =SUM(AM45:AO45) -> 0 | BA45: 0 | BB45: =IF($K$18<BB$21,0,IF($K$18>BB$22,0,$AU45)) -> 0 | BC45: =IF($K$18<BC$21,0,IF($K$18>BC$22,0,$AV45)) -> 0 | BD45: =IF($K$18<BD$21,0,IF($K$18>BD$22,0,$AW45)) -> 0 | BE45: =IF($K$18<BE$21,0,IF($K$18>BE$22,0,$AX45)) -> 0 | BF45: =IF($K$18<BF$21,0,IF($K$18>BF$22,0,$AY45)) -> 0 | BG45: =IF($K$18<BG$21,0,IF($K$18>BG$22,0,$AZ45)) -> 0 | BH45: =IF($K$18<BH$21,0,IF($K$18>BH$22,0,$BA45)) -> 0 | BI45: =SUM(BB45:BH45) -> 0 | BK45: 3024 | BL45: 42
A46: Blue Cadet | C46: #1 Div. | D46: =BI46 -> 0 | E46: 300 | G46: 7533331 | I46: blue-green leaves in spring change to green in summer, heart shaped leaves | R46: =E46*S46 -> 39900 | S46: =BL46 -> 133 | AD46: =SUM(U46,V46,X46,Y46,AB46) -> 0 | AG46: =U46*E46 -> 0 | AI46: =X46*E46 -> 0 | AK46: =SUM(AG46,AI46) -> 0 | AM46: =(U46*E46)*D46 -> 0 | AO46: =(X46*E46)*D46 -> 0 | AQ46: =SUM(AM46:AO46) -> 0 | BA46: 0 | BB46: =IF($K$18<BB$21,0,IF($K$18>BB$22,0,$AU46)) -> 0 | BC46: =IF($K$18<BC$21,0,IF($K$18>BC$22,0,$AV46)) -> 0 | BD46: =IF($K$18<BD$21,0,IF($K$18>BD$22,0,$AW46)) -> 0 | BE46: =IF($K$18<BE$21,0,IF($K$18>BE$22,0,$AX46)) -> 0 | BF46: =IF($K$18<BF$21,0,IF($K$18>BF$22,0,$AY46)) -> 0 | BG46: =IF($K$18<BG$21,0,IF($K$18>BG$22,0,$AZ46)) -> 0 | BH46: =IF($K$18<BH$21,0,IF($K$18>BH$22,0,$BA46)) -> 0 | BI46: =SUM(BB46:BH46) -> 0 | BK46: 39900 | BL46: 133
A47: Blue Cadet | C47: #2 Div. | D47: =BI47 -> 0 | E47: 500 | G47: 7533335 | I47: blue-green leaves in spring change to green in summer, heart shaped leaves | R47: =E47*S47 -> 6000 | S47: =BL47 -> 12 | AD47: =SUM(U47,V47,X47,Y47,AB47) -> 0 | AG47: =U47*E47 -> 0 | AI47: =X47*E47 -> 0 | AK47: =SUM(AG47,AI47) -> 0 | AM47: =(U47*E47)*D47 -> 0 | AO47: =(X47*E47)*D47 -> 0 | AQ47: =SUM(AM47:AO47) -> 0 | BA47: 0 | BB47: =IF($K$18<BB$21,0,IF($K$18>BB$22,0,$AU47)) -> 0 | BC47: =IF($K$18<BC$21,0,IF($K$18>BC$22,0,$AV47)) -> 0 | BD47: =IF($K$18<BD$21,0,IF($K$18>BD$22,0,$AW47)) -> 0 | BE47: =IF($K$18<BE$21,0,IF($K$18>BE$22,0,$AX47)) -> 0 | BF47: =IF($K$18<BF$21,0,IF($K$18>BF$22,0,$AY47)) -> 0 | BG47: =IF($K$18<BG$21,0,IF($K$18>BG$22,0,$AZ47)) -> 0 | BH47: =IF($K$18<BH$21,0,IF($K$18>BH$22,0,$BA47)) -> 0 | BI47: =SUM(BB47:BH47) -> 0 | BK47: 6000 | BL47: 12
A48: Blue Hawaii | C48: #1 Div. | D48: =BI48 -> 0 | E48: 300 | G48: 7533381 | I48: giant, lightly puckered round blue-green leaves, more upright growth | R48: =E48*S48 -> 9900 | S48: =BL48 -> 33 | AD48: =SUM(U48,V48,X48,Y48,AB48) -> 0 | AG48: =U48*E48 -> 0 | AI48: =X48*E48 -> 0 | AK48: =SUM(AG48,AI48) -> 0 | AM48: =(U48*E48)*D48 -> 0 | AO48: =(X48*E48)*D48 -> 0 | AQ48: =SUM(AM48:AO48) -> 0 | BA48: 0 | BB48: =IF($K$18<BB$21,0,IF($K$18>BB$22,0,$AU48)) -> 0 | BC48: =IF($K$18<BC$21,0,IF($K$18>BC$22,0,$AV48)) -> 0 | BD48: =IF($K$18<BD$21,0,IF($K$18>BD$22,0,$AW48)) -> 0 | BE48: =IF($K$18<BE$21,0,IF($K$18>BE$22,0,$AX48)) -> 0 | BF48: =IF($K$18<BF$21,0,IF($K$18>BF$22,0,$AY48)) -> 0 | BG48: =IF($K$18<BG$21,0,IF($K$18>BG$22,0,$AZ48)) -> 0 | BH48: =IF($K$18<BH$21,0,IF($K$18>BH$22,0,$BA48)) -> 0 | BI48: =SUM(BB48:BH48) -> 0 | BK48: 9900 | BL48: 33
A49: Blue Hawaii | C49: #2 Div. | D49: =BI49 -> 0 | E49: 500 | G49: 7533385 | I49: giant, lightly puckered round blue-green leaves, more upright growth | R49: S/O | S49: S/O | AD49: =SUM(U49,V49,X49,Y49,AB49) -> 0 | AG49: =U49*E49 -> 0 | AI49: =X49*E49 -> 0 | AK49: =SUM(AG49,AI49) -> 0 | AM49: =(U49*E49)*D49 -> 0 | AO49: =(X49*E49)*D49 -> 0 | AQ49: =SUM(AM49:AO49) -> 0 | BA49: 0 | BB49: =IF($K$18<BB$21,0,IF($K$18>BB$22,0,$AU49)) -> 0 | BC49: =IF($K$18<BC$21,0,IF($K$18>BC$22,0,$AV49)) -> 0 | BD49: =IF($K$18<BD$21,0,IF($K$18>BD$22,0,$AW49)) -> 0 | BE49: =IF($K$18<BE$21,0,IF($K$18>BE$22,0,$AX49)) -> 0 | BF49: =IF($K$18<BF$21,0,IF($K$18>BF$22,0,$AY49)) -> 0 | BG49: =IF($K$18<BG$21,0,IF($K$18>BG$22,0,$AZ49)) -> 0 | BH49: =IF($K$18<BH$21,0,IF($K$18>BH$22,0,$BA49)) -> 0 | BI49: =SUM(BB49:BH49) -> 0 | BK49: S/O | BL49: 0
A50: Blue Mouse Ears | C50: #1 Div. | D50: =BI50 -> 0 | E50: 300 | G50: 7533451 | I50: small round blue-green leaves that form a tight mound, lavender flowers | R50: =E50*S50 -> 84900 | S50: =BL50 -> 283 | AD50: =SUM(U50,V50,X50,Y50,AB50) -> 0 | AG50: =U50*E50 -> 0 | AI50: =X50*E50 -> 0 | AK50: =SUM(AG50,AI50) -> 0 | AM50: =(U50*E50)*D50 -> 0 | AO50: =(X50*E50)*D50 -> 0 | AQ50: =SUM(AM50:AO50) -> 0 | BA50: 0 | BB50: =IF($K$18<BB$21,0,IF($K$18>BB$22,0,$AU50)) -> 0 | BC50: =IF($K$18<BC$21,0,IF($K$18>BC$22,0,$AV50)) -> 0 | BD50: =IF($K$18<BD$21,0,IF($K$18>BD$22,0,$AW50)) -> 0 | BE50: =IF($K$18<BE$21,0,IF($K$18>BE$22,0,$AX50)) -> 0 | BF50: =IF($K$18<BF$21,0,IF($K$18>BF$22,0,$AY50)) -> 0 | BG50: =IF($K$18<BG$21,0,IF($K$18>BG$22,0,$AZ50)) -> 0 | BH50: =IF($K$18<BH$21,0,IF($K$18>BH$22,0,$BA50)) -> 0 | BI50: =SUM(BB50:BH50) -> 0 | BK50: 84900 | BL50: 283
A51: Blue Mouse Ears | C51: #2 Div. | D51: =BI51 -> 0 | E51: 500 | G51: 7533455 | I51: small round blue-green leaves that form a tight mound, lavender flowers | R51: =E51*S51 -> 48500 | S51: =BL51 -> 97 | AD51: =SUM(U51,V51,X51,Y51,AB51) -> 0 | AG51: =U51*E51 -> 0 | AI51: =X51*E51 -> 0 | AK51: =SUM(AG51,AI51) -> 0 | AM51: =(U51*E51)*D51 -> 0 | AO51: =(X51*E51)*D51 -> 0 | AQ51: =SUM(AM51:AO51) -> 0 | BA51: 0 | BB51: =IF($K$18<BB$21,0,IF($K$18>BB$22,0,$AU51)) -> 0 | BC51: =IF($K$18<BC$21,0,IF($K$18>BC$22,0,$AV51)) -> 0 | BD51: =IF($K$18<BD$21,0,IF($K$18>BD$22,0,$AW51)) -> 0 | BE51: =IF($K$18<BE$21,0,IF($K$18>BE$22,0,$AX51)) -> 0 | BF51: =IF($K$18<BF$21,0,IF($K$18>BF$22,0,$AY51)) -> 0 | BG51: =IF($K$18<BG$21,0,IF($K$18>BG$22,0,$AZ51)) -> 0 | BH51: =IF($K$18<BH$21,0,IF($K$18>BH$22,0,$BA51)) -> 0 | BI51: =SUM(BB51:BH51) -> 0 | BK51: 48500 | BL51: 97
A52: Blue Perfection | C52: #1 Div. | D52: =BI52 -> 0 | E52: 300 | G52: 7533441 | I52: large, soft blue leaves, vigorous grower and very fragrant lavender flowers | R52: S/O | S52: S/O | AD52: =SUM(U52,V52,X52,Y52,AB52) -> 0 | AG52: =U52*E52 -> 0 | AI52: =X52*E52 -> 0 | AK52: =SUM(AG52,AI52) -> 0 | AM52: =(U52*E52)*D52 -> 0 | AO52: =(X52*E52)*D52 -> 0 | AQ52: =SUM(AM52:AO52) -> 0 | BA52: 0 | BB52: =IF($K$18<BB$21,0,IF($K$18>BB$22,0,$AU52)) -> 0 | BC52: =IF($K$18<BC$21,0,IF($K$18>BC$22,0,$AV52)) -> 0 | BD52: =IF($K$18<BD$21,0,IF($K$18>BD$22,0,$AW52)) -> 0 | BE52: =IF($K$18<BE$21,0,IF($K$18>BE$22,0,$AX52)) -> 0 | BF52: =IF($K$18<BF$21,0,IF($K$18>BF$22,0,$AY52)) -> 0 | BG52: =IF($K$18<BG$21,0,IF($K$18>BG$22,0,$AZ52)) -> 0 | BH52: =IF($K$18<BH$21,0,IF($K$18>BH$22,0,$BA52)) -> 0 | BI52: =SUM(BB52:BH52) -> 0 | BK52: S/O | BL52: 0
A53: Blue Perfection | C53: #2 Div. | D53: =BI53 -> 0 | E53: 500 | G53: 7533445 | I53: large, soft blue leaves, vigorous grower and very fragrant lavender flowers | R53: S/O | S53: S/O | AD53: =SUM(U53,V53,X53,Y53,AB53) -> 0 | AG53: =U53*E53 -> 0 | AI53: =X53*E53 -> 0 | AK53: =SUM(AG53,AI53) -> 0 | AM53: =(U53*E53)*D53 -> 0 | AO53: =(X53*E53)*D53 -> 0 | AQ53: =SUM(AM53:AO53) -> 0 | BA53: 0 | BB53: =IF($K$18<BB$21,0,IF($K$18>BB$22,0,$AU53)) -> 0 | BC53: =IF($K$18<BC$21,0,IF($K$18>BC$22,0,$AV53)) -> 0 | BD53: =IF($K$18<BD$21,0,IF($K$18>BD$22,0,$AW53)) -> 0 | BE53: =IF($K$18<BE$21,0,IF($K$18>BE$22,0,$AX53)) -> 0 | BF53: =IF($K$18<BF$21,0,IF($K$18>BF$22,0,$AY53)) -> 0 | BG53: =IF($K$18<BG$21,0,IF($K$18>BG$22,0,$AZ53)) -> 0 | BH53: =IF($K$18<BH$21,0,IF($K$18>BH$22,0,$BA53)) -> 0 | BI53: =SUM(BB53:BH53) -> 0 | BK53: S/O | BL53: 0
A54: Bressingham Blue | C54: #1 Div. | D54: =BI54 -> 0 | E54: 300 | G54: 7533601 | I54: cup-shaped, deeply ridged, puckered, blue-green leaves with white flowers | R54: =E54*S54 -> 47100 | S54: =BL54 -> 157 | AD54: =SUM(U54,V54,X54,Y54,AB54) -> 0 | AG54: =U54*E54 -> 0 | AI54: =X54*E54 -> 0 | AK54: =SUM(AG54,AI54) -> 0 | AM54: =(U54*E54)*D54 -> 0 | AO54: =(X54*E54)*D54 -> 0 | AQ54: =SUM(AM54:AO54) -> 0 | BA54: 0 | BB54: =IF($K$18<BB$21,0,IF($K$18>BB$22,0,$AU54)) -> 0 | BC54: =IF($K$18<BC$21,0,IF($K$18>BC$22,0,$AV54)) -> 0 | BD54: =IF($K$18<BD$21,0,IF($K$18>BD$22,0,$AW54)) -> 0 | BE54: =IF($K$18<BE$21,0,IF($K$18>BE$22,0,$AX54)) -> 0 | BF54: =IF($K$18<BF$21,0,IF($K$18>BF$22,0,$AY54)) -> 0 | BG54: =IF($K$18<BG$21,0,IF($K$18>BG$22,0,$AZ54)) -> 0 | BH54: =IF($K$18<BH$21,0,IF($K$18>BH$22,0,$BA54)) -> 0 | BI54: =SUM(BB54:BH54) -> 0 | BK54: 47100 | BL54: 157
A55: Bressingham Blue | C55: #2 Div. | D55: =BI55 -> 0 | E55: 500 | G55: 7533604 | I55: cup-shaped, deeply ridged, puckered, blue-green leaves with white flowers | R55: =E55*S55 -> 6000 | S55: =BL55 -> 12 | AD55: =SUM(U55,V55,X55,Y55,AB55) -> 0 | AG55: =U55*E55 -> 0 | AI55: =X55*E55 -> 0 | AK55: =SUM(AG55,AI55) -> 0 | AM55: =(U55*E55)*D55 -> 0 | AO55: =(X55*E55)*D55 -> 0 | AQ55: =SUM(AM55:AO55) -> 0 | BA55: 0 | BB55: =IF($K$18<BB$21,0,IF($K$18>BB$22,0,$AU55)) -> 0 | BC55: =IF($K$18<BC$21,0,IF($K$18>BC$22,0,$AV55)) -> 0 | BD55: =IF($K$18<BD$21,0,IF($K$18>BD$22,0,$AW55)) -> 0 | BE55: =IF($K$18<BE$21,0,IF($K$18>BE$22,0,$AX55)) -> 0 | BF55: =IF($K$18<BF$21,0,IF($K$18>BF$22,0,$AY55)) -> 0 | BG55: =IF($K$18<BG$21,0,IF($K$18>BG$22,0,$AZ55)) -> 0 | BH55: =IF($K$18<BH$21,0,IF($K$18>BH$22,0,$BA55)) -> 0 | BI55: =SUM(BB55:BH55) -> 0 | BK55: 6000 | BL55: 12
A56: Brother Stefan | C56: #1 Div. | D56: =BI56 -> 0 | E56: 300 | G56: 7533751 | I56: large, heavily corrugated & puckered leaves that are blue-green with a bright gold center | R56: =E56*S56 -> 7500 | S56: =BL56 -> 25 | AD56: =SUM(U56,V56,X56,Y56,AB56) -> 0 | AG56: =U56*E56 -> 0 | AI56: =X56*E56 -> 0 | AK56: =SUM(AG56,AI56) -> 0 | AM56: =(U56*E56)*D56 -> 0 | AO56: =(X56*E56)*D56 -> 0 | AQ56: =SUM(AM56:AO56) -> 0 | BA56: 0 | BB56: =IF($K$18<BB$21,0,IF($K$18>BB$22,0,$AU56)) -> 0 | BC56: =IF($K$18<BC$21,0,IF($K$18>BC$22,0,$AV56)) -> 0 | BD56: =IF($K$18<BD$21,0,IF($K$18>BD$22,0,$AW56)) -> 0 | BE56: =IF($K$18<BE$21,0,IF($K$18>BE$22,0,$AX56)) -> 0 | BF56: =IF($K$18<BF$21,0,IF($K$18>BF$22,0,$AY56)) -> 0 | BG56: =IF($K$18<BG$21,0,IF($K$18>BG$22,0,$AZ56)) -> 0 | BH56: =IF($K$18<BH$21,0,IF($K$18>BH$22,0,$BA56)) -> 0 | BI56: =SUM(BB56:BH56) -> 0 | BK56: 7500 | BL56: 25
A57: Captain Kirk | C57: 72 Cell | D57: =BI57 -> 0 | E57: 72 | G57: 7533777 | I57: large, an improved ‘Gold Standard’ with thicker leaves & much wider dark green margins | R57: =E57*S57 -> 2016 | S57: =BL57 -> 28 | AD57: =SUM(U57,V57,X57,Y57,AB57) -> 0 | AG57: =U57*E57 -> 0 | AI57: =X57*E57 -> 0 | AK57: =SUM(AG57,AI57) -> 0 | AM57: =(U57*E57)*D57 -> 0 | AO57: =(X57*E57)*D57 -> 0 | AQ57: =SUM(AM57:AO57) -> 0 | BA57: 0 | BB57: =IF($K$18<BB$21,0,IF($K$18>BB$22,0,$AU57)) -> 0 | BC57: =IF($K$18<BC$21,0,IF($K$18>BC$22,0,$AV57)) -> 0 | BD57: =IF($K$18<BD$21,0,IF($K$18>BD$22,0,$AW57)) -> 0 | BE57: =IF($K$18<BE$21,0,IF($K$18>BE$22,0,$AX57)) -> 0 | BF57: =IF($K$18<BF$21,0,IF($K$18>BF$22,0,$AY57)) -> 0 | BG57: =IF($K$18<BG$21,0,IF($K$18>BG$22,0,$AZ57)) -> 0 | BH57: =IF($K$18<BH$21,0,IF($K$18>BH$22,0,$BA57)) -> 0 | BI57: =SUM(BB57:BH57) -> 0 | BK57: 2016 | BL57: 28
A58: Catherine | B58: NEW | C58: #1 Div. | D58: =BI58 -> 0 | E58: 300 | G58: 7533761 | I58: Medium; blue-green leaves w/ luminous chartreuse center, pale lavender flowers | R58: =E58*S58 -> 30000 | S58: =BL58 -> 100 | AD58: =SUM(U58,V58,X58,Y58,AB58) -> 0 | AG58: =U58*E58 -> 0 | AI58: =X58*E58 -> 0 | AK58: =SUM(AG58,AI58) -> 0 | AM58: =(U58*E58)*D58 -> 0 | AO58: =(X58*E58)*D58 -> 0 | AQ58: =SUM(AM58:AO58) -> 0 | BA58: 0 | BB58: =IF($K$18<BB$21,0,IF($K$18>BB$22,0,$AU58)) -> 0 | BC58: =IF($K$18<BC$21,0,IF($K$18>BC$22,0,$AV58)) -> 0 | BD58: =IF($K$18<BD$21,0,IF($K$18>BD$22,0,$AW58)) -> 0 | BE58: =IF($K$18<BE$21,0,IF($K$18>BE$22,0,$AX58)) -> 0 | BF58: =IF($K$18<BF$21,0,IF($K$18>BF$22,0,$AY58)) -> 0 | BG58: =IF($K$18<BG$21,0,IF($K$18>BG$22,0,$AZ58)) -> 0 | BH58: =IF($K$18<BH$21,0,IF($K$18>BH$22,0,$BA58)) -> 0 | BI58: =SUM(BB58:BH58) -> 0 | BK58: 30000 | BL58: 100
A59: Catherine | B59: NEW | C59: #2 Div. | D59: =BI59 -> 0 | E59: 500 | G59: 7533764 | I59: Medium; blue-green leaves w/ luminous chartreuse center, pale lavender flowers | R59: =E59*S59 -> 14000 | S59: =BL59 -> 28 | AD59: =SUM(U59,V59,X59,Y59,AB59) -> 0 | AG59: =U59*E59 -> 0 | AI59: =X59*E59 -> 0 | AK59: =SUM(AG59,AI59) -> 0 | AM59: =(U59*E59)*D59 -> 0 | AO59: =(X59*E59)*D59 -> 0 | AQ59: =SUM(AM59:AO59) -> 0 | BA59: 0 | BB59: =IF($K$18<BB$21,0,IF($K$18>BB$22,0,$AU59)) -> 0 | BC59: =IF($K$18<BC$21,0,IF($K$18>BC$22,0,$AV59)) -> 0 | BD59: =IF($K$18<BD$21,0,IF($K$18>BD$22,0,$AW59)) -> 0 | BE59: =IF($K$18<BE$21,0,IF($K$18>BE$22,0,$AX59)) -> 0 | BF59: =IF($K$18<BF$21,0,IF($K$18>BF$22,0,$AY59)) -> 0 | BG59: =IF($K$18<BG$21,0,IF($K$18>BG$22,0,$AZ59)) -> 0 | BH59: =IF($K$18<BH$21,0,IF($K$18>BH$22,0,$BA59)) -> 0 | BI59: =SUM(BB59:BH59) -> 0 | BK59: 14000 | BL59: 28
A60: Cherry Berry | C60: #1 Div. | D60: =BI60 -> 0 | E60: 300 | G60: 7533801 | I60: narrow lance-shaped white centered leaves with green margins & streaked with white flames | R60: =E60*S60 -> 5100 | S60: =BL60 -> 17 | AD60: =SUM(U60,V60,X60,Y60,AB60) -> 0 | AG60: =U60*E60 -> 0 | AI60: =X60*E60 -> 0 | AK60: =SUM(AG60,AI60) -> 0 | AM60: =(U60*E60)*D60 -> 0 | AO60: =(X60*E60)*D60 -> 0 | AQ60: =SUM(AM60:AO60) -> 0 | BA60: 0 | BB60: =IF($K$18<BB$21,0,IF($K$18>BB$22,0,$AU60)) -> 0 | BC60: =IF($K$18<BC$21,0,IF($K$18>BC$22,0,$AV60)) -> 0 | BD60: =IF($K$18<BD$21,0,IF($K$18>BD$22,0,$AW60)) -> 0 | BE60: =IF($K$18<BE$21,0,IF($K$18>BE$22,0,$AX60)) -> 0 | BF60: =IF($K$18<BF$21,0,IF($K$18>BF$22,0,$AY60)) -> 0 | BG60: =IF($K$18<BG$21,0,IF($K$18>BG$22,0,$AZ60)) -> 0 | BH60: =IF($K$18<BH$21,0,IF($K$18>BH$22,0,$BA60)) -> 0 | BI60: =SUM(BB60:BH60) -> 0 | BK60: 5100 | BL60: 17
A61: Christmas Pageant | C61: #1 Div. | D61: =BI61 -> 0 | E61: 300 | G61: 7533881 | I61: medium, dark green leaves with wide cream margins; heavy corrugation | R61: =E61*S61 -> 4500 | S61: =BL61 -> 15 | AD61: =SUM(U61,V61,X61,Y61,AB61) -> 0 | AG61: =U61*E61 -> 0 | AI61: =X61*E61 -> 0 | AK61: =SUM(AG61,AI61) -> 0 | AM61: =(U61*E61)*D61 -> 0 | AO61: =(X61*E61)*D61 -> 0 | AQ61: =SUM(AM61:AO61) -> 0 | BA61: 0 | BB61: =IF($K$18<BB$21,0,IF($K$18>BB$22,0,$AU61)) -> 0 | BC61: =IF($K$18<BC$21,0,IF($K$18>BC$22,0,$AV61)) -> 0 | BD61: =IF($K$18<BD$21,0,IF($K$18>BD$22,0,$AW61)) -> 0 | BE61: =IF($K$18<BE$21,0,IF($K$18>BE$22,0,$AX61)) -> 0 | BF61: =IF($K$18<BF$21,0,IF($K$18>BF$22,0,$AY61)) -> 0 | BG61: =IF($K$18<BG$21,0,IF($K$18>BG$22,0,$AZ61)) -> 0 | BH61: =IF($K$18<BH$21,0,IF($K$18>BH$22,0,$BA61)) -> 0 | BI61: =SUM(BB61:BH61) -> 0 | BK61: 4500 | BL61: 15
A62: Christmas Pageant | C62: #2 Div. | D62: =BI62 -> 0 | E62: 500 | G62: 7533884 | I62: medium, dark green leaves with wide cream margins; heavy corrugation | R62: =E62*S62 -> 2500 | S62: =BL62 -> 5 | AD62: =SUM(U62,V62,X62,Y62,AB62) -> 0 | AG62: =U62*E62 -> 0 | AI62: =X62*E62 -> 0 | AK62: =SUM(AG62,AI62) -> 0 | AM62: =(U62*E62)*D62 -> 0 | AO62: =(X62*E62)*D62 -> 0 | AQ62: =SUM(AM62:AO62) -> 0 | BA62: 0 | BB62: =IF($K$18<BB$21,0,IF($K$18>BB$22,0,$AU62)) -> 0 | BC62: =IF($K$18<BC$21,0,IF($K$18>BC$22,0,$AV62)) -> 0 | BD62: =IF($K$18<BD$21,0,IF($K$18>BD$22,0,$AW62)) -> 0 | BE62: =IF($K$18<BE$21,0,IF($K$18>BE$22,0,$AX62)) -> 0 | BF62: =IF($K$18<BF$21,0,IF($K$18>BF$22,0,$AY62)) -> 0 | BG62: =IF($K$18<BG$21,0,IF($K$18>BG$22,0,$AZ62)) -> 0 | BH62: =IF($K$18<BH$21,0,IF($K$18>BH$22,0,$BA62)) -> 0 | BI62: =SUM(BB62:BH62) -> 0 | BK62: 2500 | BL62: 5
A63: Climax | C63: #1 Div. | D63: =BI63 -> 0 | E63: 300 | G63: 7533891 | I63: dark green leaves with bright gold margins, 36" scapes with lavender flowers | R63: =E63*S63 -> 9900 | S63: =BL63 -> 33 | AD63: =SUM(U63,V63,X63,Y63,AB63) -> 0 | AG63: =U63*E63 -> 0 | AI63: =X63*E63 -> 0 | AK63: =SUM(AG63,AI63) -> 0 | AM63: =(U63*E63)*D63 -> 0 | AO63: =(X63*E63)*D63 -> 0 | AQ63: =SUM(AM63:AO63) -> 0 | BA63: 0 | BB63: =IF($K$18<BB$21,0,IF($K$18>BB$22,0,$AU63)) -> 0 | BC63: =IF($K$18<BC$21,0,IF($K$18>BC$22,0,$AV63)) -> 0 | BD63: =IF($K$18<BD$21,0,IF($K$18>BD$22,0,$AW63)) -> 0 | BE63: =IF($K$18<BE$21,0,IF($K$18>BE$22,0,$AX63)) -> 0 | BF63: =IF($K$18<BF$21,0,IF($K$18>BF$22,0,$AY63)) -> 0 | BG63: =IF($K$18<BG$21,0,IF($K$18>BG$22,0,$AZ63)) -> 0 | BH63: =IF($K$18<BH$21,0,IF($K$18>BH$22,0,$BA63)) -> 0 | BI63: =SUM(BB63:BH63) -> 0 | BK63: 9900 | BL63: 33
A64: Climax | C64: #2 Div. | D64: =BI64 -> 0 | E64: 500 | G64: 7533894 | I64: dark green leaves with bright gold margins, 36" scapes with lavender flowers | R64: =E64*S64 -> 2500 | S64: =BL64 -> 5 | AD64: =SUM(U64,V64,X64,Y64,AB64) -> 0 | AG64: =U64*E64 -> 0 | AI64: =X64*E64 -> 0 | AK64: =SUM(AG64,AI64) -> 0 | AM64: =(U64*E64)*D64 -> 0 | AO64: =(X64*E64)*D64 -> 0 | AQ64: =SUM(AM64:AO64) -> 0 | BA64: 0 | BB64: =IF($K$18<BB$21,0,IF($K$18>BB$22,0,$AU64)) -> 0 | BC64: =IF($K$18<BC$21,0,IF($K$18>BC$22,0,$AV64)) -> 0 | BD64: =IF($K$18<BD$21,0,IF($K$18>BD$22,0,$AW64)) -> 0 | BE64: =IF($K$18<BE$21,0,IF($K$18>BE$22,0,$AX64)) -> 0 | BF64: =IF($K$18<BF$21,0,IF($K$18>BF$22,0,$AY64)) -> 0 | BG64: =IF($K$18<BG$21,0,IF($K$18>BG$22,0,$AZ64)) -> 0 | BH64: =IF($K$18<BH$21,0,IF($K$18>BH$22,0,$BA64)) -> 0 | BI64: =SUM(BB64:BH64) -> 0 | BK64: 2500 | BL64: 5
A65: Devon Green | C65: #1 Div. | D65: =BI65 -> 0 | E65: 300 | G65: 7533981 | I65: medium, shiny green leaves, lavender flowers | R65: =E65*S65 -> 36900 | S65: =BL65 -> 123 | AD65: =SUM(U65,V65,X65,Y65,AB65) -> 0 | AG65: =U65*E65 -> 0 | AI65: =X65*E65 -> 0 | AK65: =SUM(AG65,AI65) -> 0 | AM65: =(U65*E65)*D65 -> 0 | AO65: =(X65*E65)*D65 -> 0 | AQ65: =SUM(AM65:AO65) -> 0 | BA65: 0 | BB65: =IF($K$18<BB$21,0,IF($K$18>BB$22,0,$AU65)) -> 0 | BC65: =IF($K$18<BC$21,0,IF($K$18>BC$22,0,$AV65)) -> 0 | BD65: =IF($K$18<BD$21,0,IF($K$18>BD$22,0,$AW65)) -> 0 | BE65: =IF($K$18<BE$21,0,IF($K$18>BE$22,0,$AX65)) -> 0 | BF65: =IF($K$18<BF$21,0,IF($K$18>BF$22,0,$AY65)) -> 0 | BG65: =IF($K$18<BG$21,0,IF($K$18>BG$22,0,$AZ65)) -> 0 | BH65: =IF($K$18<BH$21,0,IF($K$18>BH$22,0,$BA65)) -> 0 | BI65: =SUM(BB65:BH65) -> 0 | BK65: 36900 | BL65: 123
A66: Devon Green | C66: #2 Div. | D66: =BI66 -> 0 | E66: 500 | G66: 7533984 | I66: medium, shiny green leaves, lavender flowers | R66: =E66*S66 -> 10000 | S66: =BL66 -> 20 | AD66: =SUM(U66,V66,X66,Y66,AB66) -> 0 | AG66: =U66*E66 -> 0 | AI66: =X66*E66 -> 0 | AK66: =SUM(AG66,AI66) -> 0 | AM66: =(U66*E66)*D66 -> 0 | AO66: =(X66*E66)*D66 -> 0 | AQ66: =SUM(AM66:AO66) -> 0 | BA66: 0 | BB66: =IF($K$18<BB$21,0,IF($K$18>BB$22,0,$AU66)) -> 0 | BC66: =IF($K$18<BC$21,0,IF($K$18>BC$22,0,$AV66)) -> 0 | BD66: =IF($K$18<BD$21,0,IF($K$18>BD$22,0,$AW66)) -> 0 | BE66: =IF($K$18<BE$21,0,IF($K$18>BE$22,0,$AX66)) -> 0 | BF66: =IF($K$18<BF$21,0,IF($K$18>BF$22,0,$AY66)) -> 0 | BG66: =IF($K$18<BG$21,0,IF($K$18>BG$22,0,$AZ66)) -> 0 | BH66: =IF($K$18<BH$21,0,IF($K$18>BH$22,0,$BA66)) -> 0 | BI66: =SUM(BB66:BH66) -> 0 | BK66: 10000 | BL66: 20
A67: Diana Remembered | C67: 72 Cell | D67: =BI67 -> 0 | E67: 72 | G67: 7534027 | I67: medium, corrugated, broadly ovate green leaves with creamy white margins | R67: =E67*S67 -> 1008 | S67: =BL67 -> 14 | AD67: =SUM(U67,V67,X67,Y67,AB67) -> 0 | AG67: =U67*E67 -> 0 | AI67: =X67*E67 -> 0 | AK67: =SUM(AG67,AI67) -> 0 | AM67: =(U67*E67)*D67 -> 0 | AO67: =(X67*E67)*D67 -> 0 | AQ67: =SUM(AM67:AO67) -> 0 | BA67: 0 | BB67: =IF($K$18<BB$21,0,IF($K$18>BB$22,0,$AU67)) -> 0 | BC67: =IF($K$18<BC$21,0,IF($K$18>BC$22,0,$AV67)) -> 0 | BD67: =IF($K$18<BD$21,0,IF($K$18>BD$22,0,$AW67)) -> 0 | BE67: =IF($K$18<BE$21,0,IF($K$18>BE$22,0,$AX67)) -> 0 | BF67: =IF($K$18<BF$21,0,IF($K$18>BF$22,0,$AY67)) -> 0 | BG67: =IF($K$18<BG$21,0,IF($K$18>BG$22,0,$AZ67)) -> 0 | BH67: =IF($K$18<BH$21,0,IF($K$18>BH$22,0,$BA67)) -> 0 | BI67: =SUM(BB67:BH67) -> 0 | BK67: 1008 | BL67: 14
A68: Dream Queen | C68: #1 Div. | D68: =BI68 -> 0 | E68: 300 | G68: 7533951 | I68: wide blue-green margin and creamy yellow centers; white blossoms | R68: =E68*S68 -> 12900 | S68: =BL68 -> 43 | AD68: =SUM(U68,V68,X68,Y68,AB68) -> 0 | AG68: =U68*E68 -> 0 | AI68: =X68*E68 -> 0 | AK68: =SUM(AG68,AI68) -> 0 | AM68: =(U68*E68)*D68 -> 0 | AO68: =(X68*E68)*D68 -> 0 | AQ68: =SUM(AM68:AO68) -> 0 | BA68: 0 | BB68: =IF($K$18<BB$21,0,IF($K$18>BB$22,0,$AU68)) -> 0 | BC68: =IF($K$18<BC$21,0,IF($K$18>BC$22,0,$AV68)) -> 0 | BD68: =IF($K$18<BD$21,0,IF($K$18>BD$22,0,$AW68)) -> 0 | BE68: =IF($K$18<BE$21,0,IF($K$18>BE$22,0,$AX68)) -> 0 | BF68: =IF($K$18<BF$21,0,IF($K$18>BF$22,0,$AY68)) -> 0 | BG68: =IF($K$18<BG$21,0,IF($K$18>BG$22,0,$AZ68)) -> 0 | BH68: =IF($K$18<BH$21,0,IF($K$18>BH$22,0,$BA68)) -> 0 | BI68: =SUM(BB68:BH68) -> 0 | BK68: 12900 | BL68: 43
A69: Dream Queen | C69: #2 Div. | D69: =BI69 -> 0 | E69: 500 | G69: 7533955 | I69: wide blue-green margin and creamy yellow centers; white blossoms | R69: =E69*S69 -> 1500 | S69: =BL69 -> 3 | AD69: =SUM(U69,V69,X69,Y69,AB69) -> 0 | AG69: =U69*E69 -> 0 | AI69: =X69*E69 -> 0 | AK69: =SUM(AG69,AI69) -> 0 | AM69: =(U69*E69)*D69 -> 0 | AO69: =(X69*E69)*D69 -> 0 | AQ69: =SUM(AM69:AO69) -> 0 | BA69: 0 | BB69: =IF($K$18<BB$21,0,IF($K$18>BB$22,0,$AU69)) -> 0 | BC69: =IF($K$18<BC$21,0,IF($K$18>BC$22,0,$AV69)) -> 0 | BD69: =IF($K$18<BD$21,0,IF($K$18>BD$22,0,$AW69)) -> 0 | BE69: =IF($K$18<BE$21,0,IF($K$18>BE$22,0,$AX69)) -> 0 | BF69: =IF($K$18<BF$21,0,IF($K$18>BF$22,0,$AY69)) -> 0 | BG69: =IF($K$18<BG$21,0,IF($K$18>BG$22,0,$AZ69)) -> 0 | BH69: =IF($K$18<BH$21,0,IF($K$18>BH$22,0,$BA69)) -> 0 | BI69: =SUM(BB69:BH69) -> 0 | BK69: 1500 | BL69: 3
A70: Dream Weaver | C70: 72 Cell | D70: =BI70 -> 0 | E70: 72 | G70: 7534017 | I70: blue-green leaves w/ cream center- one of the largest blue-leaved, white flowers | R70: =E70*S70 -> 2520 | S70: =BL70 -> 35 | AD70: =SUM(U70,V70,X70,Y70,AB70) -> 0 | AG70: =U70*E70 -> 0 | AI70: =X70*E70 -> 0 | AK70: =SUM(AG70,AI70) -> 0 | AM70: =(U70*E70)*D70 -> 0 | AO70: =(X70*E70)*D70 -> 0 | AQ70: =SUM(AM70:AO70) -> 0 | BA70: 0 | BB70: =IF($K$18<BB$21,0,IF($K$18>BB$22,0,$AU70)) -> 0 | BC70: =IF($K$18<BC$21,0,IF($K$18>BC$22,0,$AV70)) -> 0 | BD70: =IF($K$18<BD$21,0,IF($K$18>BD$22,0,$AW70)) -> 0 | BE70: =IF($K$18<BE$21,0,IF($K$18>BE$22,0,$AX70)) -> 0 | BF70: =IF($K$18<BF$21,0,IF($K$18>BF$22,0,$AY70)) -> 0 | BG70: =IF($K$18<BG$21,0,IF($K$18>BG$22,0,$AZ70)) -> 0 | BH70: =IF($K$18<BH$21,0,IF($K$18>BH$22,0,$BA70)) -> 0 | BI70: =SUM(BB70:BH70) -> 0 | BK70: 2520 | BL70: 35
A71: Earth Angel | C71: #1 Div. | D71: =BI71 -> 0 | E71: 300 | G71: 7533961 | I71: huge blue-green pointed leaves with wide creamy white margins | M71: reverse Patriot, heart-shaped white leaves/wide dark green edge | R71: =E71*S71 -> 2700 | S71: =BL71 -> 9 | AD71: =SUM(U71,V71,X71,Y71,AB71) -> 0 | AG71: =U71*E71 -> 0 | AI71: =X71*E71 -> 0 | AK71: =SUM(AG71,AI71) -> 0 | AM71: =(U71*E71)*D71 -> 0 | AO71: =(X71*E71)*D71 -> 0 | AQ71: =SUM(AM71:AO71) -> 0 | BA71: 0 | BB71: =IF($K$18<BB$21,0,IF($K$18>BB$22,0,$AU71)) -> 0 | BC71: =IF($K$18<BC$21,0,IF($K$18>BC$22,0,$AV71)) -> 0 | BD71: =IF($K$18<BD$21,0,IF($K$18>BD$22,0,$AW71)) -> 0 | BE71: =IF($K$18<BE$21,0,IF($K$18>BE$22,0,$AX71)) -> 0 | BF71: =IF($K$18<BF$21,0,IF($K$18>BF$22,0,$AY71)) -> 0 | BG71: =IF($K$18<BG$21,0,IF($K$18>BG$22,0,$AZ71)) -> 0 | BH71: =IF($K$18<BH$21,0,IF($K$18>BH$22,0,$BA71)) -> 0 | BI71: =SUM(BB71:BH71) -> 0 | BK71: 2700 | BL71: 9
A72: Earth Angel | C72: #2 Div. | D72: =BI72 -> 0 | E72: 500 | G72: 7533964 | I72: huge blue-green pointed leaves with wide creamy white margins | M72: reverse Patriot, heart-shaped white leaves/wide dark green edge | R72: =E72*S72 -> 2500 | S72: =BL72 -> 5 | AD72: =SUM(U72,V72,X72,Y72,AB72) -> 0 | AG72: =U72*E72 -> 0 | AI72: =X72*E72 -> 0 | AK72: =SUM(AG72,AI72) -> 0 | AM72: =(U72*E72)*D72 -> 0 | AO72: =(X72*E72)*D72 -> 0 | AQ72: =SUM(AM72:AO72) -> 0 | BA72: 0 | BB72: =IF($K$18<BB$21,0,IF($K$18>BB$22,0,$AU72)) -> 0 | BC72: =IF($K$18<BC$21,0,IF($K$18>BC$22,0,$AV72)) -> 0 | BD72: =IF($K$18<BD$21,0,IF($K$18>BD$22,0,$AW72)) -> 0 | BE72: =IF($K$18<BE$21,0,IF($K$18>BE$22,0,$AX72)) -> 0 | BF72: =IF($K$18<BF$21,0,IF($K$18>BF$22,0,$AY72)) -> 0 | BG72: =IF($K$18<BG$21,0,IF($K$18>BG$22,0,$AZ72)) -> 0 | BH72: =IF($K$18<BH$21,0,IF($K$18>BH$22,0,$BA72)) -> 0 | BI72: =SUM(BB72:BH72) -> 0 | BK72: 2500 | BL72: 5
A73: Earth Angel | C73: 72 Cell | D73: =BI73 -> 0 | E73: 72 | G73: 7533967 | I73: huge blue-green pointed leaves with wide creamy white margins | M73: reverse Patriot, heart-shaped white leaves/wide dark green edge | R73: =E73*S73 -> 1800 | S73: =BL73 -> 25 | AD73: =SUM(U73,V73,X73,Y73,AB73) -> 0 | AG73: =U73*E73 -> 0 | AI73: =X73*E73 -> 0 | AK73: =SUM(AG73,AI73) -> 0 | AM73: =(U73*E73)*D73 -> 0 | AO73: =(X73*E73)*D73 -> 0 | AQ73: =SUM(AM73:AO73) -> 0 | BA73: 0 | BB73: =IF($K$18<BB$21,0,IF($K$18>BB$22,0,$AU73)) -> 0 | BC73: =IF($K$18<BC$21,0,IF($K$18>BC$22,0,$AV73)) -> 0 | BD73: =IF($K$18<BD$21,0,IF($K$18>BD$22,0,$AW73)) -> 0 | BE73: =IF($K$18<BE$21,0,IF($K$18>BE$22,0,$AX73)) -> 0 | BF73: =IF($K$18<BF$21,0,IF($K$18>BF$22,0,$AY73)) -> 0 | BG73: =IF($K$18<BG$21,0,IF($K$18>BG$22,0,$AZ73)) -> 0 | BH73: =IF($K$18<BH$21,0,IF($K$18>BH$22,0,$BA73)) -> 0 | BI73: =SUM(BB73:BH73) -> 0 | BK73: 1800 | BL73: 25
A74: Emerald Ruff Cut | C74: 72 Cell | D74: =BI74 -> 0 | E74: 72 | G74: 7534037 | I74: medium, bright golden leaves have a wavy, dark green margin | R74: =E74*S74 -> 1008 | S74: =BL74 -> 14 | AD74: =SUM(U74,V74,X74,Y74,AB74) -> 0 | AG74: =U74*E74 -> 0 | AI74: =X74*E74 -> 0 | AK74: =SUM(AG74,AI74) -> 0 | AM74: =(U74*E74)*D74 -> 0 | AO74: =(X74*E74)*D74 -> 0 | AQ74: =SUM(AM74:AO74) -> 0 | BA74: 0 | BB74: =IF($K$18<BB$21,0,IF($K$18>BB$22,0,$AU74)) -> 0 | BC74: =IF($K$18<BC$21,0,IF($K$18>BC$22,0,$AV74)) -> 0 | BD74: =IF($K$18<BD$21,0,IF($K$18>BD$22,0,$AW74)) -> 0 | BE74: =IF($K$18<BE$21,0,IF($K$18>BE$22,0,$AX74)) -> 0 | BF74: =IF($K$18<BF$21,0,IF($K$18>BF$22,0,$AY74)) -> 0 | BG74: =IF($K$18<BG$21,0,IF($K$18>BG$22,0,$AZ74)) -> 0 | BH74: =IF($K$18<BH$21,0,IF($K$18>BH$22,0,$BA74)) -> 0 | BI74: =SUM(BB74:BH74) -> 0 | BK74: 1008 | BL74: 14
A75: Fire & Ice | C75: #1 Div. | D75: =BI75 -> 0 | E75: 300 | G75: 7534101 | I75: medium-large heart-shaped white leaves with wide dark green edge, lavender flowers | R75: S/O | S75: S/O | AD75: =SUM(U75,V75,X75,Y75,AB75) -> 0 | AG75: =U75*E75 -> 0 | AI75: =X75*E75 -> 0 | AK75: =SUM(AG75,AI75) -> 0 | AM75: =(U75*E75)*D75 -> 0 | AO75: =(X75*E75)*D75 -> 0 | AQ75: =SUM(AM75:AO75) -> 0 | BA75: 0 | BB75: =IF($K$18<BB$21,0,IF($K$18>BB$22,0,$AU75)) -> 0 | BC75: =IF($K$18<BC$21,0,IF($K$18>BC$22,0,$AV75)) -> 0 | BD75: =IF($K$18<BD$21,0,IF($K$18>BD$22,0,$AW75)) -> 0 | BE75: =IF($K$18<BE$21,0,IF($K$18>BE$22,0,$AX75)) -> 0 | BF75: =IF($K$18<BF$21,0,IF($K$18>BF$22,0,$AY75)) -> 0 | BG75: =IF($K$18<BG$21,0,IF($K$18>BG$22,0,$AZ75)) -> 0 | BH75: =IF($K$18<BH$21,0,IF($K$18>BH$22,0,$BA75)) -> 0 | BI75: =SUM(BB75:BH75) -> 0 | BK75: S/O | BL75: 0
A76: Fire & Ice - ADDED SIZE | C76: 72 Cell | D76: =BI76 -> 0 | E76: 72 | G76: 7534107 | I76: medium-large heart-shaped white leaves with wide dark green edge, lavender flowers | R76: =E76*S76 -> 1008 | S76: =BL76 -> 14 | AD76: =SUM(U76,V76,X76,Y76,AB76) -> 0 | AG76: =U76*E76 -> 0 | AI76: =X76*E76 -> 0 | AK76: =SUM(AG76,AI76) -> 0 | AM76: =(U76*E76)*D76 -> 0 | AO76: =(X76*E76)*D76 -> 0 | AQ76: =SUM(AM76:AO76) -> 0 | BA76: 0 | BB76: =IF($K$18<BB$21,0,IF($K$18>BB$22,0,$AU76)) -> 0 | BC76: =IF($K$18<BC$21,0,IF($K$18>BC$22,0,$AV76)) -> 0 | BD76: =IF($K$18<BD$21,0,IF($K$18>BD$22,0,$AW76)) -> 0 | BE76: =IF($K$18<BE$21,0,IF($K$18>BE$22,0,$AX76)) -> 0 | BF76: =IF($K$18<BF$21,0,IF($K$18>BF$22,0,$AY76)) -> 0 | BG76: =IF($K$18<BG$21,0,IF($K$18>BG$22,0,$AZ76)) -> 0 | BH76: =IF($K$18<BH$21,0,IF($K$18>BH$22,0,$BA76)) -> 0 | BI76: =SUM(BB76:BH76) -> 0 | BK76: 1008 | BL76: 14
A77: Fire Island | C77: 72 Cell | D77: =BI77 -> 0 | E77: 72 | G77: 7534087 | I77: bright yellow leaves on red petioles, small stature & lavender flowers | R77: =E77*S77 -> 2016 | S77: =BL77 -> 28 | AD77: =SUM(U77,V77,X77,Y77,AB77) -> 0 | AG77: =U77*E77 -> 0 | AI77: =X77*E77 -> 0 | AK77: =SUM(AG77,AI77) -> 0 | AM77: =(U77*E77)*D77 -> 0 | AO77: =(X77*E77)*D77 -> 0 | AQ77: =SUM(AM77:AO77) -> 0 | BA77: 0 | BB77: =IF($K$18<BB$21,0,IF($K$18>BB$22,0,$AU77)) -> 0 | BC77: =IF($K$18<BC$21,0,IF($K$18>BC$22,0,$AV77)) -> 0 | BD77: =IF($K$18<BD$21,0,IF($K$18>BD$22,0,$AW77)) -> 0 | BE77: =IF($K$18<BE$21,0,IF($K$18>BE$22,0,$AX77)) -> 0 | BF77: =IF($K$18<BF$21,0,IF($K$18>BF$22,0,$AY77)) -> 0 | BG77: =IF($K$18<BG$21,0,IF($K$18>BG$22,0,$AZ77)) -> 0 | BH77: =IF($K$18<BH$21,0,IF($K$18>BH$22,0,$BA77)) -> 0 | BI77: =SUM(BB77:BH77) -> 0 | BK77: 2016 | BL77: 28
A78: Fire Island | C78: 105 Cell | D78: =BI78 -> 0 | E78: 105 | G78: 7134104 | I78: bright yellow leaves on red petioles, small stature & lavender flowers | R78: =E78*S78 -> 1470 | S78: =BL78 -> 14 | AD78: =SUM(U78,V78,X78,Y78,AB78) -> 0 | AG78: =U78*E78 -> 0 | AI78: =X78*E78 -> 0 | AK78: =SUM(AG78,AI78) -> 0 | AM78: =(U78*E78)*D78 -> 0 | AO78: =(X78*E78)*D78 -> 0 | AQ78: =SUM(AM78:AO78) -> 0 | BA78: 0 | BB78: =IF($K$18<BB$21,0,IF($K$18>BB$22,0,$AU78)) -> 0 | BC78: =IF($K$18<BC$21,0,IF($K$18>BC$22,0,$AV78)) -> 0 | BD78: =IF($K$18<BD$21,0,IF($K$18>BD$22,0,$AW78)) -> 0 | BE78: =IF($K$18<BE$21,0,IF($K$18>BE$22,0,$AX78)) -> 0 | BF78: =IF($K$18<BF$21,0,IF($K$18>BF$22,0,$AY78)) -> 0 | BG78: =IF($K$18<BG$21,0,IF($K$18>BG$22,0,$AZ78)) -> 0 | BH78: =IF($K$18<BH$21,0,IF($K$18>BH$22,0,$BA78)) -> 0 | BI78: =SUM(BB78:BH78) -> 0 | BK78: 1470 | BL78: 14
A79: First Frost | C79: #1 Div. | D79: =BI79 -> 0 | E79: 300 | G79: 7534131 | I79: blue-green with creamy yellow margins. 2010 Hosta of the Year | M79: blue-green with creamy yellow margins. 2010 Hosta of the Year | R79: =E79*S79 -> 111000 | S79: =BL79 -> 370 | AD79: =SUM(U79,V79,X79,Y79,AB79) -> 0 | AG79: =U79*E79 -> 0 | AI79: =X79*E79 -> 0 | AK79: =SUM(AG79,AI79) -> 0 | AM79: =(U79*E79)*D79 -> 0 | AO79: =(X79*E79)*D79 -> 0 | AQ79: =SUM(AM79:AO79) -> 0 | BA79: 0 | BB79: =IF($K$18<BB$21,0,IF($K$18>BB$22,0,$AU79)) -> 0 | BC79: =IF($K$18<BC$21,0,IF($K$18>BC$22,0,$AV79)) -> 0 | BD79: =IF($K$18<BD$21,0,IF($K$18>BD$22,0,$AW79)) -> 0 | BE79: =IF($K$18<BE$21,0,IF($K$18>BE$22,0,$AX79)) -> 0 | BF79: =IF($K$18<BF$21,0,IF($K$18>BF$22,0,$AY79)) -> 0 | BG79: =IF($K$18<BG$21,0,IF($K$18>BG$22,0,$AZ79)) -> 0 | BH79: =IF($K$18<BH$21,0,IF($K$18>BH$22,0,$BA79)) -> 0 | BI79: =SUM(BB79:BH79) -> 0 | BK79: 111000 | BL79: 370
A80: First Frost | C80: #2 Div. | D80: =BI80 -> 0 | E80: 500 | G80: 7534134 | I80: blue-green with creamy yellow margins. 2010 Hosta of the Year | M80: blue-green with creamy yellow margins. 2010 Hosta of the Year | R80: =E80*S80 -> 9000 | S80: =BL80 -> 18 | AD80: =SUM(U80,V80,X80,Y80,AB80) -> 0 | AG80: =U80*E80 -> 0 | AI80: =X80*E80 -> 0 | AK80: =SUM(AG80,AI80) -> 0 | AM80: =(U80*E80)*D80 -> 0 | AO80: =(X80*E80)*D80 -> 0 | AQ80: =SUM(AM80:AO80) -> 0 | BA80: 0 | BB80: =IF($K$18<BB$21,0,IF($K$18>BB$22,0,$AU80)) -> 0 | BC80: =IF($K$18<BC$21,0,IF($K$18>BC$22,0,$AV80)) -> 0 | BD80: =IF($K$18<BD$21,0,IF($K$18>BD$22,0,$AW80)) -> 0 | BE80: =IF($K$18<BE$21,0,IF($K$18>BE$22,0,$AX80)) -> 0 | BF80: =IF($K$18<BF$21,0,IF($K$18>BF$22,0,$AY80)) -> 0 | BG80: =IF($K$18<BG$21,0,IF($K$18>BG$22,0,$AZ80)) -> 0 | BH80: =IF($K$18<BH$21,0,IF($K$18>BH$22,0,$BA80)) -> 0 | BI80: =SUM(BB80:BH80) -> 0 | BK80: 9000 | BL80: 18
A81: Forbidden Fruit | C81: #1 Div. | D81: =BI81 -> 0 | E81: 300 | G81: 7534151 | I81: a tet. sport of 'Orange Marmelade', thick blue leaves w/ orge-ylw cntr | R81: =E81*S81 -> 49200 | S81: =BL81 -> 164 | AD81: =SUM(U81,V81,X81,Y81,AB81) -> 0 | AG81: =U81*E81 -> 0 | AI81: =X81*E81 -> 0 | AK81: =SUM(AG81,AI81) -> 0 | AM81: =(U81*E81)*D81 -> 0 | AO81: =(X81*E81)*D81 -> 0 | AQ81: =SUM(AM81:AO81) -> 0 | BA81: 0 | BB81: =IF($K$18<BB$21,0,IF($K$18>BB$22,0,$AU81)) -> 0 | BC81: =IF($K$18<BC$21,0,IF($K$18>BC$22,0,$AV81)) -> 0 | BD81: =IF($K$18<BD$21,0,IF($K$18>BD$22,0,$AW81)) -> 0 | BE81: =IF($K$18<BE$21,0,IF($K$18>BE$22,0,$AX81)) -> 0 | BF81: =IF($K$18<BF$21,0,IF($K$18>BF$22,0,$AY81)) -> 0 | BG81: =IF($K$18<BG$21,0,IF($K$18>BG$22,0,$AZ81)) -> 0 | BH81: =IF($K$18<BH$21,0,IF($K$18>BH$22,0,$BA81)) -> 0 | BI81: =SUM(BB81:BH81) -> 0 | BK81: 49200 | BL81: 164
A82: Forbidden Fruit | C82: #2 Div. | D82: =BI82 -> 0 | E82: 500 | G82: 7534154 | I82: a tet. sport of 'Orange Marmelade', thick blue leaves w/ orge-ylw cntr | R82: =E82*S82 -> 10500 | S82: =BL82 -> 21 | AD82: =SUM(U82,V82,X82,Y82,AB82) -> 0 | AG82: =U82*E82 -> 0 | AI82: =X82*E82 -> 0 | AK82: =SUM(AG82,AI82) -> 0 | AM82: =(U82*E82)*D82 -> 0 | AO82: =(X82*E82)*D82 -> 0 | AQ82: =SUM(AM82:AO82) -> 0 | BA82: 0 | BB82: =IF($K$18<BB$21,0,IF($K$18>BB$22,0,$AU82)) -> 0 | BC82: =IF($K$18<BC$21,0,IF($K$18>BC$22,0,$AV82)) -> 0 | BD82: =IF($K$18<BD$21,0,IF($K$18>BD$22,0,$AW82)) -> 0 | BE82: =IF($K$18<BE$21,0,IF($K$18>BE$22,0,$AX82)) -> 0 | BF82: =IF($K$18<BF$21,0,IF($K$18>BF$22,0,$AY82)) -> 0 | BG82: =IF($K$18<BG$21,0,IF($K$18>BG$22,0,$AZ82)) -> 0 | BH82: =IF($K$18<BH$21,0,IF($K$18>BH$22,0,$BA82)) -> 0 | BI82: =SUM(BB82:BH82) -> 0 | BK82: 10500 | BL82: 21
A83: Fortunei Aureomarginata | B83: NEW | C83: #1 Div. | D83: =BI83 -> 0 | E83: 300 | G83: 7534201 | I83: medium. Dark green leaves with golden yellow edges and lilac flowers | R83: =E83*S83 -> 99900 | S83: =BL83 -> 333 | AD83: =SUM(U83,V83,X83,Y83,AB83) -> 0 | AG83: =U83*E83 -> 0 | AI83: =X83*E83 -> 0 | AK83: =SUM(AG83,AI83) -> 0 | AM83: =(U83*E83)*D83 -> 0 | AO83: =(X83*E83)*D83 -> 0 | AQ83: =SUM(AM83:AO83) -> 0 | BA83: 0 | BB83: =IF($K$18<BB$21,0,IF($K$18>BB$22,0,$AU83)) -> 0 | BC83: =IF($K$18<BC$21,0,IF($K$18>BC$22,0,$AV83)) -> 0 | BD83: =IF($K$18<BD$21,0,IF($K$18>BD$22,0,$AW83)) -> 0 | BE83: =IF($K$18<BE$21,0,IF($K$18>BE$22,0,$AX83)) -> 0 | BF83: =IF($K$18<BF$21,0,IF($K$18>BF$22,0,$AY83)) -> 0 | BG83: =IF($K$18<BG$21,0,IF($K$18>BG$22,0,$AZ83)) -> 0 | BH83: =IF($K$18<BH$21,0,IF($K$18>BH$22,0,$BA83)) -> 0 | BI83: =SUM(BB83:BH83) -> 0 | BK83: 99900 | BL83: 333
A84: Fortunei Aureomarginata | B84: NEW | C84: #2 Div. | D84: =BI84 -> 0 | E84: 500 | G84: 7534204 | I84: medium. Dark green leaves with golden yellow edges and lilac flowers | R84: =E84*S84 -> 25000 | S84: =BL84 -> 50 | AD84: =SUM(U84,V84,X84,Y84,AB84) -> 0 | AG84: =U84*E84 -> 0 | AI84: =X84*E84 -> 0 | AK84: =SUM(AG84,AI84) -> 0 | AM84: =(U84*E84)*D84 -> 0 | AO84: =(X84*E84)*D84 -> 0 | AQ84: =SUM(AM84:AO84) -> 0 | BA84: 0 | BB84: =IF($K$18<BB$21,0,IF($K$18>BB$22,0,$AU84)) -> 0 | BC84: =IF($K$18<BC$21,0,IF($K$18>BC$22,0,$AV84)) -> 0 | BD84: =IF($K$18<BD$21,0,IF($K$18>BD$22,0,$AW84)) -> 0 | BE84: =IF($K$18<BE$21,0,IF($K$18>BE$22,0,$AX84)) -> 0 | BF84: =IF($K$18<BF$21,0,IF($K$18>BF$22,0,$AY84)) -> 0 | BG84: =IF($K$18<BG$21,0,IF($K$18>BG$22,0,$AZ84)) -> 0 | BH84: =IF($K$18<BH$21,0,IF($K$18>BH$22,0,$BA84)) -> 0 | BI84: =SUM(BB84:BH84) -> 0 | BK84: 25000 | BL84: 50
A85: Francee | C85: #1 Div. | D85: =BI85 -> 0 | E85: 300 | G85: 7534401 | I85: medium-large, dark green leaves with narrow white edges, lavender flowers | R85: =E85*S85 -> 99900 | S85: =BL85 -> 333 | AD85: =SUM(U85,V85,X85,Y85,AB85) -> 0 | AG85: =U85*E85 -> 0 | AI85: =X85*E85 -> 0 | AK85: =SUM(AG85,AI85) -> 0 | AM85: =(U85*E85)*D85 -> 0 | AO85: =(X85*E85)*D85 -> 0 | AQ85: =SUM(AM85:AO85) -> 0 | BA85: 0 | BB85: =IF($K$18<BB$21,0,IF($K$18>BB$22,0,$AU85)) -> 0 | BC85: =IF($K$18<BC$21,0,IF($K$18>BC$22,0,$AV85)) -> 0 | BD85: =IF($K$18<BD$21,0,IF($K$18>BD$22,0,$AW85)) -> 0 | BE85: =IF($K$18<BE$21,0,IF($K$18>BE$22,0,$AX85)) -> 0 | BF85: =IF($K$18<BF$21,0,IF($K$18>BF$22,0,$AY85)) -> 0 | BG85: =IF($K$18<BG$21,0,IF($K$18>BG$22,0,$AZ85)) -> 0 | BH85: =IF($K$18<BH$21,0,IF($K$18>BH$22,0,$BA85)) -> 0 | BI85: =SUM(BB85:BH85) -> 0 | BK85: 99900 | BL85: 333
A86: Francee | C86: #2 Div. | D86: =BI86 -> 0 | E86: 500 | G86: 7534404 | I86: medium-large, dark green leaves with narrow white edges, lavender flowers | R86: S/O | S86: S/O | AD86: =SUM(U86,V86,X86,Y86,AB86) -> 0 | AG86: =U86*E86 -> 0 | AI86: =X86*E86 -> 0 | AK86: =SUM(AG86,AI86) -> 0 | AM86: =(U86*E86)*D86 -> 0 | AO86: =(X86*E86)*D86 -> 0 | AQ86: =SUM(AM86:AO86) -> 0 | BA86: 0 | BB86: =IF($K$18<BB$21,0,IF($K$18>BB$22,0,$AU86)) -> 0 | BC86: =IF($K$18<BC$21,0,IF($K$18>BC$22,0,$AV86)) -> 0 | BD86: =IF($K$18<BD$21,0,IF($K$18>BD$22,0,$AW86)) -> 0 | BE86: =IF($K$18<BE$21,0,IF($K$18>BE$22,0,$AX86)) -> 0 | BF86: =IF($K$18<BF$21,0,IF($K$18>BF$22,0,$AY86)) -> 0 | BG86: =IF($K$18<BG$21,0,IF($K$18>BG$22,0,$AZ86)) -> 0 | BH86: =IF($K$18<BH$21,0,IF($K$18>BH$22,0,$BA86)) -> 0 | BI86: =SUM(BB86:BH86) -> 0 | BK86: S/O | BL86: 0
A87: Francee | C87: 72 Cell | D87: =BI87 -> 0 | E87: 72 | G87: 7534407 | I87: medium-large, dark green leaves with narrow white edges, lavender flowers | R87: =E87*S87 -> 4032 | S87: =BL87 -> 56 | AD87: =SUM(U87,V87,X87,Y87,AB87) -> 0 | AG87: =U87*E87 -> 0 | AI87: =X87*E87 -> 0 | AK87: =SUM(AG87,AI87) -> 0 | AM87: =(U87*E87)*D87 -> 0 | AO87: =(X87*E87)*D87 -> 0 | AQ87: =SUM(AM87:AO87) -> 0 | BA87: 0 | BB87: =IF($K$18<BB$21,0,IF($K$18>BB$22,0,$AU87)) -> 0 | BC87: =IF($K$18<BC$21,0,IF($K$18>BC$22,0,$AV87)) -> 0 | BD87: =IF($K$18<BD$21,0,IF($K$18>BD$22,0,$AW87)) -> 0 | BE87: =IF($K$18<BE$21,0,IF($K$18>BE$22,0,$AX87)) -> 0 | BF87: =IF($K$18<BF$21,0,IF($K$18>BF$22,0,$AY87)) -> 0 | BG87: =IF($K$18<BG$21,0,IF($K$18>BG$22,0,$AZ87)) -> 0 | BH87: =IF($K$18<BH$21,0,IF($K$18>BH$22,0,$BA87)) -> 0 | BI87: =SUM(BB87:BH87) -> 0 | BK87: 4032 | BL87: 56
A88: Fragrant Bouquet | C88: #1 Div. | D88: =BI88 -> 0 | E88: 300 | G88: 7534301 | I88: green heart-shaped leaves with yellow edges, large fragrant white flowers | R88: =E88*S88 -> 95400 | S88: =BL88 -> 318 | AD88: =SUM(U88,V88,X88,Y88,AB88) -> 0 | AG88: =U88*E88 -> 0 | AI88: =X88*E88 -> 0 | AK88: =SUM(AG88,AI88) -> 0 | AM88: =(U88*E88)*D88 -> 0 | AO88: =(X88*E88)*D88 -> 0 | AQ88: =SUM(AM88:AO88) -> 0 | BA88: 0 | BB88: =IF($K$18<BB$21,0,IF($K$18>BB$22,0,$AU88)) -> 0 | BC88: =IF($K$18<BC$21,0,IF($K$18>BC$22,0,$AV88)) -> 0 | BD88: =IF($K$18<BD$21,0,IF($K$18>BD$22,0,$AW88)) -> 0 | BE88: =IF($K$18<BE$21,0,IF($K$18>BE$22,0,$AX88)) -> 0 | BF88: =IF($K$18<BF$21,0,IF($K$18>BF$22,0,$AY88)) -> 0 | BG88: =IF($K$18<BG$21,0,IF($K$18>BG$22,0,$AZ88)) -> 0 | BH88: =IF($K$18<BH$21,0,IF($K$18>BH$22,0,$BA88)) -> 0 | BI88: =SUM(BB88:BH88) -> 0 | BK88: 95400 | BL88: 318
A89: Fragrant Bouquet | C89: #2 Div. | D89: =BI89 -> 0 | E89: 500 | G89: 7534305 | I89: green heart-shaped leaves with yellow edges, large fragrant white flowers | R89: S/O | S89: S/O | AD89: =SUM(U89,V89,X89,Y89,AB89) -> 0 | AG89: =U89*E89 -> 0 | AI89: =X89*E89 -> 0 | AK89: =SUM(AG89,AI89) -> 0 | AM89: =(U89*E89)*D89 -> 0 | AO89: =(X89*E89)*D89 -> 0 | AQ89: =SUM(AM89:AO89) -> 0 | BA89: 0 | BB89: =IF($K$18<BB$21,0,IF($K$18>BB$22,0,$AU89)) -> 0 | BC89: =IF($K$18<BC$21,0,IF($K$18>BC$22,0,$AV89)) -> 0 | BD89: =IF($K$18<BD$21,0,IF($K$18>BD$22,0,$AW89)) -> 0 | BE89: =IF($K$18<BE$21,0,IF($K$18>BE$22,0,$AX89)) -> 0 | BF89: =IF($K$18<BF$21,0,IF($K$18>BF$22,0,$AY89)) -> 0 | BG89: =IF($K$18<BG$21,0,IF($K$18>BG$22,0,$AZ89)) -> 0 | BH89: =IF($K$18<BH$21,0,IF($K$18>BH$22,0,$BA89)) -> 0 | BI89: =SUM(BB89:BH89) -> 0 | BK89: S/O | BL89: 0
A90: Frances Williams | C90: #1 Div. | D90: =BI90 -> 0 | E90: 300 | G90: 7534501 | I90: puckered blue-green leaves w/ wide yellow edge, white flowers | R90: =E90*S90 -> 70500 | S90: =BL90 -> 235 | AD90: =SUM(U90,V90,X90,Y90,AB90) -> 0 | AG90: =U90*E90 -> 0 | AI90: =X90*E90 -> 0 | AK90: =SUM(AG90,AI90) -> 0 | AM90: =(U90*E90)*D90 -> 0 | AO90: =(X90*E90)*D90 -> 0 | AQ90: =SUM(AM90:AO90) -> 0 | BA90: 0 | BB90: =IF($K$18<BB$21,0,IF($K$18>BB$22,0,$AU90)) -> 0 | BC90: =IF($K$18<BC$21,0,IF($K$18>BC$22,0,$AV90)) -> 0 | BD90: =IF($K$18<BD$21,0,IF($K$18>BD$22,0,$AW90)) -> 0 | BE90: =IF($K$18<BE$21,0,IF($K$18>BE$22,0,$AX90)) -> 0 | BF90: =IF($K$18<BF$21,0,IF($K$18>BF$22,0,$AY90)) -> 0 | BG90: =IF($K$18<BG$21,0,IF($K$18>BG$22,0,$AZ90)) -> 0 | BH90: =IF($K$18<BH$21,0,IF($K$18>BH$22,0,$BA90)) -> 0 | BI90: =SUM(BB90:BH90) -> 0 | BK90: 70500 | BL90: 235
A91: Frances Williams | C91: #2 Div. | D91: =BI91 -> 0 | E91: 500 | G91: 7534504 | I91: puckered blue-green leaves w/ wide yellow edge, white flowers | R91: =E91*S91 -> 16000 | S91: =BL91 -> 32 | AD91: =SUM(U91,V91,X91,Y91,AB91) -> 0 | AG91: =U91*E91 -> 0 | AI91: =X91*E91 -> 0 | AK91: =SUM(AG91,AI91) -> 0 | AM91: =(U91*E91)*D91 -> 0 | AO91: =(X91*E91)*D91 -> 0 | AQ91: =SUM(AM91:AO91) -> 0 | BA91: 0 | BB91: =IF($K$18<BB$21,0,IF($K$18>BB$22,0,$AU91)) -> 0 | BC91: =IF($K$18<BC$21,0,IF($K$18>BC$22,0,$AV91)) -> 0 | BD91: =IF($K$18<BD$21,0,IF($K$18>BD$22,0,$AW91)) -> 0 | BE91: =IF($K$18<BE$21,0,IF($K$18>BE$22,0,$AX91)) -> 0 | BF91: =IF($K$18<BF$21,0,IF($K$18>BF$22,0,$AY91)) -> 0 | BG91: =IF($K$18<BG$21,0,IF($K$18>BG$22,0,$AZ91)) -> 0 | BH91: =IF($K$18<BH$21,0,IF($K$18>BH$22,0,$BA91)) -> 0 | BI91: =SUM(BB91:BH91) -> 0 | BK91: 16000 | BL91: 32
A92: Frances Williams | C92: 72 Cell | D92: =BI92 -> 0 | E92: 72 | G92: 7534507 | I92: puckered blue-green leaves w/ wide yellow edge, white flowers | R92: =E92*S92 -> 2016 | S92: =BL92 -> 28 | AD92: =SUM(U92,V92,X92,Y92,AB92) -> 0 | AG92: =U92*E92 -> 0 | AI92: =X92*E92 -> 0 | AK92: =SUM(AG92,AI92) -> 0 | AM92: =(U92*E92)*D92 -> 0 | AO92: =(X92*E92)*D92 -> 0 | AQ92: =SUM(AM92:AO92) -> 0 | BA92: 0 | BB92: =IF($K$18<BB$21,0,IF($K$18>BB$22,0,$AU92)) -> 0 | BC92: =IF($K$18<BC$21,0,IF($K$18>BC$22,0,$AV92)) -> 0 | BD92: =IF($K$18<BD$21,0,IF($K$18>BD$22,0,$AW92)) -> 0 | BE92: =IF($K$18<BE$21,0,IF($K$18>BE$22,0,$AX92)) -> 0 | BF92: =IF($K$18<BF$21,0,IF($K$18>BF$22,0,$AY92)) -> 0 | BG92: =IF($K$18<BG$21,0,IF($K$18>BG$22,0,$AZ92)) -> 0 | BH92: =IF($K$18<BH$21,0,IF($K$18>BH$22,0,$BA92)) -> 0 | BI92: =SUM(BB92:BH92) -> 0 | BK92: 2016 | BL92: 28
A93: Frozen Margarita | C93: #1 Div. | D93: =BI93 -> 0 | E93: 300 | G93: 7534541 | I93: chartreuse with creamy white edge | R93: =E93*S93 -> 6000 | S93: =BL93 -> 20 | AD93: =SUM(U93,V93,X93,Y93,AB93) -> 0 | AG93: =U93*E93 -> 0 | AI93: =X93*E93 -> 0 | AK93: =SUM(AG93,AI93) -> 0 | AM93: =(U93*E93)*D93 -> 0 | AO93: =(X93*E93)*D93 -> 0 | AQ93: =SUM(AM93:AO93) -> 0 | BA93: 0 | BB93: =IF($K$18<BB$21,0,IF($K$18>BB$22,0,$AU93)) -> 0 | BC93: =IF($K$18<BC$21,0,IF($K$18>BC$22,0,$AV93)) -> 0 | BD93: =IF($K$18<BD$21,0,IF($K$18>BD$22,0,$AW93)) -> 0 | BE93: =IF($K$18<BE$21,0,IF($K$18>BE$22,0,$AX93)) -> 0 | BF93: =IF($K$18<BF$21,0,IF($K$18>BF$22,0,$AY93)) -> 0 | BG93: =IF($K$18<BG$21,0,IF($K$18>BG$22,0,$AZ93)) -> 0 | BH93: =IF($K$18<BH$21,0,IF($K$18>BH$22,0,$BA93)) -> 0 | BI93: =SUM(BB93:BH93) -> 0 | BK93: 6000 | BL93: 20
A94: Frozen Margarita | C94: #2 Div. | D94: =BI94 -> 0 | E94: 500 | G94: 7534545 | I94: chartreuse with creamy white edge | R94: S/O | S94: S/O | AD94: =SUM(U94,V94,X94,Y94,AB94) -> 0 | AG94: =U94*E94 -> 0 | AI94: =X94*E94 -> 0 | AK94: =SUM(AG94,AI94) -> 0 | AM94: =(U94*E94)*D94 -> 0 | AO94: =(X94*E94)*D94 -> 0 | AQ94: =SUM(AM94:AO94) -> 0 | BA94: 0 | BB94: =IF($K$18<BB$21,0,IF($K$18>BB$22,0,$AU94)) -> 0 | BC94: =IF($K$18<BC$21,0,IF($K$18>BC$22,0,$AV94)) -> 0 | BD94: =IF($K$18<BD$21,0,IF($K$18>BD$22,0,$AW94)) -> 0 | BE94: =IF($K$18<BE$21,0,IF($K$18>BE$22,0,$AX94)) -> 0 | BF94: =IF($K$18<BF$21,0,IF($K$18>BF$22,0,$AY94)) -> 0 | BG94: =IF($K$18<BG$21,0,IF($K$18>BG$22,0,$AZ94)) -> 0 | BH94: =IF($K$18<BH$21,0,IF($K$18>BH$22,0,$BA94)) -> 0 | BI94: =SUM(BB94:BH94) -> 0 | BK94: S/O | BL94: 0
A95: Funny Mouse | C95: #1 Div. | D95: =BI95 -> 0 | E95: 300 | G95: 7534551 | I95: mini, sport of Hosta Blue Mouse Ears, blue-green leaves with white margins | R95: =E95*S95 -> 45900 | S95: =BL95 -> 153 | AD95: =SUM(U95,V95,X95,Y95,AB95) -> 0 | AG95: =U95*E95 -> 0 | AI95: =X95*E95 -> 0 | AK95: =SUM(AG95,AI95) -> 0 | AM95: =(U95*E95)*D95 -> 0 | AO95: =(X95*E95)*D95 -> 0 | AQ95: =SUM(AM95:AO95) -> 0 | BA95: 0 | BB95: =IF($K$18<BB$21,0,IF($K$18>BB$22,0,$AU95)) -> 0 | BC95: =IF($K$18<BC$21,0,IF($K$18>BC$22,0,$AV95)) -> 0 | BD95: =IF($K$18<BD$21,0,IF($K$18>BD$22,0,$AW95)) -> 0 | BE95: =IF($K$18<BE$21,0,IF($K$18>BE$22,0,$AX95)) -> 0 | BF95: =IF($K$18<BF$21,0,IF($K$18>BF$22,0,$AY95)) -> 0 | BG95: =IF($K$18<BG$21,0,IF($K$18>BG$22,0,$AZ95)) -> 0 | BH95: =IF($K$18<BH$21,0,IF($K$18>BH$22,0,$BA95)) -> 0 | BI95: =SUM(BB95:BH95) -> 0 | BK95: 45900 | BL95: 153
A96: Funny Mouse | C96: #2 Div. | D96: =BI96 -> 0 | E96: 500 | G96: 7534555 | I96: mini, sport of Hosta Blue Mouse Ears, blue-green leaves with white margins | R96: =E96*S96 -> 24000 | S96: =BL96 -> 48 | AD96: =SUM(U96,V96,X96,Y96,AB96) -> 0 | AG96: =U96*E96 -> 0 | AI96: =X96*E96 -> 0 | AK96: =SUM(AG96,AI96) -> 0 | AM96: =(U96*E96)*D96 -> 0 | AO96: =(X96*E96)*D96 -> 0 | AQ96: =SUM(AM96:AO96) -> 0 | BA96: 0 | BB96: =IF($K$18<BB$21,0,IF($K$18>BB$22,0,$AU96)) -> 0 | BC96: =IF($K$18<BC$21,0,IF($K$18>BC$22,0,$AV96)) -> 0 | BD96: =IF($K$18<BD$21,0,IF($K$18>BD$22,0,$AW96)) -> 0 | BE96: =IF($K$18<BE$21,0,IF($K$18>BE$22,0,$AX96)) -> 0 | BF96: =IF($K$18<BF$21,0,IF($K$18>BF$22,0,$AY96)) -> 0 | BG96: =IF($K$18<BG$21,0,IF($K$18>BG$22,0,$AZ96)) -> 0 | BH96: =IF($K$18<BH$21,0,IF($K$18>BH$22,0,$BA96)) -> 0 | BI96: =SUM(BB96:BH96) -> 0 | BK96: 24000 | BL96: 48
A97: Golden Tiara | C97: #1 Div. | D97: =BI97 -> 0 | E97: 300 | G97: 7534901 | I97: tidy dense form, green leaves with yellow margins, showy purple flowers | R97: =E97*S97 -> 35100 | S97: =BL97 -> 117 | AD97: =SUM(U97,V97,X97,Y97,AB97) -> 0 | AG97: =U97*E97 -> 0 | AI97: =X97*E97 -> 0 | AK97: =SUM(AG97,AI97) -> 0 | AM97: =(U97*E97)*D97 -> 0 | AO97: =(X97*E97)*D97 -> 0 | AQ97: =SUM(AM97:AO97) -> 0 | BA97: 0 | BB97: =IF($K$18<BB$21,0,IF($K$18>BB$22,0,$AU97)) -> 0 | BC97: =IF($K$18<BC$21,0,IF($K$18>BC$22,0,$AV97)) -> 0 | BD97: =IF($K$18<BD$21,0,IF($K$18>BD$22,0,$AW97)) -> 0 | BE97: =IF($K$18<BE$21,0,IF($K$18>BE$22,0,$AX97)) -> 0 | BF97: =IF($K$18<BF$21,0,IF($K$18>BF$22,0,$AY97)) -> 0 | BG97: =IF($K$18<BG$21,0,IF($K$18>BG$22,0,$AZ97)) -> 0 | BH97: =IF($K$18<BH$21,0,IF($K$18>BH$22,0,$BA97)) -> 0 | BI97: =SUM(BB97:BH97) -> 0 | BK97: 35100 | BL97: 117
A98: Golden Tiara | C98: #2 Div. | D98: =BI98 -> 0 | E98: 500 | G98: 7534905 | I98: tidy dense form, green leaves with yellow margins, showy purple flowers | R98: =E98*S98 -> 2500 | S98: =BL98 -> 5 | AD98: =SUM(U98,V98,X98,Y98,AB98) -> 0 | AG98: =U98*E98 -> 0 | AI98: =X98*E98 -> 0 | AK98: =SUM(AG98,AI98) -> 0 | AM98: =(U98*E98)*D98 -> 0 | AO98: =(X98*E98)*D98 -> 0 | AQ98: =SUM(AM98:AO98) -> 0 | BA98: 0 | BB98: =IF($K$18<BB$21,0,IF($K$18>BB$22,0,$AU98)) -> 0 | BC98: =IF($K$18<BC$21,0,IF($K$18>BC$22,0,$AV98)) -> 0 | BD98: =IF($K$18<BD$21,0,IF($K$18>BD$22,0,$AW98)) -> 0 | BE98: =IF($K$18<BE$21,0,IF($K$18>BE$22,0,$AX98)) -> 0 | BF98: =IF($K$18<BF$21,0,IF($K$18>BF$22,0,$AY98)) -> 0 | BG98: =IF($K$18<BG$21,0,IF($K$18>BG$22,0,$AZ98)) -> 0 | BH98: =IF($K$18<BH$21,0,IF($K$18>BH$22,0,$BA98)) -> 0 | BI98: =SUM(BB98:BH98) -> 0 | BK98: 2500 | BL98: 5
A99: Great Expectations | C99: 72 Cell | D99: =BI99 -> 0 | E99: 72 | G99: 7535007 | I99: corrugated leaves w/blue-green margins w/creamy white & yellow centers | R99: =E99*S99 -> 3024 | S99: =BL99 -> 42 | AD99: =SUM(U99,V99,X99,Y99,AB99) -> 0 | AG99: =U99*E99 -> 0 | AI99: =X99*E99 -> 0 | AK99: =SUM(AG99,AI99) -> 0 | AM99: =(U99*E99)*D99 -> 0 | AO99: =(X99*E99)*D99 -> 0 | AQ99: =SUM(AM99:AO99) -> 0 | BA99: 0 | BB99: =IF($K$18<BB$21,0,IF($K$18>BB$22,0,$AU99)) -> 0 | BC99: =IF($K$18<BC$21,0,IF($K$18>BC$22,0,$AV99)) -> 0 | BD99: =IF($K$18<BD$21,0,IF($K$18>BD$22,0,$AW99)) -> 0 | BE99: =IF($K$18<BE$21,0,IF($K$18>BE$22,0,$AX99)) -> 0 | BF99: =IF($K$18<BF$21,0,IF($K$18>BF$22,0,$AY99)) -> 0 | BG99: =IF($K$18<BG$21,0,IF($K$18>BG$22,0,$AZ99)) -> 0 | BH99: =IF($K$18<BH$21,0,IF($K$18>BH$22,0,$BA99)) -> 0 | BI99: =SUM(BB99:BH99) -> 0 | BK99: 3024 | BL99: 42
A100: Guacomole | C100: #1 Div. | D100: =BI100 -> 0 | E100: 300 | G100: 7535101 | I100: shiny round green leaves with gold centers | R100: =E100*S100 -> 86400 | S100: =BL100 -> 288 | AD100: =SUM(U100,V100,X100,Y100,AB100) -> 0 | AG100: =U100*E100 -> 0 | AI100: =X100*E100 -> 0 | AK100: =SUM(AG100,AI100) -> 0 | AM100: =(U100*E100)*D100 -> 0 | AO100: =(X100*E100)*D100 -> 0 | AQ100: =SUM(AM100:AO100) -> 0 | BA100: 0 | BB100: =IF($K$18<BB$21,0,IF($K$18>BB$22,0,$AU100)) -> 0 | BC100: =IF($K$18<BC$21,0,IF($K$18>BC$22,0,$AV100)) -> 0 | BD100: =IF($K$18<BD$21,0,IF($K$18>BD$22,0,$AW100)) -> 0 | BE100: =IF($K$18<BE$21,0,IF($K$18>BE$22,0,$AX100)) -> 0 | BF100: =IF($K$18<BF$21,0,IF($K$18>BF$22,0,$AY100)) -> 0 | BG100: =IF($K$18<BG$21,0,IF($K$18>BG$22,0,$AZ100)) -> 0 | BH100: =IF($K$18<BH$21,0,IF($K$18>BH$22,0,$BA100)) -> 0 | BI100: =SUM(BB100:BH100) -> 0 | BK100: 86400 | BL100: 288
...

Sheet Export Order V1
A1: Customer ID | B1: Customer PO Number | C1: Description | D1: Product ID | E1: Internal ID | F1: Ship Date | G1: Requested Ship Date | H1: Order Qty | I1: Order Number | J1: Ship Date | K1: Requested Ship Date | L1: Order Qty | M1: Order Number
B2: ='2027 Summer Hosta - V1'!$F$18 -> 0 | C2: Abiqua Drinking Gourd | D2: 7532851 | E2: 4963 | F2: ='2027 Summer Hosta - V1'!$U$20 -> 0 | G2: ='2027 Summer Hosta - V1'!$U$20 -> 0 | H2: ='2027 Summer Hosta - V1'!$U$25 -> 0 | J2: ='2027 Summer Hosta - V1'!$X$20 -> 0 | K2: ='2027 Summer Hosta - V1'!$X$20 -> 0 | L2: ='2027 Summer Hosta - V1'!$X$25 -> 0
B3: ='2027 Summer Hosta - V1'!$F$18 -> 0 | C3: Abiqua Drinking Gourd | D3: 7532854 | E3: 13035 | F3: ='2027 Summer Hosta - V1'!$U$20 -> 0 | G3: ='2027 Summer Hosta - V1'!$U$20 -> 0 | H3: ='2027 Summer Hosta - V1'!$U$26 -> 0 | J3: ='2027 Summer Hosta - V1'!$X$20 -> 0 | K3: ='2027 Summer Hosta - V1'!$X$20 -> 0 | L3: ='2027 Summer Hosta - V1'!$X$26 -> 0
B4: ='2027 Summer Hosta - V1'!$F$18 -> 0 | C4: Abiqua Drinking Gourd | D4: 7532857 | E4: 19629 | F4: ='2027 Summer Hosta - V1'!$U$20 -> 0 | G4: ='2027 Summer Hosta - V1'!$U$20 -> 0 | H4: ='2027 Summer Hosta - V1'!$U$27 -> 0 | J4: ='2027 Summer Hosta - V1'!$X$20 -> 0 | K4: ='2027 Summer Hosta - V1'!$X$20 -> 0 | L4: ='2027 Summer Hosta - V1'!$X$27 -> 0
B5: ='2027 Summer Hosta - V1'!$F$18 -> 0 | C5: Ambrosia | D5: 7532911 | E5: 25594 | F5: ='2027 Summer Hosta - V1'!$U$20 -> 0 | G5: ='2027 Summer Hosta - V1'!$U$20 -> 0 | H5: ='2027 Summer Hosta - V1'!$U$28 -> 0 | J5: ='2027 Summer Hosta - V1'!$X$20 -> 0 | K5: ='2027 Summer Hosta - V1'!$X$20 -> 0 | L5: ='2027 Summer Hosta - V1'!$X$28 -> 0
B6: ='2027 Summer Hosta - V1'!$F$18 -> 0 | C6: Ambrosia | D6: 7532914 | E6: 29117 | F6: ='2027 Summer Hosta - V1'!$U$20 -> 0 | G6: ='2027 Summer Hosta - V1'!$U$20 -> 0 | H6: ='2027 Summer Hosta - V1'!$U$29 -> 0 | J6: ='2027 Summer Hosta - V1'!$X$20 -> 0 | K6: ='2027 Summer Hosta - V1'!$X$20 -> 0 | L6: ='2027 Summer Hosta - V1'!$X$29 -> 0
B7: ='2027 Summer Hosta - V1'!$F$18 -> 0 | C7: American Halo | D7: 7532941 | E7: 4964 | F7: ='2027 Summer Hosta - V1'!$U$20 -> 0 | G7: ='2027 Summer Hosta - V1'!$U$20 -> 0 | H7: ='2027 Summer Hosta - V1'!$U$30 -> 0 | J7: ='2027 Summer Hosta - V1'!$X$20 -> 0 | K7: ='2027 Summer Hosta - V1'!$X$20 -> 0 | L7: ='2027 Summer Hosta - V1'!$X$30 -> 0
B8: ='2027 Summer Hosta - V1'!$F$18 -> 0 | C8: American Halo | D8: 7532944 | E8: 6240 | F8: ='2027 Summer Hosta - V1'!$U$20 -> 0 | G8: ='2027 Summer Hosta - V1'!$U$20 -> 0 | H8: ='2027 Summer Hosta - V1'!$U$31 -> 0 | J8: ='2027 Summer Hosta - V1'!$X$20 -> 0 | K8: ='2027 Summer Hosta - V1'!$X$20 -> 0 | L8: ='2027 Summer Hosta - V1'!$X$31 -> 0
B9: ='2027 Summer Hosta - V1'!$F$18 -> 0 | C9: Ann Kulpa | D9: 7532977 | E9: 19631 | F9: ='2027 Summer Hosta - V1'!$U$20 -> 0 | G9: ='2027 Summer Hosta - V1'!$U$20 -> 0 | H9: ='2027 Summer Hosta - V1'!$U$32 -> 0 | J9: ='2027 Summer Hosta - V1'!$X$20 -> 0 | K9: ='2027 Summer Hosta - V1'!$X$20 -> 0 | L9: ='2027 Summer Hosta - V1'!$X$32 -> 0
B10: ='2027 Summer Hosta - V1'!$F$18 -> 0 | C10: Band of Gold | D10: 7533131 | E10: 4965 | F10: ='2027 Summer Hosta - V1'!$U$20 -> 0 | G10: ='2027 Summer Hosta - V1'!$U$20 -> 0 | H10: ='2027 Summer Hosta - V1'!$U$33 -> 0 | J10: ='2027 Summer Hosta - V1'!$X$20 -> 0 | K10: ='2027 Summer Hosta - V1'!$X$20 -> 0 | L10: ='2027 Summer Hosta - V1'!$X$33 -> 0
B11: ='2027 Summer Hosta - V1'!$F$18 -> 0 | C11: Band of Gold | D11: 7533134 | E11: 13048 | F11: ='2027 Summer Hosta - V1'!$U$20 -> 0 | G11: ='2027 Summer Hosta - V1'!$U$20 -> 0 | H11: ='2027 Summer Hosta - V1'!$U$34 -> 0 | J11: ='2027 Summer Hosta - V1'!$X$20 -> 0 | K11: ='2027 Summer Hosta - V1'!$X$20 -> 0 | L11: ='2027 Summer Hosta - V1'!$X$34 -> 0
B12: ='2027 Summer Hosta - V1'!$F$18 -> 0 | C12: Barbara Ann | D12: 7533151 | E12: 4966 | F12: ='2027 Summer Hosta - V1'!$U$20 -> 0 | G12: ='2027 Summer Hosta - V1'!$U$20 -> 0 | H12: ='2027 Summer Hosta - V1'!$U$35 -> 0 | J12: ='2027 Summer Hosta - V1'!$X$20 -> 0 | K12: ='2027 Summer Hosta - V1'!$X$20 -> 0 | L12: ='2027 Summer Hosta - V1'!$X$35 -> 0
B13: ='2027 Summer Hosta - V1'!$F$18 -> 0 | C13: Barbara Ann | D13: 7533154 | E13: 13036 | F13: ='2027 Summer Hosta - V1'!$U$20 -> 0 | G13: ='2027 Summer Hosta - V1'!$U$20 -> 0 | H13: ='2027 Summer Hosta - V1'!$U$36 -> 0 | J13: ='2027 Summer Hosta - V1'!$X$20 -> 0 | K13: ='2027 Summer Hosta - V1'!$X$20 -> 0 | L13: ='2027 Summer Hosta - V1'!$X$36 -> 0
B14: ='2027 Summer Hosta - V1'!$F$18 -> 0 | C14: Bedazzled | D14: 7533161 | E14: 4967 | F14: ='2027 Summer Hosta - V1'!$U$20 -> 0 | G14: ='2027 Summer Hosta - V1'!$U$20 -> 0 | H14: ='2027 Summer Hosta - V1'!$U$37 -> 0 | J14: ='2027 Summer Hosta - V1'!$X$20 -> 0 | K14: ='2027 Summer Hosta - V1'!$X$20 -> 0 | L14: ='2027 Summer Hosta - V1'!$X$37 -> 0
B15: ='2027 Summer Hosta - V1'!$F$18 -> 0 | C15: Bedazzled | D15: 7533165 | E15: 13003 | F15: ='2027 Summer Hosta - V1'!$U$20 -> 0 | G15: ='2027 Summer Hosta - V1'!$U$20 -> 0 | H15: ='2027 Summer Hosta - V1'!$U$38 -> 0 | J15: ='2027 Summer Hosta - V1'!$X$20 -> 0 | K15: ='2027 Summer Hosta - V1'!$X$20 -> 0 | L15: ='2027 Summer Hosta - V1'!$X$38 -> 0
B16: ='2027 Summer Hosta - V1'!$F$18 -> 0 | C16: Ben Vernooij | D16: 7533181 | E16: 4968 | F16: ='2027 Summer Hosta - V1'!$U$20 -> 0 | G16: ='2027 Summer Hosta - V1'!$U$20 -> 0 | H16: ='2027 Summer Hosta - V1'!$U$39 -> 0 | J16: ='2027 Summer Hosta - V1'!$X$20 -> 0 | K16: ='2027 Summer Hosta - V1'!$X$20 -> 0 | L16: ='2027 Summer Hosta - V1'!$X$39 -> 0
B17: ='2027 Summer Hosta - V1'!$F$18 -> 0 | C17: Ben Vernooij | D17: 7533185 | E17: 13049 | F17: ='2027 Summer Hosta - V1'!$U$20 -> 0 | G17: ='2027 Summer Hosta - V1'!$U$20 -> 0 | H17: ='2027 Summer Hosta - V1'!$U$40 -> 0 | J17: ='2027 Summer Hosta - V1'!$X$20 -> 0 | K17: ='2027 Summer Hosta - V1'!$X$20 -> 0 | L17: ='2027 Summer Hosta - V1'!$X$40 -> 0
B18: ='2027 Summer Hosta - V1'!$F$18 -> 0 | C18: Big Daddy | D18: 7533201 | E18: 28248 | F18: ='2027 Summer Hosta - V1'!$U$20 -> 0 | G18: ='2027 Summer Hosta - V1'!$U$20 -> 0 | H18: ='2027 Summer Hosta - V1'!$U$41 -> 0 | J18: ='2027 Summer Hosta - V1'!$X$20 -> 0 | K18: ='2027 Summer Hosta - V1'!$X$20 -> 0 | L18: ='2027 Summer Hosta - V1'!$X$41 -> 0
B19: ='2027 Summer Hosta - V1'!$F$18 -> 0 | C19: Big Daddy | D19: 7533205 | E19: 28251 | F19: ='2027 Summer Hosta - V1'!$U$20 -> 0 | G19: ='2027 Summer Hosta - V1'!$U$20 -> 0 | H19: ='2027 Summer Hosta - V1'!$U$42 -> 0 | J19: ='2027 Summer Hosta - V1'!$X$20 -> 0 | K19: ='2027 Summer Hosta - V1'!$X$20 -> 0 | L19: ='2027 Summer Hosta - V1'!$X$42 -> 0
B20: ='2027 Summer Hosta - V1'!$F$18 -> 0 | C20: Blue Angel | D20: 7533301 | E20: 13029 | F20: ='2027 Summer Hosta - V1'!$U$20 -> 0 | G20: ='2027 Summer Hosta - V1'!$U$20 -> 0 | H20: ='2027 Summer Hosta - V1'!$U$43 -> 0 | J20: ='2027 Summer Hosta - V1'!$X$20 -> 0 | K20: ='2027 Summer Hosta - V1'!$X$20 -> 0 | L20: ='2027 Summer Hosta - V1'!$X$43 -> 0
B21: ='2027 Summer Hosta - V1'!$F$18 -> 0 | C21: Blue Angel | D21: 7533305 | E21: 19612 | F21: ='2027 Summer Hosta - V1'!$U$20 -> 0 | G21: ='2027 Summer Hosta - V1'!$U$20 -> 0 | H21: ='2027 Summer Hosta - V1'!$U$44 -> 0 | J21: ='2027 Summer Hosta - V1'!$X$20 -> 0 | K21: ='2027 Summer Hosta - V1'!$X$20 -> 0 | L21: ='2027 Summer Hosta - V1'!$X$44 -> 0
B22: ='2027 Summer Hosta - V1'!$F$18 -> 0 | C22: Blue Angel | D22: 7533307 | E22: 19634 | F22: ='2027 Summer Hosta - V1'!$U$20 -> 0 | G22: ='2027 Summer Hosta - V1'!$U$20 -> 0 | H22: ='2027 Summer Hosta - V1'!$U$45 -> 0 | J22: ='2027 Summer Hosta - V1'!$X$20 -> 0 | K22: ='2027 Summer Hosta - V1'!$X$20 -> 0 | L22: ='2027 Summer Hosta - V1'!$X$45 -> 0
B23: ='2027 Summer Hosta - V1'!$F$18 -> 0 | C23: Blue Cadet | D23: 7533331 | E23: 19681 | F23: ='2027 Summer Hosta - V1'!$U$20 -> 0 | G23: ='2027 Summer Hosta - V1'!$U$20 -> 0 | H23: ='2027 Summer Hosta - V1'!$U$46 -> 0 | J23: ='2027 Summer Hosta - V1'!$X$20 -> 0 | K23: ='2027 Summer Hosta - V1'!$X$20 -> 0 | L23: ='2027 Summer Hosta - V1'!$X$46 -> 0
B24: ='2027 Summer Hosta - V1'!$F$18 -> 0 | C24: Blue Cadet | D24: 7533335 | E24: 18752 | F24: ='2027 Summer Hosta - V1'!$U$20 -> 0 | G24: ='2027 Summer Hosta - V1'!$U$20 -> 0 | H24: ='2027 Summer Hosta - V1'!$U$47 -> 0 | J24: ='2027 Summer Hosta - V1'!$X$20 -> 0 | K24: ='2027 Summer Hosta - V1'!$X$20 -> 0 | L24: ='2027 Summer Hosta - V1'!$X$47 -> 0
B25: ='2027 Summer Hosta - V1'!$F$18 -> 0 | C25: Blue Hawaii | D25: 7533381 | E25: 4970 | F25: ='2027 Summer Hosta - V1'!$U$20 -> 0 | G25: ='2027 Summer Hosta - V1'!$U$20 -> 0 | H25: ='2027 Summer Hosta - V1'!$U$48 -> 0 | J25: ='2027 Summer Hosta - V1'!$X$20 -> 0 | K25: ='2027 Summer Hosta - V1'!$X$20 -> 0 | L25: ='2027 Summer Hosta - V1'!$X$48 -> 0
B26: ='2027 Summer Hosta - V1'!$F$18 -> 0 | C26: Blue Hawaii | D26: 7533385 | E26: 6242 | F26: ='2027 Summer Hosta - V1'!$U$20 -> 0 | G26: ='2027 Summer Hosta - V1'!$U$20 -> 0 | H26: ='2027 Summer Hosta - V1'!$U$49 -> 0 | J26: ='2027 Summer Hosta - V1'!$X$20 -> 0 | K26: ='2027 Summer Hosta - V1'!$X$20 -> 0 | L26: ='2027 Summer Hosta - V1'!$X$49 -> 0
B27: ='2027 Summer Hosta - V1'!$F$18 -> 0 | C27: Blue Mouse Ears | D27: 7533451 | E27: 4971 | F27: ='2027 Summer Hosta - V1'!$U$20 -> 0 | G27: ='2027 Summer Hosta - V1'!$U$20 -> 0 | H27: ='2027 Summer Hosta - V1'!$U$50 -> 0 | J27: ='2027 Summer Hosta - V1'!$X$20 -> 0 | K27: ='2027 Summer Hosta - V1'!$X$20 -> 0 | L27: ='2027 Summer Hosta - V1'!$X$50 -> 0
B28: ='2027 Summer Hosta - V1'!$F$18 -> 0 | C28: Blue Mouse Ears | D28: 7533455 | E28: 13050 | F28: ='2027 Summer Hosta - V1'!$U$20 -> 0 | G28: ='2027 Summer Hosta - V1'!$U$20 -> 0 | H28: ='2027 Summer Hosta - V1'!$U$51 -> 0 | J28: ='2027 Summer Hosta - V1'!$X$20 -> 0 | K28: ='2027 Summer Hosta - V1'!$X$20 -> 0 | L28: ='2027 Summer Hosta - V1'!$X$51 -> 0
B29: ='2027 Summer Hosta - V1'!$F$18 -> 0 | C29: Blue Perfection | D29: 7533441 | E29: 25595 | F29: ='2027 Summer Hosta - V1'!$U$20 -> 0 | G29: ='2027 Summer Hosta - V1'!$U$20 -> 0 | H29: ='2027 Summer Hosta - V1'!$U$52 -> 0 | J29: ='2027 Summer Hosta - V1'!$X$20 -> 0 | K29: ='2027 Summer Hosta - V1'!$X$20 -> 0 | L29: ='2027 Summer Hosta - V1'!$X$52 -> 0
B30: ='2027 Summer Hosta - V1'!$F$18 -> 0 | C30: Blue Perfection | D30: 7533445 | E30: 25596 | F30: ='2027 Summer Hosta - V1'!$U$20 -> 0 | G30: ='2027 Summer Hosta - V1'!$U$20 -> 0 | H30: ='2027 Summer Hosta - V1'!$U$53 -> 0 | J30: ='2027 Summer Hosta - V1'!$X$20 -> 0 | K30: ='2027 Summer Hosta - V1'!$X$20 -> 0 | L30: ='2027 Summer Hosta - V1'!$X$53 -> 0
B31: ='2027 Summer Hosta - V1'!$F$18 -> 0 | C31: Bressingham Blue | D31: 7533601 | E31: 4972 | F31: ='2027 Summer Hosta - V1'!$U$20 -> 0 | G31: ='2027 Summer Hosta - V1'!$U$20 -> 0 | H31: ='2027 Summer Hosta - V1'!$U$54 -> 0 | J31: ='2027 Summer Hosta - V1'!$X$20 -> 0 | K31: ='2027 Summer Hosta - V1'!$X$20 -> 0 | L31: ='2027 Summer Hosta - V1'!$X$54 -> 0
B32: ='2027 Summer Hosta - V1'!$F$18 -> 0 | C32: Bressingham Blue | D32: 7533604 | E32: 13037 | F32: ='2027 Summer Hosta - V1'!$U$20 -> 0 | G32: ='2027 Summer Hosta - V1'!$U$20 -> 0 | H32: ='2027 Summer Hosta - V1'!$U$55 -> 0 | J32: ='2027 Summer Hosta - V1'!$X$20 -> 0 | K32: ='2027 Summer Hosta - V1'!$X$20 -> 0 | L32: ='2027 Summer Hosta - V1'!$X$55 -> 0
B33: ='2027 Summer Hosta - V1'!$F$18 -> 0 | C33: Brother Stefan | D33: 7533751 | E33: 19683 | F33: ='2027 Summer Hosta - V1'!$U$20 -> 0 | G33: ='2027 Summer Hosta - V1'!$U$20 -> 0 | H33: ='2027 Summer Hosta - V1'!$U$56 -> 0 | J33: ='2027 Summer Hosta - V1'!$X$20 -> 0 | K33: ='2027 Summer Hosta - V1'!$X$20 -> 0 | L33: ='2027 Summer Hosta - V1'!$X$56 -> 0
B34: ='2027 Summer Hosta - V1'!$F$18 -> 0 | C34: Captain Kirk | D34: 7533777 | E34: 28195 | F34: ='2027 Summer Hosta - V1'!$U$20 -> 0 | G34: ='2027 Summer Hosta - V1'!$U$20 -> 0 | H34: ='2027 Summer Hosta - V1'!$U$57 -> 0 | J34: ='2027 Summer Hosta - V1'!$X$20 -> 0 | K34: ='2027 Summer Hosta - V1'!$X$20 -> 0 | L34: ='2027 Summer Hosta - V1'!$X$57 -> 0
B35: ='2027 Summer Hosta - V1'!$F$18 -> 0 | C35: Catherine - NEW | D35: 7533761 | E35: 29405 | F35: ='2027 Summer Hosta - V1'!$U$20 -> 0 | G35: ='2027 Summer Hosta - V1'!$U$20 -> 0 | H35: ='2027 Summer Hosta - V1'!$U$58 -> 0 | J35: ='2027 Summer Hosta - V1'!$X$20 -> 0 | K35: ='2027 Summer Hosta - V1'!$X$20 -> 0 | L35: ='2027 Summer Hosta - V1'!$X$58 -> 0
B36: ='2027 Summer Hosta - V1'!$F$18 -> 0 | C36: Catherine - NEW | D36: 7533764 | F36: ='2027 Summer Hosta - V1'!$U$20 -> 0 | G36: ='2027 Summer Hosta - V1'!$U$20 -> 0 | H36: ='2027 Summer Hosta - V1'!$U$59 -> 0 | J36: ='2027 Summer Hosta - V1'!$X$20 -> 0 | K36: ='2027 Summer Hosta - V1'!$X$20 -> 0 | L36: ='2027 Summer Hosta - V1'!$X$59 -> 0
B37: ='2027 Summer Hosta - V1'!$F$18 -> 0 | C37: Cherry Berry | D37: 7533801 | E37: 19685 | F37: ='2027 Summer Hosta - V1'!$U$20 -> 0 | G37: ='2027 Summer Hosta - V1'!$U$20 -> 0 | H37: ='2027 Summer Hosta - V1'!$U$60 -> 0 | J37: ='2027 Summer Hosta - V1'!$X$20 -> 0 | K37: ='2027 Summer Hosta - V1'!$X$20 -> 0 | L37: ='2027 Summer Hosta - V1'!$X$60 -> 0
B38: ='2027 Summer Hosta - V1'!$F$18 -> 0 | C38: Christmas Pageant | D38: 7533881 | E38: 4973 | F38: ='2027 Summer Hosta - V1'!$U$20 -> 0 | G38: ='2027 Summer Hosta - V1'!$U$20 -> 0 | H38: ='2027 Summer Hosta - V1'!$U$61 -> 0 | J38: ='2027 Summer Hosta - V1'!$X$20 -> 0 | K38: ='2027 Summer Hosta - V1'!$X$20 -> 0 | L38: ='2027 Summer Hosta - V1'!$X$61 -> 0
B39: ='2027 Summer Hosta - V1'!$F$18 -> 0 | C39: Christmas Pageant | D39: 7533884 | E39: 16639 | F39: ='2027 Summer Hosta - V1'!$U$20 -> 0 | G39: ='2027 Summer Hosta - V1'!$U$20 -> 0 | H39: ='2027 Summer Hosta - V1'!$U$62 -> 0 | J39: ='2027 Summer Hosta - V1'!$X$20 -> 0 | K39: ='2027 Summer Hosta - V1'!$X$20 -> 0 | L39: ='2027 Summer Hosta - V1'!$X$62 -> 0
B40: ='2027 Summer Hosta - V1'!$F$18 -> 0 | C40: Climax | D40: 7533891 | E40: 4974 | F40: ='2027 Summer Hosta - V1'!$U$20 -> 0 | G40: ='2027 Summer Hosta - V1'!$U$20 -> 0 | H40: ='2027 Summer Hosta - V1'!$U$63 -> 0 | J40: ='2027 Summer Hosta - V1'!$X$20 -> 0 | K40: ='2027 Summer Hosta - V1'!$X$20 -> 0 | L40: ='2027 Summer Hosta - V1'!$X$63 -> 0
B41: ='2027 Summer Hosta - V1'!$F$18 -> 0 | C41: Climax | D41: 7533894 | E41: 13039 | F41: ='2027 Summer Hosta - V1'!$U$20 -> 0 | G41: ='2027 Summer Hosta - V1'!$U$20 -> 0 | H41: ='2027 Summer Hosta - V1'!$U$64 -> 0 | J41: ='2027 Summer Hosta - V1'!$X$20 -> 0 | K41: ='2027 Summer Hosta - V1'!$X$20 -> 0 | L41: ='2027 Summer Hosta - V1'!$X$64 -> 0
B42: ='2027 Summer Hosta - V1'!$F$18 -> 0 | C42: Devon Green | D42: 7533981 | E42: 19689 | F42: ='2027 Summer Hosta - V1'!$U$20 -> 0 | G42: ='2027 Summer Hosta - V1'!$U$20 -> 0 | H42: ='2027 Summer Hosta - V1'!$U$65 -> 0 | J42: ='2027 Summer Hosta - V1'!$X$20 -> 0 | K42: ='2027 Summer Hosta - V1'!$X$20 -> 0 | L42: ='2027 Summer Hosta - V1'!$X$65 -> 0
B43: ='2027 Summer Hosta - V1'!$F$18 -> 0 | C43: Devon Green | D43: 7533984 | E43: 21061 | F43: ='2027 Summer Hosta - V1'!$U$20 -> 0 | G43: ='2027 Summer Hosta - V1'!$U$20 -> 0 | H43: ='2027 Summer Hosta - V1'!$U$66 -> 0 | J43: ='2027 Summer Hosta - V1'!$X$20 -> 0 | K43: ='2027 Summer Hosta - V1'!$X$20 -> 0 | L43: ='2027 Summer Hosta - V1'!$X$66 -> 0
B44: ='2027 Summer Hosta - V1'!$F$18 -> 0 | C44: Diana Remembered | D44: 7534027 | E44: 26477 | F44: ='2027 Summer Hosta - V1'!$U$20 -> 0 | G44: ='2027 Summer Hosta - V1'!$U$20 -> 0 | H44: ='2027 Summer Hosta - V1'!$U$67 -> 0 | J44: ='2027 Summer Hosta - V1'!$X$20 -> 0 | K44: ='2027 Summer Hosta - V1'!$X$20 -> 0 | L44: ='2027 Summer Hosta - V1'!$X$67 -> 0
B45: ='2027 Summer Hosta - V1'!$F$18 -> 0 | C45: Dream Queen | D45: 7533951 | E45: 4976 | F45: ='2027 Summer Hosta - V1'!$U$20 -> 0 | G45: ='2027 Summer Hosta - V1'!$U$20 -> 0 | H45: ='2027 Summer Hosta - V1'!$U$68 -> 0 | J45: ='2027 Summer Hosta - V1'!$X$20 -> 0 | K45: ='2027 Summer Hosta - V1'!$X$20 -> 0 | L45: ='2027 Summer Hosta - V1'!$X$68 -> 0
B46: ='2027 Summer Hosta - V1'!$F$18 -> 0 | C46: Dream Queen | D46: 7533955 | E46: 6244 | F46: ='2027 Summer Hosta - V1'!$U$20 -> 0 | G46: ='2027 Summer Hosta - V1'!$U$20 -> 0 | H46: ='2027 Summer Hosta - V1'!$U$69 -> 0 | J46: ='2027 Summer Hosta - V1'!$X$20 -> 0 | K46: ='2027 Summer Hosta - V1'!$X$20 -> 0 | L46: ='2027 Summer Hosta - V1'!$X$69 -> 0
B47: ='2027 Summer Hosta - V1'!$F$18 -> 0 | C47: Dream Weaver | D47: 7534017 | E47: 28196 | F47: ='2027 Summer Hosta - V1'!$U$20 -> 0 | G47: ='2027 Summer Hosta - V1'!$U$20 -> 0 | H47: ='2027 Summer Hosta - V1'!$U$70 -> 0 | J47: ='2027 Summer Hosta - V1'!$X$20 -> 0 | K47: ='2027 Summer Hosta - V1'!$X$20 -> 0 | L47: ='2027 Summer Hosta - V1'!$X$70 -> 0
B48: ='2027 Summer Hosta - V1'!$F$18 -> 0 | C48: Earth Angel | D48: 7533961 | E48: 4977 | F48: ='2027 Summer Hosta - V1'!$U$20 -> 0 | G48: ='2027 Summer Hosta - V1'!$U$20 -> 0 | H48: ='2027 Summer Hosta - V1'!$U$71 -> 0 | J48: ='2027 Summer Hosta - V1'!$X$20 -> 0 | K48: ='2027 Summer Hosta - V1'!$X$20 -> 0 | L48: ='2027 Summer Hosta - V1'!$X$71 -> 0
B49: ='2027 Summer Hosta - V1'!$F$18 -> 0 | C49: Earth Angel | D49: 7533964 | E49: 13040 | F49: ='2027 Summer Hosta - V1'!$U$20 -> 0 | G49: ='2027 Summer Hosta - V1'!$U$20 -> 0 | H49: ='2027 Summer Hosta - V1'!$U$72 -> 0 | J49: ='2027 Summer Hosta - V1'!$X$20 -> 0 | K49: ='2027 Summer Hosta - V1'!$X$20 -> 0 | L49: ='2027 Summer Hosta - V1'!$X$72 -> 0
B50: ='2027 Summer Hosta - V1'!$F$18 -> 0 | C50: Earth Angel | D50: 7533967 | E50: 19638 | F50: ='2027 Summer Hosta - V1'!$U$20 -> 0 | G50: ='2027 Summer Hosta - V1'!$U$20 -> 0 | H50: ='2027 Summer Hosta - V1'!$U$73 -> 0 | J50: ='2027 Summer Hosta - V1'!$X$20 -> 0 | K50: ='2027 Summer Hosta - V1'!$X$20 -> 0 | L50: ='2027 Summer Hosta - V1'!$X$73 -> 0
B51: ='2027 Summer Hosta - V1'!$F$18 -> 0 | C51: Emerald Ruff Cut | D51: 7534037 | E51: 26478 | F51: ='2027 Summer Hosta - V1'!$U$20 -> 0 | G51: ='2027 Summer Hosta - V1'!$U$20 -> 0 | H51: ='2027 Summer Hosta - V1'!$U$74 -> 0 | J51: ='2027 Summer Hosta - V1'!$X$20 -> 0 | K51: ='2027 Summer Hosta - V1'!$X$20 -> 0 | L51: ='2027 Summer Hosta - V1'!$X$74 -> 0
B52: ='2027 Summer Hosta - V1'!$F$18 -> 0 | C52: Fire & Ice | D52: 7534101 | E52: 4978 | F52: ='2027 Summer Hosta - V1'!$U$20 -> 0 | G52: ='2027 Summer Hosta - V1'!$U$20 -> 0 | H52: ='2027 Summer Hosta - V1'!$U$75 -> 0 | J52: ='2027 Summer Hosta - V1'!$X$20 -> 0 | K52: ='2027 Summer Hosta - V1'!$X$20 -> 0 | L52: ='2027 Summer Hosta - V1'!$X$75 -> 0
B53: ='2027 Summer Hosta - V1'!$F$18 -> 0 | C53: Fire & Ice - ADDED SIZE | D53: 7534107 | E53: 29424 | F53: ='2027 Summer Hosta - V1'!$U$20 -> 0 | G53: ='2027 Summer Hosta - V1'!$U$20 -> 0 | H53: ='2027 Summer Hosta - V1'!$U$76 -> 0 | J53: ='2027 Summer Hosta - V1'!$X$20 -> 0 | K53: ='2027 Summer Hosta - V1'!$X$20 -> 0 | L53: ='2027 Summer Hosta - V1'!$X$76 -> 0
B54: ='2027 Summer Hosta - V1'!$F$18 -> 0 | C54: Fire Island | D54: 7534087 | E54: 19639 | F54: ='2027 Summer Hosta - V1'!$U$20 -> 0 | G54: ='2027 Summer Hosta - V1'!$U$20 -> 0 | H54: ='2027 Summer Hosta - V1'!$U$77 -> 0 | J54: ='2027 Summer Hosta - V1'!$X$20 -> 0 | K54: ='2027 Summer Hosta - V1'!$X$20 -> 0 | L54: ='2027 Summer Hosta - V1'!$X$77 -> 0
B55: ='2027 Summer Hosta - V1'!$F$18 -> 0 | C55: Fire Island | D55: 7134104 | E55: 19717 | F55: ='2027 Summer Hosta - V1'!$U$20 -> 0 | G55: ='2027 Summer Hosta - V1'!$U$20 -> 0 | H55: ='2027 Summer Hosta - V1'!$U$78 -> 0 | J55: ='2027 Summer Hosta - V1'!$X$20 -> 0 | K55: ='2027 Summer Hosta - V1'!$X$20 -> 0 | L55: ='2027 Summer Hosta - V1'!$X$78 -> 0
B56: ='2027 Summer Hosta - V1'!$F$18 -> 0 | C56: First Frost | D56: 7534131 | E56: 4980 | F56: ='2027 Summer Hosta - V1'!$U$20 -> 0 | G56: ='2027 Summer Hosta - V1'!$U$20 -> 0 | H56: ='2027 Summer Hosta - V1'!$U$79 -> 0 | J56: ='2027 Summer Hosta - V1'!$X$20 -> 0 | K56: ='2027 Summer Hosta - V1'!$X$20 -> 0 | L56: ='2027 Summer Hosta - V1'!$X$79 -> 0
B57: ='2027 Summer Hosta - V1'!$F$18 -> 0 | C57: First Frost | D57: 7534134 | E57: 4981 | F57: ='2027 Summer Hosta - V1'!$U$20 -> 0 | G57: ='2027 Summer Hosta - V1'!$U$20 -> 0 | H57: ='2027 Summer Hosta - V1'!$U$80 -> 0 | J57: ='2027 Summer Hosta - V1'!$X$20 -> 0 | K57: ='2027 Summer Hosta - V1'!$X$20 -> 0 | L57: ='2027 Summer Hosta - V1'!$X$80 -> 0
B58: ='2027 Summer Hosta - V1'!$F$18 -> 0 | C58: Forbidden Fruit | D58: 7534151 | E58: 4982 | F58: ='2027 Summer Hosta - V1'!$U$20 -> 0 | G58: ='2027 Summer Hosta - V1'!$U$20 -> 0 | H58: ='2027 Summer Hosta - V1'!$U$81 -> 0 | J58: ='2027 Summer Hosta - V1'!$X$20 -> 0 | K58: ='2027 Summer Hosta - V1'!$X$20 -> 0 | L58: ='2027 Summer Hosta - V1'!$X$81 -> 0
B59: ='2027 Summer Hosta - V1'!$F$18 -> 0 | C59: Forbidden Fruit | D59: 7534154 | E59: 13006 | F59: ='2027 Summer Hosta - V1'!$U$20 -> 0 | G59: ='2027 Summer Hosta - V1'!$U$20 -> 0 | H59: ='2027 Summer Hosta - V1'!$U$82 -> 0 | J59: ='2027 Summer Hosta - V1'!$X$20 -> 0 | K59: ='2027 Summer Hosta - V1'!$X$20 -> 0 | L59: ='2027 Summer Hosta - V1'!$X$82 -> 0
B60: ='2027 Summer Hosta - V1'!$F$18 -> 0 | C60: Fortunei Aureomarginata - NEW | D60: 7534201 | E60: 16649 | F60: ='2027 Summer Hosta - V1'!$U$20 -> 0 | G60: ='2027 Summer Hosta - V1'!$U$20 -> 0 | H60: ='2027 Summer Hosta - V1'!$U$83 -> 0 | J60: ='2027 Summer Hosta - V1'!$X$20 -> 0 | K60: ='2027 Summer Hosta - V1'!$X$20 -> 0 | L60: ='2027 Summer Hosta - V1'!$X$83 -> 0
B61: ='2027 Summer Hosta - V1'!$F$18 -> 0 | C61: Fortunei Aureomarginata - NEW | D61: 7534204 | E61: 16643 | F61: ='2027 Summer Hosta - V1'!$U$20 -> 0 | G61: ='2027 Summer Hosta - V1'!$U$20 -> 0 | H61: ='2027 Summer Hosta - V1'!$U$84 -> 0 | J61: ='2027 Summer Hosta - V1'!$X$20 -> 0 | K61: ='2027 Summer Hosta - V1'!$X$20 -> 0 | L61: ='2027 Summer Hosta - V1'!$X$84 -> 0
B62: ='2027 Summer Hosta - V1'!$F$18 -> 0 | C62: Francee | D62: 7534401 | E62: 16651 | F62: ='2027 Summer Hosta - V1'!$U$20 -> 0 | G62: ='2027 Summer Hosta - V1'!$U$20 -> 0 | H62: ='2027 Summer Hosta - V1'!$U$87 -> 0 | J62: ='2027 Summer Hosta - V1'!$X$20 -> 0 | K62: ='2027 Summer Hosta - V1'!$X$20 -> 0 | L62: ='2027 Summer Hosta - V1'!$X$87 -> 0
B63: ='2027 Summer Hosta - V1'!$F$18 -> 0 | C63: Francee | D63: 7534404 | E63: 16644 | F63: ='2027 Summer Hosta - V1'!$U$20 -> 0 | G63: ='2027 Summer Hosta - V1'!$U$20 -> 0 | H63: ='2027 Summer Hosta - V1'!$U$87 -> 0 | J63: ='2027 Summer Hosta - V1'!$X$20 -> 0 | K63: ='2027 Summer Hosta - V1'!$X$20 -> 0 | L63: ='2027 Summer Hosta - V1'!$X$87 -> 0
B64: ='2027 Summer Hosta - V1'!$F$18 -> 0 | C64: Francee | D64: 7534407 | E64: 19644 | F64: ='2027 Summer Hosta - V1'!$U$20 -> 0 | G64: ='2027 Summer Hosta - V1'!$U$20 -> 0 | H64: ='2027 Summer Hosta - V1'!$U$87 -> 0 | J64: ='2027 Summer Hosta - V1'!$X$20 -> 0 | K64: ='2027 Summer Hosta - V1'!$X$20 -> 0 | L64: ='2027 Summer Hosta - V1'!$X$87 -> 0
B65: ='2027 Summer Hosta - V1'!$F$18 -> 0 | C65: Fragrant Bouquet | D65: 7534301 | E65: 4984 | F65: ='2027 Summer Hosta - V1'!$U$20 -> 0 | G65: ='2027 Summer Hosta - V1'!$U$20 -> 0 | H65: ='2027 Summer Hosta - V1'!$U$88 -> 0 | J65: ='2027 Summer Hosta - V1'!$X$20 -> 0 | K65: ='2027 Summer Hosta - V1'!$X$20 -> 0 | L65: ='2027 Summer Hosta - V1'!$X$88 -> 0
B66: ='2027 Summer Hosta - V1'!$F$18 -> 0 | C66: Fragrant Bouquet | D66: 7534305 | E66: 13051 | F66: ='2027 Summer Hosta - V1'!$U$20 -> 0 | G66: ='2027 Summer Hosta - V1'!$U$20 -> 0 | H66: ='2027 Summer Hosta - V1'!$U$89 -> 0 | J66: ='2027 Summer Hosta - V1'!$X$20 -> 0 | K66: ='2027 Summer Hosta - V1'!$X$20 -> 0 | L66: ='2027 Summer Hosta - V1'!$X$89 -> 0
B67: ='2027 Summer Hosta - V1'!$F$18 -> 0 | C67: Frances Williams | D67: 7534501 | E67: 4985 | F67: ='2027 Summer Hosta - V1'!$U$20 -> 0 | G67: ='2027 Summer Hosta - V1'!$U$20 -> 0 | H67: ='2027 Summer Hosta - V1'!$U$90 -> 0 | J67: ='2027 Summer Hosta - V1'!$X$20 -> 0 | K67: ='2027 Summer Hosta - V1'!$X$20 -> 0 | L67: ='2027 Summer Hosta - V1'!$X$90 -> 0
B68: ='2027 Summer Hosta - V1'!$F$18 -> 0 | C68: Frances Williams | D68: 7534504 | E68: 16640 | F68: ='2027 Summer Hosta - V1'!$U$20 -> 0 | G68: ='2027 Summer Hosta - V1'!$U$20 -> 0 | H68: ='2027 Summer Hosta - V1'!$U$91 -> 0 | J68: ='2027 Summer Hosta - V1'!$X$20 -> 0 | K68: ='2027 Summer Hosta - V1'!$X$20 -> 0 | L68: ='2027 Summer Hosta - V1'!$X$91 -> 0
B69: ='2027 Summer Hosta - V1'!$F$18 -> 0 | C69: Frances Williams | D69: 7534507 | E69: 19645 | F69: ='2027 Summer Hosta - V1'!$U$20 -> 0 | G69: ='2027 Summer Hosta - V1'!$U$20 -> 0 | H69: ='2027 Summer Hosta - V1'!$U$92 -> 0 | J69: ='2027 Summer Hosta - V1'!$X$20 -> 0 | K69: ='2027 Summer Hosta - V1'!$X$20 -> 0 | L69: ='2027 Summer Hosta - V1'!$X$92 -> 0
B70: ='2027 Summer Hosta - V1'!$F$18 -> 0 | C70: Frozen Margarita | D70: 7534541 | E70: 4986 | F70: ='2027 Summer Hosta - V1'!$U$20 -> 0 | G70: ='2027 Summer Hosta - V1'!$U$20 -> 0 | H70: ='2027 Summer Hosta - V1'!$U$93 -> 0 | J70: ='2027 Summer Hosta - V1'!$X$20 -> 0 | K70: ='2027 Summer Hosta - V1'!$X$20 -> 0 | L70: ='2027 Summer Hosta - V1'!$X$93 -> 0
B71: ='2027 Summer Hosta - V1'!$F$18 -> 0 | C71: Frozen Margarita | D71: 7534545 | E71: 13052 | F71: ='2027 Summer Hosta - V1'!$U$20 -> 0 | G71: ='2027 Summer Hosta - V1'!$U$20 -> 0 | H71: ='2027 Summer Hosta - V1'!$U$94 -> 0 | J71: ='2027 Summer Hosta - V1'!$X$20 -> 0 | K71: ='2027 Summer Hosta - V1'!$X$20 -> 0 | L71: ='2027 Summer Hosta - V1'!$X$94 -> 0
B72: ='2027 Summer Hosta - V1'!$F$18 -> 0 | C72: Funny Mouse | D72: 7534551 | E72: 19692 | F72: ='2027 Summer Hosta - V1'!$U$20 -> 0 | G72: ='2027 Summer Hosta - V1'!$U$20 -> 0 | H72: ='2027 Summer Hosta - V1'!$U$95 -> 0 | J72: ='2027 Summer Hosta - V1'!$X$20 -> 0 | K72: ='2027 Summer Hosta - V1'!$X$20 -> 0 | L72: ='2027 Summer Hosta - V1'!$X$95 -> 0
B73: ='2027 Summer Hosta - V1'!$F$18 -> 0 | C73: Funny Mouse | D73: 7534555 | E73: 28254 | F73: ='2027 Summer Hosta - V1'!$U$20 -> 0 | G73: ='2027 Summer Hosta - V1'!$U$20 -> 0 | H73: ='2027 Summer Hosta - V1'!$U$96 -> 0 | J73: ='2027 Summer Hosta - V1'!$X$20 -> 0 | K73: ='2027 Summer Hosta - V1'!$X$20 -> 0 | L73: ='2027 Summer Hosta - V1'!$X$96 -> 0
B74: ='2027 Summer Hosta - V1'!$F$18 -> 0 | C74: Golden Tiara | D74: 7534901 | E74: 18273 | F74: ='2027 Summer Hosta - V1'!$U$20 -> 0 | G74: ='2027 Summer Hosta - V1'!$U$20 -> 0 | H74: ='2027 Summer Hosta - V1'!$U$97 -> 0 | J74: ='2027 Summer Hosta - V1'!$X$20 -> 0 | K74: ='2027 Summer Hosta - V1'!$X$20 -> 0 | L74: ='2027 Summer Hosta - V1'!$X$97 -> 0
B75: ='2027 Summer Hosta - V1'!$F$18 -> 0 | C75: Golden Tiara | D75: 7534905 | E75: 19615 | F75: ='2027 Summer Hosta - V1'!$U$20 -> 0 | G75: ='2027 Summer Hosta - V1'!$U$20 -> 0 | H75: ='2027 Summer Hosta - V1'!$U$98 -> 0 | J75: ='2027 Summer Hosta - V1'!$X$20 -> 0 | K75: ='2027 Summer Hosta - V1'!$X$20 -> 0 | L75: ='2027 Summer Hosta - V1'!$X$98 -> 0
B76: ='2027 Summer Hosta - V1'!$F$18 -> 0 | C76: Great Expectations | D76: 7535007 | E76: 19648 | F76: ='2027 Summer Hosta - V1'!$U$20 -> 0 | G76: ='2027 Summer Hosta - V1'!$U$20 -> 0 | H76: ='2027 Summer Hosta - V1'!$U$99 -> 0 | J76: ='2027 Summer Hosta - V1'!$X$20 -> 0 | K76: ='2027 Summer Hosta - V1'!$X$20 -> 0 | L76: ='2027 Summer Hosta - V1'!$X$99 -> 0
B77: ='2027 Summer Hosta - V1'!$F$18 -> 0 | C77: Guacomole | D77: 7535101 | E77: 4987 | F77: ='2027 Summer Hosta - V1'!$U$20 -> 0 | G77: ='2027 Summer Hosta - V1'!$U$20 -> 0 | H77: ='2027 Summer Hosta - V1'!$U$100 -> 0 | J77: ='2027 Summer Hosta - V1'!$X$20 -> 0 | K77: ='2027 Summer Hosta - V1'!$X$20 -> 0 | L77: ='2027 Summer Hosta - V1'!$X$100 -> 0
B78: ='2027 Summer Hosta - V1'!$F$18 -> 0 | C78: Guacomole | D78: 7535104 | E78: 13053 | F78: ='2027 Summer Hosta - V1'!$U$20 -> 0 | G78: ='2027 Summer Hosta - V1'!$U$20 -> 0 | H78: ='2027 Summer Hosta - V1'!$U$101 -> 0 | J78: ='2027 Summer Hosta - V1'!$X$20 -> 0 | K78: ='2027 Summer Hosta - V1'!$X$20 -> 0 | L78: ='2027 Summer Hosta - V1'!$X$101 -> 0
B79: ='2027 Summer Hosta - V1'!$F$18 -> 0 | C79: Guacomole | D79: 7535107 | E79: 19649 | F79: ='2027 Summer Hosta - V1'!$U$20 -> 0 | G79: ='2027 Summer Hosta - V1'!$U$20 -> 0 | H79: ='2027 Summer Hosta - V1'!$U$102 -> 0 | J79: ='2027 Summer Hosta - V1'!$X$20 -> 0 | K79: ='2027 Summer Hosta - V1'!$X$20 -> 0 | L79: ='2027 Summer Hosta - V1'!$X$102 -> 0
B80: ='2027 Summer Hosta - V1'!$F$18 -> 0 | C80: Guardian Angel | D80: 7535121 | E80: 4988 | F80: ='2027 Summer Hosta - V1'!$U$20 -> 0 | G80: ='2027 Summer Hosta - V1'!$U$20 -> 0 | H80: ='2027 Summer Hosta - V1'!$U$103 -> 0 | J80: ='2027 Summer Hosta - V1'!$X$20 -> 0 | K80: ='2027 Summer Hosta - V1'!$X$20 -> 0 | L80: ='2027 Summer Hosta - V1'!$X$103 -> 0
B81: ='2027 Summer Hosta - V1'!$F$18 -> 0 | C81: Guardian Angel | D81: 7535124 | E81: 13042 | F81: ='2027 Summer Hosta - V1'!$U$20 -> 0 | G81: ='2027 Summer Hosta - V1'!$U$20 -> 0 | H81: ='2027 Summer Hosta - V1'!$U$104 -> 0 | J81: ='2027 Summer Hosta - V1'!$X$20 -> 0 | K81: ='2027 Summer Hosta - V1'!$X$20 -> 0 | L81: ='2027 Summer Hosta - V1'!$X$104 -> 0
B82: ='2027 Summer Hosta - V1'!$F$18 -> 0 | C82: Halcyon | D82: 7535201 | E82: 18278 | F82: ='2027 Summer Hosta - V1'!$U$20 -> 0 | G82: ='2027 Summer Hosta - V1'!$U$20 -> 0 | H82: ='2027 Summer Hosta - V1'!$U$105 -> 0 | J82: ='2027 Summer Hosta - V1'!$X$20 -> 0 | K82: ='2027 Summer Hosta - V1'!$X$20 -> 0 | L82: ='2027 Summer Hosta - V1'!$X$105 -> 0
B83: ='2027 Summer Hosta - V1'!$F$18 -> 0 | C83: Halcyon | D83: 7535204 | E83: 18279 | F83: ='2027 Summer Hosta - V1'!$U$20 -> 0 | G83: ='2027 Summer Hosta - V1'!$U$20 -> 0 | H83: ='2027 Summer Hosta - V1'!$U$106 -> 0 | J83: ='2027 Summer Hosta - V1'!$X$20 -> 0 | K83: ='2027 Summer Hosta - V1'!$X$20 -> 0 | L83: ='2027 Summer Hosta - V1'!$X$106 -> 0
B84: ='2027 Summer Hosta - V1'!$F$18 -> 0 | C84: Halcyon | D84: 7535207 | E84: 19651 | F84: ='2027 Summer Hosta - V1'!$U$20 -> 0 | G84: ='2027 Summer Hosta - V1'!$U$20 -> 0 | H84: ='2027 Summer Hosta - V1'!$U$107 -> 0 | J84: ='2027 Summer Hosta - V1'!$X$20 -> 0 | K84: ='2027 Summer Hosta - V1'!$X$20 -> 0 | L84: ='2027 Summer Hosta - V1'!$X$107 -> 0
B85: ='2027 Summer Hosta - V1'!$F$18 -> 0 | C85: Halcyon | D85: 7135204 | E85: 19722 | F85: ='2027 Summer Hosta - V1'!$U$20 -> 0 | G85: ='2027 Summer Hosta - V1'!$U$20 -> 0 | H85: ='2027 Summer Hosta - V1'!$U$108 -> 0 | J85: ='2027 Summer Hosta - V1'!$X$20 -> 0 | K85: ='2027 Summer Hosta - V1'!$X$20 -> 0 | L85: ='2027 Summer Hosta - V1'!$X$108 -> 0
B86: ='2027 Summer Hosta - V1'!$F$18 -> 0 | C86: Hands Up | D86: 7535311 | E86: 4989 | F86: ='2027 Summer Hosta - V1'!$U$20 -> 0 | G86: ='2027 Summer Hosta - V1'!$U$20 -> 0 | H86: ='2027 Summer Hosta - V1'!$U$109 -> 0 | J86: ='2027 Summer Hosta - V1'!$X$20 -> 0 | K86: ='2027 Summer Hosta - V1'!$X$20 -> 0 | L86: ='2027 Summer Hosta - V1'!$X$109 -> 0
B87: ='2027 Summer Hosta - V1'!$F$18 -> 0 | C87: Hands Up | D87: 7535315 | E87: 13054 | F87: ='2027 Summer Hosta - V1'!$U$20 -> 0 | G87: ='2027 Summer Hosta - V1'!$U$20 -> 0 | H87: ='2027 Summer Hosta - V1'!$U$110 -> 0 | J87: ='2027 Summer Hosta - V1'!$X$20 -> 0 | K87: ='2027 Summer Hosta - V1'!$X$20 -> 0 | L87: ='2027 Summer Hosta - V1'!$X$110 -> 0
B88: ='2027 Summer Hosta - V1'!$F$18 -> 0 | C88: Hi Class - NEW | D88: 7535341 | E88: 29918 | F88: ='2027 Summer Hosta - V1'!$U$20 -> 0 | G88: ='2027 Summer Hosta - V1'!$U$20 -> 0 | H88: ='2027 Summer Hosta - V1'!$U$111 -> 0 | J88: ='2027 Summer Hosta - V1'!$X$20 -> 0 | K88: ='2027 Summer Hosta - V1'!$X$20 -> 0 | L88: ='2027 Summer Hosta - V1'!$X$111 -> 0
B89: ='2027 Summer Hosta - V1'!$F$18 -> 0 | C89: Hi Class - NEW | D89: 7535344 | E89: 29914 | F89: ='2027 Summer Hosta - V1'!$U$20 -> 0 | G89: ='2027 Summer Hosta - V1'!$U$20 -> 0 | H89: ='2027 Summer Hosta - V1'!$U$112 -> 0 | J89: ='2027 Summer Hosta - V1'!$X$20 -> 0 | K89: ='2027 Summer Hosta - V1'!$X$20 -> 0 | L89: ='2027 Summer Hosta - V1'!$X$112 -> 0
B90: ='2027 Summer Hosta - V1'!$F$18 -> 0 | C90: June | D90: 7535707 | E90: 24710 | F90: ='2027 Summer Hosta - V1'!$U$20 -> 0 | G90: ='2027 Summer Hosta - V1'!$U$20 -> 0 | H90: ='2027 Summer Hosta - V1'!$U$113 -> 0 | J90: ='2027 Summer Hosta - V1'!$X$20 -> 0 | K90: ='2027 Summer Hosta - V1'!$X$20 -> 0 | L90: ='2027 Summer Hosta - V1'!$X$113 -> 0
B91: ='2027 Summer Hosta - V1'!$F$18 -> 0 | C91: June | D91: 7135704 | E91: 26481 | F91: ='2027 Summer Hosta - V1'!$U$20 -> 0 | G91: ='2027 Summer Hosta - V1'!$U$20 -> 0 | H91: ='2027 Summer Hosta - V1'!$U$114 -> 0 | J91: ='2027 Summer Hosta - V1'!$X$20 -> 0 | K91: ='2027 Summer Hosta - V1'!$X$20 -> 0 | L91: ='2027 Summer Hosta - V1'!$X$114 -> 0
B92: ='2027 Summer Hosta - V1'!$F$18 -> 0 | C92: Lakeside Maverick - NEW | D92: 7535971 | E92: 29919 | F92: ='2027 Summer Hosta - V1'!$U$20 -> 0 | G92: ='2027 Summer Hosta - V1'!$U$20 -> 0 | H92: ='2027 Summer Hosta - V1'!$U$115 -> 0 | J92: ='2027 Summer Hosta - V1'!$X$20 -> 0 | K92: ='2027 Summer Hosta - V1'!$X$20 -> 0 | L92: ='2027 Summer Hosta - V1'!$X$115 -> 0
B93: ='2027 Summer Hosta - V1'!$F$18 -> 0 | C93: Lakeside Maverick - NEW | D93: 7535974 | E93: 29915 | F93: ='2027 Summer Hosta - V1'!$U$20 -> 0 | G93: ='2027 Summer Hosta - V1'!$U$20 -> 0 | H93: ='2027 Summer Hosta - V1'!$U$116 -> 0 | J93: ='2027 Summer Hosta - V1'!$X$20 -> 0 | K93: ='2027 Summer Hosta - V1'!$X$20 -> 0 | L93: ='2027 Summer Hosta - V1'!$X$116 -> 0
B94: ='2027 Summer Hosta - V1'!$F$18 -> 0 | C94: Libby | D94: 7536171 | E94: 16654 | F94: ='2027 Summer Hosta - V1'!$U$20 -> 0 | G94: ='2027 Summer Hosta - V1'!$U$20 -> 0 | H94: ='2027 Summer Hosta - V1'!$U$117 -> 0 | J94: ='2027 Summer Hosta - V1'!$X$20 -> 0 | K94: ='2027 Summer Hosta - V1'!$X$20 -> 0 | L94: ='2027 Summer Hosta - V1'!$X$117 -> 0
B95: ='2027 Summer Hosta - V1'!$F$18 -> 0 | C95: Libby | D95: 7536175 | E95: 16323 | F95: ='2027 Summer Hosta - V1'!$U$20 -> 0 | G95: ='2027 Summer Hosta - V1'!$U$20 -> 0 | H95: ='2027 Summer Hosta - V1'!$U$118 -> 0 | J95: ='2027 Summer Hosta - V1'!$X$20 -> 0 | K95: ='2027 Summer Hosta - V1'!$X$20 -> 0 | L95: ='2027 Summer Hosta - V1'!$X$118 -> 0
B96: ='2027 Summer Hosta - V1'!$F$18 -> 0 | C96: Minuteman | D96: 7536401 | E96: 4993 | F96: ='2027 Summer Hosta - V1'!$U$20 -> 0 | G96: ='2027 Summer Hosta - V1'!$U$20 -> 0 | H96: ='2027 Summer Hosta - V1'!$U$119 -> 0 | J96: ='2027 Summer Hosta - V1'!$X$20 -> 0 | K96: ='2027 Summer Hosta - V1'!$X$20 -> 0 | L96: ='2027 Summer Hosta - V1'!$X$119 -> 0
B97: ='2027 Summer Hosta - V1'!$F$18 -> 0 | C97: Minuteman | D97: 7536404 | E97: 18388 | F97: ='2027 Summer Hosta - V1'!$U$20 -> 0 | G97: ='2027 Summer Hosta - V1'!$U$20 -> 0 | H97: ='2027 Summer Hosta - V1'!$U$120 -> 0 | J97: ='2027 Summer Hosta - V1'!$X$20 -> 0 | K97: ='2027 Summer Hosta - V1'!$X$20 -> 0 | L97: ='2027 Summer Hosta - V1'!$X$120 -> 0
B98: ='2027 Summer Hosta - V1'!$F$18 -> 0 | C98: Minuteman | D98: 7536407 | E98: 18388 | F98: ='2027 Summer Hosta - V1'!$U$20 -> 0 | G98: ='2027 Summer Hosta - V1'!$U$20 -> 0 | H98: ='2027 Summer Hosta - V1'!$U$121 -> 0 | J98: ='2027 Summer Hosta - V1'!$X$20 -> 0 | K98: ='2027 Summer Hosta - V1'!$X$20 -> 0 | L98: ='2027 Summer Hosta - V1'!$X$121 -> 0
B99: ='2027 Summer Hosta - V1'!$F$18 -> 0 | C99: Moonstruck | D99: 7536557 | E99: 26479 | F99: ='2027 Summer Hosta - V1'!$U$20 -> 0 | G99: ='2027 Summer Hosta - V1'!$U$20 -> 0 | H99: ='2027 Summer Hosta - V1'!$U$122 -> 0 | J99: ='2027 Summer Hosta - V1'!$X$20 -> 0 | K99: ='2027 Summer Hosta - V1'!$X$20 -> 0 | L99: ='2027 Summer Hosta - V1'!$X$122 -> 0
B100: ='2027 Summer Hosta - V1'!$F$18 -> 0 | C100: Orion's Belt - NEW | D100: 7536861 | E100: 29417 | F100: ='2027 Summer Hosta - V1'!$U$20 -> 0 | G100: ='2027 Summer Hosta - V1'!$U$20 -> 0 | H100: ='2027 Summer Hosta - V1'!$U$123 -> 0 | J100: ='2027 Summer Hosta - V1'!$X$20 -> 0 | K100: ='2027 Summer Hosta - V1'!$X$20 -> 0 | L100: ='2027 Summer Hosta - V1'!$X$123 -> 0
...
